Workbook
Name Data_eBldr_OpenPO: 'e.Builder Open PO Amts 08.28'!$H$6:$O$291
Name Data_PO_List: 'PurchaseOrders.List-OCT'!$A$8:$E$260

Sheet Summary
B3: Balance
A4: FY25 New Construction Commitments - FYTD | B4: ='PO New and CO Review'!Q3 -> 966109.88 | C4: PO New and CO Review'!A1
A6: Timing:
A7: Reviewed 07/01/25 - 10/17/2025 BVSD Board meetings for outstanding items approved but not reflected in the system, none identified
A9: Adjusted FY25 New Construction Commitments FYTD | B9: =SUM(B4:B8) -> 966109.88

Sheet PO New and CO Review
L1: take out retention
B2: Copy and paste from Pivot Table - Vlookup for PO Date - Sort PO Date Newest - Oldest | H2: =H3='PurchaseOrders.List-JUL'!E6 -> TRUE | L2: =L3='PO TOTALS'!H3 -> TRUE | Q2: New FY 26 YTD construction commitments | T2: Filter Out: "Addtnl Line / CO"
H3: =SUBTOTAL(9,H8:H252) -> 1.8458423e+08 | I3: =SUBTOTAL(9,I8:I213) -> 0 | J3: =SUBTOTAL(9,J8:J252) -> 1.8458423e+08 | L3: =SUBTOTAL(9,L8:L252) -> 1.8555034e+08 | M3: =SUBTOTAL(9,M8:M252) -> 966109.88 | O3: =SUBTOTAL(9,O8:O252) -> 0 | P3: =SUBTOTAL(9,P8:P252) -> 966109.88 | Q3: =SUM(O3:P3) -> 966109.88 | T3: Pivot Table for as of 08/28 Data
M5: Evaluated changes from Pos dated before 07/01 over $5k
B7: Purchase Order | C7: DistributionAccount. FinanceDimension1 | D7: DistributionAccount. Project | E7: Vendor | F7: (Vendor.VendorName translation) | G7: Purchase Order Date | H7: PO Total 07/01/25 | I7: Timing Adj to 6/30/25 | J7: Adjusted PO Total | K7: PO Date Match? | L7: PO Total 10/17/2025 | M7: Diff | N7: Notes | O7: Confirmed as Change Order | P7: New PO - Dt >= 07/01
B8: 465170 | C8: 41 | D8: 505-2201 | E8: 10320 | F8: GROUND Engineering Consultants, Inc. | G8: 45947 | H8: N/A | J8: =SUM(H8:I8) -> 0 | K8: =G8=VLOOKUP(B8,'PO TOTALS'!$B$5:$I$257,4,FALSE) -> TRUE | L8: 0 | M8: =L8-J8 -> 0 | P8: =IF(G8>=DATE(2025,7,1),L8,"PO Date < 07/01") -> 0 | U8: Row Labels | V8: DistributionAccount.X | W8: DistributionAccount. | X8: Vendor | Y8: (Vendor.VendorName translation) | Z8: Sum of PO Total 07.01.25 | AA8: Sum of PO Total at 10.17.25
B9: 465141 | C9: 41 | D9: 360-2201 | E9: 24829 | F9: Career And Technical Training, LLC | G9: 45938 | H9: N/A | J9: =SUM(H9:I9) -> 0 | K9: =G9=VLOOKUP(B9,'PO TOTALS'!$B$5:$I$257,4,FALSE) -> TRUE | L9: 4350 | M9: =L9-J9 -> 4350 | P9: =IF(G9>=DATE(2025,7,1),L9,"PO Date < 07/01") -> 4350 | U9: 460529 | V9: 41 | W9: 3.1412.153 | X9: 10309 | Y9: FCI Constructors, Inc. | Z9: 249513.25 | AA9: 249513.25
B10: 465134 | C10: 41 | D10: 340-2201 | E10: 24761 | F10: SynDaver EDU Inc. | G10: 45937 | H10: N/A | J10: =SUM(H10:I10) -> 0 | K10: =G10=VLOOKUP(B10,'PO TOTALS'!$B$5:$I$257,4,FALSE) -> TRUE | L10: 9955.85 | M10: =L10-J10 -> 9955.85 | P10: =IF(G10>=DATE(2025,7,1),L10,"PO Date < 07/01") -> 9955.85 | U10: 461650 | V10: 41 | W10: 196-2201 | X10: 16779 | Y10: Albireo Energy | Z10: 29617 | AA10: 29617
B11: 465108 | C11: 41 | D11: 270-2201 | E11: 22952 | F11: Ninyo & Moore Geotechnical & Environmental Sciences Consultants | G11: 45929 | H11: N/A | J11: =SUM(H11:I11) -> 0 | K11: =G11=VLOOKUP(B11,'PO TOTALS'!$B$5:$I$257,4,FALSE) -> TRUE | L11: 10205 | M11: =L11-J11 -> 10205 | P11: =IF(G11>=DATE(2025,7,1),L11,"PO Date < 07/01") -> 10205 | U11: 461652 | V11: 41 | W11: 925-2201 | X11: 16779 | Y11: Albireo Energy | Z11: 30060 | AA11: 30060
B12: 465091 | C12: 41 | D12: 506-2201 | E12: 29264 | F12: AJI Fence Ltd. | G12: 45926 | H12: N/A | J12: =SUM(H12:I12) -> 0 | K12: =G12=VLOOKUP(B12,'PO TOTALS'!$B$5:$I$257,4,FALSE) -> TRUE | L12: 1435 | M12: =L12-J12 -> 1435 | P12: =IF(G12>=DATE(2025,7,1),L12,"PO Date < 07/01") -> 1435 | U12: 461653 | V12: 41 | W12: 185-2201 | X12: 16779 | Y12: Albireo Energy | Z12: 24901 | AA12: 24901
B13: 465041 | C13: 41 | D13: 230-2201 | E13: 10419 | F13: GEORGE T SANDERS COMPANY | G13: 45917 | H13: N/A | J13: =SUM(H13:I13) -> 0 | K13: =G13=VLOOKUP(B13,'PO TOTALS'!$B$5:$I$257,4,FALSE) -> TRUE | L13: 18889.88 | M13: =L13-J13 -> 18889.88 | P13: =IF(G13>=DATE(2025,7,1),L13,"PO Date < 07/01") -> 18889.88 | U13: 461654 | V13: 41 | W13: 270-2201 | X13: 16779 | Y13: Albireo Energy | Z13: 37447 | AA13: 37447
B14: 465048 | C14: 41 | D14: 315-2201 | E14: 29215 | F14: Encore Electric, Inc. | G14: 45917 | H14: N/A | J14: =SUM(H14:I14) -> 0 | K14: =G14=VLOOKUP(B14,'PO TOTALS'!$B$5:$I$257,4,FALSE) -> TRUE | L14: 3604.96 | M14: =L14-J14 -> 3604.96 | P14: =IF(G14>=DATE(2025,7,1),L14,"PO Date < 07/01") -> 3604.96 | U14: 461655 | V14: 41 | W14: 131-2201 | X14: 16779 | Y14: Albireo Energy | Z14: 33595 | AA14: 33595
B15: 465049 | C15: 41 | D15: 502-2201 | E15: 29215 | F15: Encore Electric, Inc. | G15: 45917 | H15: N/A | J15: =SUM(H15:I15) -> 0 | K15: =G15=VLOOKUP(B15,'PO TOTALS'!$B$5:$I$257,4,FALSE) -> TRUE | L15: 6304.96 | M15: =L15-J15 -> 6304.96 | P15: =IF(G15>=DATE(2025,7,1),L15,"PO Date < 07/01") -> 6304.96 | U15: 461656 | V15: 41 | W15: 180-2201 | X15: 16779 | Y15: Albireo Energy | Z15: 37465 | AA15: 37465
B16: 465050 | C16: 41 | D16: 360-2201 | E16: 29215 | F16: Encore Electric, Inc. | G16: 45917 | H16: N/A | J16: =SUM(H16:I16) -> 0 | K16: =G16=VLOOKUP(B16,'PO TOTALS'!$B$5:$I$257,4,FALSE) -> TRUE | L16: 6304.96 | M16: =L16-J16 -> 6304.96 | P16: =IF(G16>=DATE(2025,7,1),L16,"PO Date < 07/01") -> 6304.96 | U16: 461657 | V16: 41 | W16: 252-2201 | X16: 16779 | Y16: Albireo Energy | Z16: 6546 | AA16: 6546
B17: 465033 | C17: 41 | D17: 971-2201 | E17: 29207 | F17: Equalized Productions LLC | G17: 45912 | H17: N/A | J17: =SUM(H17:I17) -> 0 | K17: =G17=VLOOKUP(B17,'PO TOTALS'!$B$5:$I$257,4,FALSE) -> TRUE | L17: 159256 | M17: =L17-J17 -> 159256 | P17: =IF(G17>=DATE(2025,7,1),L17,"PO Date < 07/01") -> 159256 | U17: 461658 | V17: 41 | W17: 340-2201 | X17: 16779 | Y17: Albireo Energy | Z17: 6572 | AA17: 6572
B18: 464985 | C18: 41 | D18: 310-2201 | E18: 28269 | F18: Pavion Corp. | G18: 45904 | H18: N/A | J18: =SUM(H18:I18) -> 0 | K18: =G18=VLOOKUP(B18,'PO TOTALS'!$B$5:$I$257,4,FALSE) -> TRUE | L18: 498.2 | M18: =L18-J18 -> 498.2 | P18: =IF(G18>=DATE(2025,7,1),L18,"PO Date < 07/01") -> 498.2 | U18: 461659 | V18: 41 | W18: 505-2201 | X18: 16779 | Y18: Albireo Energy | Z18: 47144 | AA18: 47144
B19: 464974 | C19: 41 | D19: 350-2201 | E19: 10243 | F19: McKinstry Essention, LLC | G19: 45898 | H19: N/A | J19: =SUM(H19:I19) -> 0 | K19: =G19=VLOOKUP(B19,'PO TOTALS'!$B$5:$I$257,4,FALSE) -> TRUE | L19: 225090 | M19: =L19-J19 -> 225090 | P19: =IF(G19>=DATE(2025,7,1),L19,"PO Date < 07/01") -> 225090 | U19: 461660 | V19: 41 | W19: 120-2201 | X19: 16779 | Y19: Albireo Energy | Z19: 32623 | AA19: 32623
B20: 464969 | C20: 41 | D20: 360-2201 | E20: 10244 | F20: Sport Tech Flooring LLC | G20: 45897 | H20: N/A | J20: =SUM(H20:I20) -> 0 | K20: =G20=VLOOKUP(B20,'PO TOTALS'!$B$5:$I$257,4,FALSE) -> TRUE | L20: 4200 | M20: =L20-J20 -> 4200 | P20: =IF(G20>=DATE(2025,7,1),L20,"PO Date < 07/01") -> 4200 | U20: 461661 | V20: 41 | W20: 979-2201 | X20: 16779 | Y20: Albireo Energy | Z20: 54801 | AA20: 54801
... B29: 464721 | C29: 41 | D29: 503-2201 | E29: 10300 | F29: Pioneer Athletics | G29: 45848 | H29: N/A | J29: =SUM(H29:I29) -> 0 | K29: =G29=VLOOKUP(B29,'PO TOTALS'!$B$5:$I$257,4,FALSE) -> TRUE | L29: 2193.24 | M29: =L29-J29 -> 2193.24 | P29: =IF(G29>=DATE(2025,7,1),L29,"PO Date < 07/01") -> 2193.24 | U29: 461670 | V29: 41 | W29: 164-2201 | X29: 16779 | Y29: Albireo Energy | Z29: 36010 | AA29: 36010
B30: 464672 | C30: 41 | D30: 741-2201 | E30: 10438 | F30: BC Interiors, Inc | G30: 45838 | H30: 12206.44 | J30: =SUM(H30:I30) -> 12206.44 | K30: =G30=VLOOKUP(B30,'PO TOTALS'!$B$5:$I$257,4,FALSE) -> TRUE | L30: 12206.44 | M30: =L30-J30 -> 0 | P30: =IF(G30>=DATE(2025,7,1),L30,"PO Date < 07/01") -> PO Date < 07/01 | U30: 461671 | V30: 41 | W30: 330-2201 | X30: 16779 | Y30: Albireo Energy | Z30: 101790 | AA30: 101790
B31: 464673 | C31: 41 | D31: 360-2201 | E31: 10247 | F31: CDW Government LLC | G31: 45838 | H31: 18565 | J31: =SUM(H31:I31) -> 18565 | K31: =G31=VLOOKUP(B31,'PO TOTALS'!$B$5:$I$257,4,FALSE) -> TRUE | L31: 18565 | M31: =L31-J31 -> 0 | P31: =IF(G31>=DATE(2025,7,1),L31,"PO Date < 07/01") -> PO Date < 07/01 | U31: 461672 | V31: 41 | W31: 130-2201 | X31: 16779 | Y31: Albireo Energy | Z31: 23367 | AA31: 23367
B32: 464643 | C32: 41 | D32: 270-2201 | E32: 27018 | F32: Jensen Hughes, Inc. | G32: 45824 | H32: 10300 | J32: =SUM(H32:I32) -> 10300 | K32: =G32=VLOOKUP(B32,'PO TOTALS'!$B$5:$I$257,4,FALSE) -> TRUE | L32: 10300 | M32: =L32-J32 -> 0 | P32: =IF(G32>=DATE(2025,7,1),L32,"PO Date < 07/01") -> PO Date < 07/01 | U32: 461673 | V32: 41 | W32: 132-2201 | X32: 16779 | Y32: Albireo Energy | Z32: 20830 | AA32: 20830
B33: 464576 | C33: 41 | D33: 360-2201 | E33: 10448 | F33: HSS Inc | G33: 45810 | H33: 36547 | J33: =SUM(H33:I33) -> 36547 | K33: =G33=VLOOKUP(B33,'PO TOTALS'!$B$5:$I$257,4,FALSE) -> TRUE | L33: 36547 | M33: =L33-J33 -> 0 | P33: =IF(G33>=DATE(2025,7,1),L33,"PO Date < 07/01") -> PO Date < 07/01 | U33: 461674 | V33: 41 | W33: 134-2201 | X33: 16779 | Y33: Albireo Energy | Z33: 21931 | AA33: 21931
B34: 464542 | C34: 41 | D34: 360-2201 | E34: 23665 | F34: OS Schools | G34: 45799 | H34: 204938.16 | J34: =SUM(H34:I34) -> 204938.16 | K34: =G34=VLOOKUP(B34,'PO TOTALS'!$B$5:$I$257,4,FALSE) -> TRUE | L34: 204938.16 | M34: =L34-J34 -> 0 | P34: =IF(G34>=DATE(2025,7,1),L34,"PO Date < 07/01") -> PO Date < 07/01 | U34: 461675 | V34: 41 | W34: 141-2201 | X34: 16779 | Y34: Albireo Energy | Z34: 13882 | AA34: 13882
B35: 464523 | C35: 41 | D35: 180-2201 | E35: 10280 | F35: Buehler Companies | G35: 45798 | H35: 12350 | J35: =SUM(H35:I35) -> 12350 | K35: =G35=VLOOKUP(B35,'PO TOTALS'!$B$5:$I$257,4,FALSE) -> TRUE | L35: 12350 | M35: =L35-J35 -> 0 | P35: =IF(G35>=DATE(2025,7,1),L35,"PO Date < 07/01") -> PO Date < 07/01 | U35: 461676 | V35: 41 | W35: 147-2201 | X35: 16779 | Y35: Albireo Energy | Z35: 13882 | AA35: 13882
B36: 464524 | C36: 41 | D36: 340-2201 | E36: 10438 | F36: BC Interiors, Inc | G36: 45798 | H36: 439724.38 | J36: =SUM(H36:I36) -> 439724.38 | K36: =G36=VLOOKUP(B36,'PO TOTALS'!$B$5:$I$257,4,FALSE) -> TRUE | L36: 439724.38 | M36: =L36-J36 -> 0 | P36: =IF(G36>=DATE(2025,7,1),L36,"PO Date < 07/01") -> PO Date < 07/01 | U36: 461677 | V36: 41 | W36: 150-2201 | X36: 16779 | Y36: Albireo Energy | Z36: 22985 | AA36: 22985
B37: 464529 | C37: 41 | D37: 315-2201 | E37: 10247 | F37: CDW Government LLC | G37: 45798 | H37: 17970.25 | J37: =SUM(H37:I37) -> 17970.25 | K37: =G37=VLOOKUP(B37,'PO TOTALS'!$B$5:$I$257,4,FALSE) -> TRUE | L37: 17970.25 | M37: =L37-J37 -> 0 | P37: =IF(G37>=DATE(2025,7,1),L37,"PO Date < 07/01") -> PO Date < 07/01 | U37: 461678 | V37: 41 | W37: 153-2201 | X37: 16779 | Y37: Albireo Energy | Z37: 5198 | AA37: 5198
B38: 464536 | C38: 41 | D38: 230-2201 | E38: 24769 | F38: Accenture Infrastructure and Capital Projects LLC | G38: 45798 | H38: 20691 | J38: =SUM(H38:I38) -> 20691 | K38: =G38=VLOOKUP(B38,'PO TOTALS'!$B$5:$I$257,4,FALSE) -> TRUE | L38: 20691 | M38: =L38-J38 -> 0 | P38: =IF(G38>=DATE(2025,7,1),L38,"PO Date < 07/01") -> PO Date < 07/01 | U38: 461679 | V38: 41 | W38: 502-2201 | X38: 16779 | Y38: Albireo Energy | Z38: 48698 | AA38: 48698
B39: 464537 | C39: 41 | D39: 120-2201 | E39: 24769 | F39: Accenture Infrastructure and Capital Projects LLC | G39: 45798 | H39: 12463 | J39: =SUM(H39:I39) -> 12463 | K39: =G39=VLOOKUP(B39,'PO TOTALS'!$B$5:$I$257,4,FALSE) -> TRUE | L39: 12463 | M39: =L39-J39 -> 0 | P39: =IF(G39>=DATE(2025,7,1),L39,"PO Date < 07/01") -> PO Date < 07/01 | U39: 461680 | V39: 41 | W39: 360-2201 | X39: 16779 | Y39: Albireo Energy | Z39: 82309 | AA39: 82309
B40: 464538 | C40: 41 | D40: 154-2201 | E40: 10274 | F40: United Restaurant Supply, LLC. | G40: 45798 | H40: 24657 | J40: =SUM(H40:I40) -> 24657 | K40: =G40=VLOOKUP(B40,'PO TOTALS'!$B$5:$I$257,4,FALSE) -> TRUE | L40: 24657 | M40: =L40-J40 -> 0 | P40: =IF(G40>=DATE(2025,7,1),L40,"PO Date < 07/01") -> PO Date < 07/01 | U40: 461681 | V40: 41 | W40: 166-2201 | X40: 16779 | Y40: Albireo Energy | Z40: 29180 | AA40: 29180
B41: 464503 | C41: 41 | D41: 147-2201 | E41: 10320 | F41: GROUND Engineering Consultants, Inc. | G41: 45790 | H41: 2295 | J41: =SUM(H41:I41) -> 2295 | K41: =G41=VLOOKUP(B41,'PO TOTALS'!$B$5:$I$257,4,FALSE) -> TRUE | L41: 2295 | M41: =L41-J41 -> 0 | P41: =IF(G41>=DATE(2025,7,1),L41,"PO Date < 07/01") -> PO Date < 07/01 | U41: 461682 | V41: 41 | W41: 509-2201 | X41: 16779 | Y41: Albireo Energy | Z41: 51255 | AA41: 51255
... B88: 464054 | C88: 41 | D88: 330-2201 | E88: 24769 | F88: Accenture Infrastructure and Capital Projects LLC | G88: 45644 | H88: 27838 | J88: =SUM(H88:I88) -> 27838 | K88: =G88=VLOOKUP(B88,'PO TOTALS'!$B$5:$I$257,4,FALSE) -> TRUE | L88: 27838 | M88: =L88-J88 -> 0 | P88: =IF(G88>=DATE(2025,7,1),L88,"PO Date < 07/01") -> PO Date < 07/01 | U88: 462626 | V88: 41 | W88: 506-2201 | X88: 24907 | Y88: Iconergy | Z88: 6850 | AA88: 6850
B89: 464063 | C89: 41 | D89: 979-2201 | E89: 25614 | F89: Eidos Architects PC | G89: 45644 | H89: 94626 | J89: =SUM(H89:I89) -> 94626 | K89: =G89=VLOOKUP(B89,'PO TOTALS'!$B$5:$I$257,4,FALSE) -> TRUE | L89: =189252-94626 -> 94626 | M89: =L89-J89 -> 0 | P89: =IF(G89>=DATE(2025,7,1),L89,"PO Date < 07/01") -> PO Date < 07/01 | U89: 462627 | V89: 41 | W89: 141-2201 | X89: 24907 | Y89: Iconergy | Z89: 2551 | AA89: 2551
B90: 464043 | C90: 41 | D90: 330-2201 | E90: 10320 | F90: GROUND Engineering Consultants, Inc. | G90: 45639 | H90: 25395 | J90: =SUM(H90:I90) -> 25395 | K90: =G90=VLOOKUP(B90,'PO TOTALS'!$B$5:$I$257,4,FALSE) -> TRUE | L90: 25395 | M90: =L90-J90 -> 0 | P90: =IF(G90>=DATE(2025,7,1),L90,"PO Date < 07/01") -> PO Date < 07/01 | U90: 462628 | V90: 41 | W90: 147-2201 | X90: 24907 | Y90: Iconergy | Z90: 2551 | AA90: 2551
B91: 464046 | C91: 41 | D91: 260-2201 | E91: 25614 | F91: Eidos Architects PC | G91: 45639 | H91: 270295 | J91: =SUM(H91:I91) -> 270295 | K91: =G91=VLOOKUP(B91,'PO TOTALS'!$B$5:$I$257,4,FALSE) -> TRUE | L91: 270295 | M91: =L91-J91 -> 0 | P91: =IF(G91>=DATE(2025,7,1),L91,"PO Date < 07/01") -> PO Date < 07/01 | U91: 462631 | V91: 41 | W91: 505-2201 | X91: 24907 | Y91: Iconergy | Z91: 12450 | AA91: 12450
B92: 464047 | C92: 41 | D92: 230-2201 | E92: 25614 | F92: Eidos Architects PC | G92: 45639 | H92: 210209 | J92: =SUM(H92:I92) -> 210209 | K92: =G92=VLOOKUP(B92,'PO TOTALS'!$B$5:$I$257,4,FALSE) -> TRUE | L92: 210209 | M92: =L92-J92 -> 0 | P92: =IF(G92>=DATE(2025,7,1),L92,"PO Date < 07/01") -> PO Date < 07/01 | U92: 462632 | V92: 41 | W92: 315-2201 | X92: 24907 | Y92: Iconergy | Z92: 17920 | AA92: 17920
B93: 464038 | C93: 41 | D93: 330-2201 | E93: 10260 | F93: Flatirons Inc. | G93: 45638 | H93: 14900 | J93: =SUM(H93:I93) -> 14900 | K93: =G93=VLOOKUP(B93,'PO TOTALS'!$B$5:$I$257,4,FALSE) -> TRUE | L93: 14900 | M93: =L93-J93 -> 0 | P93: =IF(G93>=DATE(2025,7,1),L93,"PO Date < 07/01") -> PO Date < 07/01 | U93: 462635 | V93: 41 | W93: 360-2201 | X93: 24907 | Y93: Iconergy | Z93: 33239.57 | AA93: 33239.57
B94: 464028 | C94: 41 | D94: 230-2201 | E94: 27992 | F94: Swinerton Builders | G94: 45637 | H94: 164505 | J94: =SUM(H94:I94) -> 164505 | K94: =G94=VLOOKUP(B94,'PO TOTALS'!$B$5:$I$257,4,FALSE) -> TRUE | L94: 164505 | M94: =L94-J94 -> 0 | P94: =IF(G94>=DATE(2025,7,1),L94,"PO Date < 07/01") -> PO Date < 07/01 | U94: 462636 | V94: 41 | W94: 502-2201 | X94: 24907 | Y94: Iconergy | Z94: 11487 | AA94: 11487
B95: 464029 | C95: 41 | D95: 120-2201 | E95: 25657 | F95: Alliance Construction Solutions, LLC | G95: 45637 | H95: 3000 | J95: =SUM(H95:I95) -> 3000 | K95: =G95=VLOOKUP(B95,'PO TOTALS'!$B$5:$I$257,4,FALSE) -> TRUE | L95: 3000 | M95: =L95-J95 -> 0 | P95: =IF(G95>=DATE(2025,7,1),L95,"PO Date < 07/01") -> PO Date < 07/01 | U95: 462637 | V95: 41 | W95: 120-2201 | X95: 24907 | Y95: Iconergy | Z95: 5994 | AA95: 5994
B96: 464007 | C96: 41 | D96: 154-2201 | E96: 10320 | F96: GROUND Engineering Consultants, Inc. | G96: 45628 | H96: 5390 | J96: =SUM(H96:I96) -> 5390 | K96: =G96=VLOOKUP(B96,'PO TOTALS'!$B$5:$I$257,4,FALSE) -> TRUE | L96: 5390 | M96: =L96-J96 -> 0 | P96: =IF(G96>=DATE(2025,7,1),L96,"PO Date < 07/01") -> PO Date < 07/01 | U96: 462679 | V96: 41 | W96: 315-2201 | X96: 10448 | Y96: HSS Inc | Z96: 9245 | AA96: 9245
...

Sheet PO TOTALS
B1: Copy / Paste both PurchaseOrders.List together - Use 10.17.25 | I1: =I3-'PurchaseOrders.List-JUL'!E6 -> 0
H2: =H3='PurchaseOrders.List-OCT'!E6 -> TRUE | I2: =I3='PurchaseOrders.List-JUL'!E6 -> TRUE
H3: =SUBTOTAL(9,H5:H257) -> 1.8555034e+08 | I3: =SUBTOTAL(9,I5:I257) -> 1.8458423e+08
B4: PurchaseOrder | C4: DistributionAccount. FinanceDimension1 | D4: DistributionAccount. Project | E4: Purchase Order Date | F4: Vendor | G4: (Vendor.VendorName translation) | H4: PO Total at 10.17.25 | I4: PO Total 07.01.25
B5: 465170 | C5: 41 | D5: 505-2201 | E5: 45947 | F5: 10320 | G5: GROUND Engineering Consultants, Inc. | H5: 0 | I5: NA
B6: 465141 | C6: 41 | D6: =VLOOKUP(B6,'SUMMARY 08.28'!$A$7:$E$258,5,0) -> 360-2201 | E6: 45938 | F6: 24829 | G6: Career And Technical Training, LLC | H6: 4350 | I6: NA
B7: 465134 | C7: 41 | D7: =VLOOKUP(B7,'SUMMARY 08.28'!$A$7:$E$258,5,0) -> 340-2201 | E7: 45937 | F7: 24761 | G7: SynDaver EDU Inc. | H7: 9955.85 | I7: NA
B8: 465108 | C8: 41 | D8: =VLOOKUP(B8,'SUMMARY 08.28'!$A$7:$E$258,5,0) -> 270-2201 | E8: 45929 | F8: 22952 | G8: Ninyo & Moore Geotechnical & Environmental Sciences Consultants | H8: 10205 | I8: NA
B9: 465091 | C9: 41 | D9: =VLOOKUP(B9,'SUMMARY 08.28'!$A$7:$E$258,5,0) -> 506-2201 | E9: 45926 | F9: 29264 | G9: AJI Fence Ltd. | H9: 1435 | I9: NA
B10: 465050 | C10: 41 | D10: =VLOOKUP(B10,'SUMMARY 08.28'!$A$7:$E$258,5,0) -> 360-2201 | E10: 45917 | F10: 29215 | G10: Encore Electric, Inc. | H10: 6304.96 | I10: NA
B11: 465049 | C11: 41 | D11: =VLOOKUP(B11,'SUMMARY 08.28'!$A$7:$E$258,5,0) -> 502-2201 | E11: 45917 | F11: 29215 | G11: Encore Electric, Inc. | H11: 6304.96 | I11: NA
B12: 465048 | C12: 41 | D12: =VLOOKUP(B12,'SUMMARY 08.28'!$A$7:$E$258,5,0) -> 315-2201 | E12: 45917 | F12: 29215 | G12: Encore Electric, Inc. | H12: 3604.96 | I12: NA
B13: 465041 | C13: 41 | D13: =VLOOKUP(B13,'SUMMARY 08.28'!$A$7:$E$258,5,0) -> 230-2201 | E13: 45917 | F13: 10419 | G13: GEORGE T SANDERS COMPANY | H13: 18889.88 | I13: NA
B14: 465033 | C14: 41 | D14: =VLOOKUP(B14,'SUMMARY 08.28'!$A$7:$E$258,5,0) -> 971-2201 | E14: 45912 | F14: 29207 | G14: Equalized Productions LLC | H14: 159256 | I14: NA
B15: 464985 | C15: 41 | D15: =VLOOKUP(B15,'SUMMARY 08.28'!$A$7:$E$258,5,0) -> 310-2201 | E15: 45904 | F15: 28269 | G15: Pavion Corp. | H15: 498.2 | I15: NA
B16: 464974 | C16: 41 | D16: =VLOOKUP(B16,'SUMMARY 08.28'!$A$7:$E$258,5,0) -> 350-2201 | E16: 45898 | F16: 10243 | G16: McKinstry Essention, LLC | H16: 225090 | I16: NA
B17: 464974 | C17: 41 | D17: =VLOOKUP(B17,'SUMMARY 08.28'!$A$7:$E$258,5,0) -> 350-2201 | E17: 45898 | F17: 10243 | G17: McKinstry Essention, LLC | H17: 0 | I17: NA
... B28: 464721 | C28: 41 | D28: =VLOOKUP(B28,'SUMMARY 08.28'!$A$7:$E$258,5,0) -> 503-2201 | E28: 45848 | F28: 10300 | G28: Pioneer Athletics | H28: 2193.24 | I28: NA
B29: 464673 | C29: 41 | D29: =VLOOKUP(B29,'SUMMARY 08.28'!$A$7:$E$258,5,0) -> 360-2201 | E29: 45838 | F29: 10247 | G29: CDW Government LLC | H29: 18565 | I29: =VLOOKUP(B29,'PurchaseOrders.List-JUL'!$A$8:$E$238,5,0) -> 18565
B30: 464672 | C30: 41 | D30: =VLOOKUP(B30,'SUMMARY 08.28'!$A$7:$E$258,5,0) -> 741-2201 | E30: 45838 | F30: 10438 | G30: BC Interiors, Inc | H30: 12206.44 | I30: =VLOOKUP(B30,'PurchaseOrders.List-JUL'!$A$8:$E$238,5,0) -> 12206.44
B31: 464643 | C31: 41 | D31: =VLOOKUP(B31,'SUMMARY 08.28'!$A$7:$E$258,5,0) -> 270-2201 | E31: 45824 | F31: 27018 | G31: Jensen Hughes, Inc. | H31: 10300 | I31: =VLOOKUP(B31,'PurchaseOrders.List-JUL'!$A$8:$E$238,5,0) -> 10300
B32: 464576 | C32: 41 | D32: =VLOOKUP(B32,'SUMMARY 08.28'!$A$7:$E$258,5,0) -> 360-2201 | E32: 45810 | F32: 10448 | G32: HSS Inc | H32: 36547 | I32: =VLOOKUP(B32,'PurchaseOrders.List-JUL'!$A$8:$E$238,5,0) -> 36547
B33: 464542 | C33: 41 | D33: =VLOOKUP(B33,'SUMMARY 08.28'!$A$7:$E$258,5,0) -> 360-2201 | E33: 45799 | F33: 23665 | G33: OS Schools | H33: 204938.16 | I33: =VLOOKUP(B33,'PurchaseOrders.List-JUL'!$A$8:$E$238,5,0) -> 204938.16
B34: 464538 | C34: 41 | D34: =VLOOKUP(B34,'SUMMARY 08.28'!$A$7:$E$258,5,0) -> 154-2201 | E34: 45798 | F34: 10274 | G34: United Restaurant Supply, LLC. | H34: 24657 | I34: =VLOOKUP(B34,'PurchaseOrders.List-JUL'!$A$8:$E$238,5,0) -> 24657
B35: 464537 | C35: 41 | D35: =VLOOKUP(B35,'SUMMARY 08.28'!$A$7:$E$258,5,0) -> 120-2201 | E35: 45798 | F35: 24769 | G35: Accenture Infrastructure and Capital Projects LLC | H35: 12463 | I35: =VLOOKUP(B35,'PurchaseOrders.List-JUL'!$A$8:$E$238,5,0) -> 12463
B36: 464536 | C36: 41 | D36: =VLOOKUP(B36,'SUMMARY 08.28'!$A$7:$E$258,5,0) -> 230-2201 | E36: 45798 | F36: 24769 | G36: Accenture Infrastructure and Capital Projects LLC | H36: 20691 | I36: =VLOOKUP(B36,'PurchaseOrders.List-JUL'!$A$8:$E$238,5,0) -> 20691
B37: 464529 | C37: 41 | D37: =VLOOKUP(B37,'SUMMARY 08.28'!$A$7:$E$258,5,0) -> 315-2201 | E37: 45798 | F37: 10247 | G37: CDW Government LLC | H37: 17970.25 | I37: =VLOOKUP(B37,'PurchaseOrders.List-JUL'!$A$8:$E$238,5,0) -> 17970.25
B38: 464524 | C38: 41 | D38: =VLOOKUP(B38,'SUMMARY 08.28'!$A$7:$E$258,5,0) -> 340-2201 | E38: 45798 | F38: 10438 | G38: BC Interiors, Inc | H38: 439724.38 | I38: =VLOOKUP(B38,'PurchaseOrders.List-JUL'!$A$8:$E$238,5,0) -> 439724.38
B39: 464523 | C39: 41 | D39: =VLOOKUP(B39,'SUMMARY 08.28'!$A$7:$E$258,5,0) -> 180-2201 | E39: 45798 | F39: 10280 | G39: Buehler Companies | H39: 12350 | I39: =VLOOKUP(B39,'PurchaseOrders.List-JUL'!$A$8:$E$238,5,0) -> 12350
B40: 464503 | C40: 41 | D40: =VLOOKUP(B40,'SUMMARY 08.28'!$A$7:$E$258,5,0) -> 147-2201 | E40: 45790 | F40: 10320 | G40: GROUND Engineering Consultants, Inc. | H40: 2295 | I40: =VLOOKUP(B40,'PurchaseOrders.List-JUL'!$A$8:$E$238,5,0) -> 2295
... B49: 464423 | C49: 41 | D49: =VLOOKUP(B49,'SUMMARY 08.28'!$A$7:$E$258,5,0) -> 798-2201 | E49: 45775 | F49: 25243 | G49: BVH Architecture | H49: 88800 | I49: =VLOOKUP(B49,'PurchaseOrders.List-JUL'!$A$8:$E$238,5,0) -> 88800
B50: 464423 | C50: 41 | D50: =VLOOKUP(B50,'SUMMARY 08.28'!$A$7:$E$258,5,0) -> 798-2201 | E50: 45775 | F50: 25243 | G50: BVH Architecture | H50: 0 | I50: 0
B51: 464347 | C51: 41 | D51: =VLOOKUP(B51,'SUMMARY 08.28'!$A$7:$E$258,5,0) -> 120-2201 | E51: 45747 | F51: 25243 | G51: BVH Architecture | H51: 114471 | I51: =VLOOKUP(B51,'PurchaseOrders.List-JUL'!$A$8:$E$238,5,0) -> 114471
B52: 464347 | C52: 41 | D52: =VLOOKUP(B52,'SUMMARY 08.28'!$A$7:$E$258,5,0) -> 120-2201 | E52: 45747 | F52: 25243 | G52: BVH Architecture | H52: 0 | I52: 0
B53: 464347 | C53: 41 | D53: =VLOOKUP(B53,'SUMMARY 08.28'!$A$7:$E$258,5,0) -> 120-2201 | E53: 45747 | F53: 25243 | G53: BVH Architecture | H53: 0 | I53: 0
B54: 464347 | C54: 41 | D54: =VLOOKUP(B54,'SUMMARY 08.28'!$A$7:$E$258,5,0) -> 120-2201 | E54: 45747 | F54: 25243 | G54: BVH Architecture | H54: 0 | I54: 0
B55: 464347 | C55: 41 | D55: =VLOOKUP(B55,'SUMMARY 08.28'!$A$7:$E$258,5,0) -> 120-2201 | E55: 45747 | F55: 25243 | G55: BVH Architecture | H55: 0 | I55: 0
B56: 464346 | C56: 41 | D56: =VLOOKUP(B56,'SUMMARY 08.28'!$A$7:$E$258,5,0) -> 505-2201 | E56: 45747 | F56: 25243 | G56: BVH Architecture | H56: 245853 | I56: =VLOOKUP(B56,'PurchaseOrders.List-JUL'!$A$8:$E$238,5,0) -> 245853
B57: 464345 | C57: 41 | D57: =VLOOKUP(B57,'SUMMARY 08.28'!$A$7:$E$258,5,0) -> 505-2201 | E57: 45744 | F57: 25657 | G57: Alliance Construction Solutions, LLC | H57: 3000 | I57: =VLOOKUP(B57,'PurchaseOrders.List-JUL'!$A$8:$E$238,5,0) -> 3000
B58: 464344 | C58: 41 | D58: =VLOOKUP(B58,'SUMMARY 08.28'!$A$7:$E$258,5,0) -> PLAYGROUNDS-22 | E58: 45744 | F58: 10309 | G58: FCI Constructors, Inc. | H58: 26250 | I58: =VLOOKUP(B58,'PurchaseOrders.List-JUL'!$A$8:$E$238,5,0) -> 26250
...

Sheet SUMMARY 08.28
L1: ='PurchaseOrders.List-JUL'!E6-'SUMMARY 08.28'!L4 -> 0 | N1: =N4-'e.Builder Open PO Amts 10.21.25'!M5 -> 0
H2: =H4=PurchaseOrderLineDistribution!H6 -> TRUE | L2: =L4='PurchaseOrders.List-JUL'!E6 -> TRUE | N2: =N4='e.Builder Open PO Amts 10.21.25'!M5 -> TRUE | P2: Invoice Hold e.Builder - Needs to be entered & paid Infor
A3: PurchaseOrderLineDistribution | H3: Infor Current Total | I3: PurchaseOrders.List | L3: Infor Calculate Total Amount | N3: eBuilder 10.21.25 | P3: Unreleased Invoice Infor | Entered in e.Builder | R3: 0
H4: =SUBTOTAL(9,H7:H258) -> 40757735 | L4: =SUBTOTAL(9,L7:L277) -> 1.8458423e+08 | N4: =SUBTOTAL(9,N7:N258) -> 41238653 | O4: =SUBTOTAL(9,O7:O235) -> -477432.99 | P4: Pending CO in e.Builder | Not Approved Infor
C5: LOC | D5: OBJECT | E5: PROJECT | F5: FUND | G5: PROG | H5: PO OPEN AMT BY PO LINE ITEM | L5: TOTAL PO AMOUNT | P5: Split Funded
A6: PurchaseOrder | B6: Purchase Order Line | C6: DistributionAccount. AccountingUnit | D6: DistributionAccount. GeneralLedgerChartAccount | E6: DistributionAccount. Project | F6: DistributionAccount. FinanceDimension1 | G6: DistributionAccount. FinanceDimension4 | H6: ReportCurrencyAmount. FunctionalAmount. EnteredCurrencyAmount | I6: Purchase Order Date | J6: Vendor | K6: (Vendor.VendorName translation) | L6: Calculate Total Amount | M6: (DerivedPurchaseOrder Status translation) | N6: Vlookup e.Builder Open PO Amts | O6: Diff | P6: NOTES
A7: 465141 | B7: 1 | C7: 360 | D7: 0733 | E7: 360-2201 | F7: 41 | G7: 4000 | H7: 4350 | I7: =IF(A7=A6,"Addtnl Line / CO",VLOOKUP(A7,'PurchaseOrders.List-OCT'!$A$8:$E$259,2,0)) -> 45938 | J7: =IF(A7=A6,"Addtnl Line / CO",VLOOKUP(A7,Data_PO_List,3,0)) -> 24829 | K7: =IF(A7=A6,"Addtnl Line / CO",VLOOKUP(A7,Data_PO_List,4,0)) -> Career And Technical Training, LLC | L7: NA | M7: =IF(A7=A6,"Addtnl Line / CO",VLOOKUP(A7,'PurchaseOrders.List-OCT'!$A$7:$F$260,6,0)) -> Emailed | N7: =VLOOKUP(A7, 'e.Builder Open PO Amts 10.21.25'!$F$7:$M$263,8,FALSE) -> 4350 | O7: =H7-N7 -> 0
A8: 465134 | B8: 1 | C8: 340 | D8: 0733 | E8: 340-2201 | F8: 41 | G8: 4000 | H8: 9955.85 | I8: =IF(A8=A7,"Addtnl Line / CO",VLOOKUP(A8,'PurchaseOrders.List-OCT'!$A$8:$E$259,2,0)) -> 45937 | J8: =IF(A8=A7,"Addtnl Line / CO",VLOOKUP(A8,Data_PO_List,3,0)) -> 24761 | K8: =IF(A8=A7,"Addtnl Line / CO",VLOOKUP(A8,Data_PO_List,4,0)) -> SynDaver EDU Inc. | L8: NA | M8: =IF(A8=A7,"Addtnl Line / CO",VLOOKUP(A8,'PurchaseOrders.List-OCT'!$A$7:$F$260,6,0)) -> Emailed | N8: =VLOOKUP(A8, 'e.Builder Open PO Amts 10.21.25'!$F$7:$M$263,8,FALSE) -> 9955.85 | O8: =H8-N8 -> 0
A9: 465108 | B9: 1 | C9: 270 | D9: 0454 | E9: 270-2201 | F9: 41 | G9: 4000 | H9: 10205 | I9: =IF(A9=A8,"Addtnl Line / CO",VLOOKUP(A9,'PurchaseOrders.List-OCT'!$A$8:$E$259,2,0)) -> 45929 | J9: =IF(A9=A8,"Addtnl Line / CO",VLOOKUP(A9,Data_PO_List,3,0)) -> 22952 | K9: =IF(A9=A8,"Addtnl Line / CO",VLOOKUP(A9,Data_PO_List,4,0)) -> Ninyo & Moore Geotechnical & Environmental Sciences Consultants | L9: NA | M9: =IF(A9=A8,"Addtnl Line / CO",VLOOKUP(A9,'PurchaseOrders.List-OCT'!$A$7:$F$260,6,0)) -> Emailed | N9: =VLOOKUP(A9, 'e.Builder Open PO Amts 10.21.25'!$F$7:$M$263,8,FALSE) -> 10205 | O9: =H9-N9 -> 0
A10: 465091 | B10: 1 | C10: 506 | D10: 0714 | E10: 506-2201 | F10: 41 | G10: 4000 | H10: 1435 | I10: =IF(A10=A9,"Addtnl Line / CO",VLOOKUP(A10,'PurchaseOrders.List-OCT'!$A$8:$E$259,2,0)) -> 45926 | J10: =IF(A10=A9,"Addtnl Line / CO",VLOOKUP(A10,Data_PO_List,3,0)) -> 29264 | K10: =IF(A10=A9,"Addtnl Line / CO",VLOOKUP(A10,Data_PO_List,4,0)) -> AJI Fence Ltd. | L10: NA | M10: =IF(A10=A9,"Addtnl Line / CO",VLOOKUP(A10,'PurchaseOrders.List-OCT'!$A$7:$F$260,6,0)) -> Emailed | N10: =VLOOKUP(A10, 'e.Builder Open PO Amts 10.21.25'!$F$7:$M$263,8,FALSE) -> 1435 | O10: =H10-N10 -> 0
A11: 465050 | B11: 1 | C11: 360 | D11: 0450 | E11: 360-2201 | F11: 41 | G11: 4000 | H11: 6304.96 | I11: =IF(A11=A10,"Addtnl Line / CO",VLOOKUP(A11,'PurchaseOrders.List-OCT'!$A$8:$E$259,2,0)) -> 45917 | J11: =IF(A11=A10,"Addtnl Line / CO",VLOOKUP(A11,Data_PO_List,3,0)) -> 29215 | K11: =IF(A11=A10,"Addtnl Line / CO",VLOOKUP(A11,Data_PO_List,4,0)) -> Encore Electric, Inc. | L11: NA | M11: =IF(A11=A10,"Addtnl Line / CO",VLOOKUP(A11,'PurchaseOrders.List-OCT'!$A$7:$F$260,6,0)) -> Emailed | N11: =VLOOKUP(A11, 'e.Builder Open PO Amts 10.21.25'!$F$7:$M$263,8,FALSE) -> 6304.96 | O11: =H11-N11 -> 0
A12: 465049 | B12: 1 | C12: 502 | D12: 0450 | E12: 502-2201 | F12: 41 | G12: 4000 | H12: 6304.96 | I12: =IF(A12=A11,"Addtnl Line / CO",VLOOKUP(A12,'PurchaseOrders.List-OCT'!$A$8:$E$259,2,0)) -> 45917 | J12: =IF(A12=A11,"Addtnl Line / CO",VLOOKUP(A12,Data_PO_List,3,0)) -> 29215 | K12: =IF(A12=A11,"Addtnl Line / CO",VLOOKUP(A12,Data_PO_List,4,0)) -> Encore Electric, Inc. | L12: NA | M12: =IF(A12=A11,"Addtnl Line / CO",VLOOKUP(A12,'PurchaseOrders.List-OCT'!$A$7:$F$260,6,0)) -> Emailed | N12: =VLOOKUP(A12, 'e.Builder Open PO Amts 10.21.25'!$F$7:$M$263,8,FALSE) -> 6304.96 | O12: =H12-N12 -> 0
A13: 465048 | B13: 1 | C13: 315 | D13: 0450 | E13: 315-2201 | F13: 41 | G13: 4000 | H13: 3604.96 | I13: =IF(A13=A12,"Addtnl Line / CO",VLOOKUP(A13,'PurchaseOrders.List-OCT'!$A$8:$E$259,2,0)) -> 45917 | J13: =IF(A13=A12,"Addtnl Line / CO",VLOOKUP(A13,Data_PO_List,3,0)) -> 29215 | K13: =IF(A13=A12,"Addtnl Line / CO",VLOOKUP(A13,Data_PO_List,4,0)) -> Encore Electric, Inc. | L13: NA | M13: =IF(A13=A12,"Addtnl Line / CO",VLOOKUP(A13,'PurchaseOrders.List-OCT'!$A$7:$F$260,6,0)) -> Emailed | N13: =VLOOKUP(A13, 'e.Builder Open PO Amts 10.21.25'!$F$7:$M$263,8,FALSE) -> 3604.96 | O13: =H13-N13 -> 0
A14: 465041 | B14: 1 | C14: 230 | D14: 0735 | E14: 230-2201 | F14: 41 | G14: 4000 | H14: 18889.88 | I14: =IF(A14=A13,"Addtnl Line / CO",VLOOKUP(A14,'PurchaseOrders.List-OCT'!$A$8:$E$259,2,0)) -> 45917 | J14: =IF(A14=A13,"Addtnl Line / CO",VLOOKUP(A14,Data_PO_List,3,0)) -> 10419 | K14: =IF(A14=A13,"Addtnl Line / CO",VLOOKUP(A14,Data_PO_List,4,0)) -> GEORGE T SANDERS COMPANY | L14: NA | M14: =IF(A14=A13,"Addtnl Line / CO",VLOOKUP(A14,'PurchaseOrders.List-OCT'!$A$7:$F$260,6,0)) -> Emailed | N14: =VLOOKUP(A14, 'e.Builder Open PO Amts 10.21.25'!$F$7:$M$263,8,FALSE) -> 18889.88 | O14: =H14-N14 -> 0
A15: 465033 | B15: 1 | C15: 971 | D15: 0723 | E15: 971-2201 | F15: 41 | G15: 4000 | H15: 159256 | I15: =IF(A15=A14,"Addtnl Line / CO",VLOOKUP(A15,'PurchaseOrders.List-OCT'!$A$8:$E$259,2,0)) -> 45912 | J15: =IF(A15=A14,"Addtnl Line / CO",VLOOKUP(A15,Data_PO_List,3,0)) -> 29207 | K15: =IF(A15=A14,"Addtnl Line / CO",VLOOKUP(A15,Data_PO_List,4,0)) -> Equalized Productions LLC | L15: NA | M15: =IF(A15=A14,"Addtnl Line / CO",VLOOKUP(A15,'PurchaseOrders.List-OCT'!$A$7:$F$260,6,0)) -> Emailed | N15: =VLOOKUP(A15, 'e.Builder Open PO Amts 10.21.25'!$F$7:$M$263,8,FALSE) -> 159256 | O15: =H15-N15 -> 0
A16: 464985 | B16: 1 | C16: 310 | D16: 0610 | E16: 310-2201 | F16: 41 | G16: 4000 | H16: 498.2 | I16: =IF(A16=A15,"Addtnl Line / CO",VLOOKUP(A16,'PurchaseOrders.List-OCT'!$A$8:$E$259,2,0)) -> 45904 | J16: =IF(A16=A15,"Addtnl Line / CO",VLOOKUP(A16,Data_PO_List,3,0)) -> 28269 | K16: =IF(A16=A15,"Addtnl Line / CO",VLOOKUP(A16,Data_PO_List,4,0)) -> Pavion Corp. | L16: NA | M16: =IF(A16=A15,"Addtnl Line / CO",VLOOKUP(A16,'PurchaseOrders.List-OCT'!$A$7:$F$260,6,0)) -> Emailed | N16: =VLOOKUP(A16, 'e.Builder Open PO Amts 10.21.25'!$F$7:$M$263,8,FALSE) -> 498.2 | O16: =H16-N16 -> 0
A17: 464974 | B17: 4 | C17: 350 | D17: 0722 | E17: 350-2201 | F17: 41 | G17: 4000 | H17: 109315 | I17: =IF(A17=A16,"Addtnl Line / CO",VLOOKUP(A17,'PurchaseOrders.List-OCT'!$A$8:$E$259,2,0)) -> 45898 | J17: =IF(A17=A16,"Addtnl Line / CO",VLOOKUP(A17,Data_PO_List,3,0)) -> 10243 | K17: =IF(A17=A16,"Addtnl Line / CO",VLOOKUP(A17,Data_PO_List,4,0)) -> McKinstry Essention, LLC | L17: NA | M17: =IF(A17=A16,"Addtnl Line / CO",VLOOKUP(A17,'PurchaseOrders.List-OCT'!$A$7:$F$260,6,0)) -> Emailed | N17: =VLOOKUP(A17, 'e.Builder Open PO Amts 10.21.25'!$F$7:$M$263,8,FALSE) -> 178543.7 | O17: =(H17+H18+H19)-N17 -> 0
A18: 464974 | B18: 3 | C18: 350 | D18: 0722 | E18: 350-2201 | F18: 41 | G18: 4000 | H18: 62697 | I18: =IF(A18=A17,"Addtnl Line / CO",VLOOKUP(A18,'PurchaseOrders.List-OCT'!$A$8:$E$259,2,0)) -> Addtnl Line / CO | J18: =IF(A18=A17,"Addtnl Line / CO",VLOOKUP(A18,Data_PO_List,3,0)) -> Addtnl Line / CO | K18: =IF(A18=A17,"Addtnl Line / CO",VLOOKUP(A18,Data_PO_List,4,0)) -> Addtnl Line / CO | L18: =IF(A18=A17,"Addtnl Line / CO",VLOOKUP(A18,'PurchaseOrders.List-JUL'!$A$8:$F$239,5,0)) -> Addtnl Line / CO | M18: =IF(A18=A17,"Addtnl Line / CO",VLOOKUP(A18,'PurchaseOrders.List-OCT'!$A$7:$F$260,6,0)) -> Addtnl Line / CO | O18: 0
A19: 464974 | B19: 1 | C19: 350 | D19: 0722 | E19: 350-2201 | F19: 41 | G19: 4000 | H19: 6531.7 | I19: =IF(A19=A18,"Addtnl Line / CO",VLOOKUP(A19,'PurchaseOrders.List-OCT'!$A$8:$E$259,2,0)) -> Addtnl Line / CO | J19: =IF(A19=A18,"Addtnl Line / CO",VLOOKUP(A19,Data_PO_List,3,0)) -> Addtnl Line / CO | K19: =IF(A19=A18,"Addtnl Line / CO",VLOOKUP(A19,Data_PO_List,4,0)) -> Addtnl Line / CO | L19: =IF(A19=A18,"Addtnl Line / CO",VLOOKUP(A19,'PurchaseOrders.List-JUL'!$A$8:$F$239,5,0)) -> Addtnl Line / CO | M19: =IF(A19=A18,"Addtnl Line / CO",VLOOKUP(A19,'PurchaseOrders.List-OCT'!$A$7:$F$260,6,0)) -> Addtnl Line / CO | O19: 0
A20: 464971 | B20: 1 | C20: 119 | D20: 0452 | E20: 119-2201 | F20: 41 | G20: 4000 | H20: 9800 | I20: =IF(A20=A19,"Addtnl Line / CO",VLOOKUP(A20,'PurchaseOrders.List-OCT'!$A$8:$E$259,2,0)) -> 45897 | J20: =IF(A20=A19,"Addtnl Line / CO",VLOOKUP(A20,Data_PO_List,3,0)) -> 24907 | K20: =IF(A20=A19,"Addtnl Line / CO",VLOOKUP(A20,Data_PO_List,4,0)) -> Iconergy | L20: NA | M20: =IF(A20=A19,"Addtnl Line / CO",VLOOKUP(A20,'PurchaseOrders.List-OCT'!$A$7:$F$260,6,0)) -> Emailed | N20: =VLOOKUP(A20, 'e.Builder Open PO Amts 10.21.25'!$F$7:$M$263,8,FALSE) -> 9800 | O20: =H20-N20 -> 0
A21: 464969 | B21: 1 | C21: 360 | D21: 0450 | E21: 360-2201 | F21: 41 | G21: 4000 | H21: 4200 | I21: =IF(A21=A20,"Addtnl Line / CO",VLOOKUP(A21,'PurchaseOrders.List-OCT'!$A$8:$E$259,2,0)) -> 45897 | J21: =IF(A21=A20,"Addtnl Line / CO",VLOOKUP(A21,Data_PO_List,3,0)) -> 10244 | K21: =IF(A21=A20,"Addtnl Line / CO",VLOOKUP(A21,Data_PO_List,4,0)) -> Sport Tech Flooring LLC | L21: NA | M21: =IF(A21=A20,"Addtnl Line / CO",VLOOKUP(A21,'PurchaseOrders.List-OCT'!$A$7:$F$260,6,0)) -> Emailed | N21: =VLOOKUP(A21, 'e.Builder Open PO Amts 10.21.25'!$F$7:$M$263,8,FALSE)+5328 -> 9528 | O21: =H21-N21 -> -5328
A22: 464898 | B22: 1 | C22: 154 | D22: 0733 | E22: 154-2201 | F22: 41 | G22: 4000 | H22: 108019.04 | I22: =IF(A22=A21,"Addtnl Line / CO",VLOOKUP(A22,'PurchaseOrders.List-OCT'!$A$8:$E$259,2,0)) -> 45883 | J22: =IF(A22=A21,"Addtnl Line / CO",VLOOKUP(A22,Data_PO_List,3,0)) -> 26847 | K22: =IF(A22=A21,"Addtnl Line / CO",VLOOKUP(A22,Data_PO_List,4,0)) -> Meteor Education | L22: NA | M22: =IF(A22=A21,"Addtnl Line / CO",VLOOKUP(A22,'PurchaseOrders.List-OCT'!$A$7:$F$260,6,0)) -> Emailed | N22: =VLOOKUP(A22, 'e.Builder Open PO Amts 10.21.25'!$F$7:$M$263,8,FALSE) -> 108019.04 | O22: =H22-N22 -> 0
A23: 464897 | B23: 1 | C23: 119 | D23: 0723 | E23: 119-2201 | F23: 41 | G23: 4000 | H23: 15017.39 | I23: =IF(A23=A22,"Addtnl Line / CO",VLOOKUP(A23,'PurchaseOrders.List-OCT'!$A$8:$E$259,2,0)) -> 45883 | J23: =IF(A23=A22,"Addtnl Line / CO",VLOOKUP(A23,Data_PO_List,3,0)) -> 25300 | K23: =IF(A23=A22,"Addtnl Line / CO",VLOOKUP(A23,Data_PO_List,4,0)) -> U.S. Engineering Service LLC | L23: NA | M23: =IF(A23=A22,"Addtnl Line / CO",VLOOKUP(A23,'PurchaseOrders.List-OCT'!$A$7:$F$260,6,0)) -> Emailed | N23: =VLOOKUP(A23, 'e.Builder Open PO Amts 10.21.25'!$F$7:$M$263,8,FALSE) -> 15017.39 | O23: =H23-N23 -> 0
A24: 464896 | B24: 1 | C24: 127 | D24: 0430 | E24: 127-2201 | F24: 41 | G24: 4000 | H24: 7454.4 | I24: =IF(A24=A23,"Addtnl Line / CO",VLOOKUP(A24,'PurchaseOrders.List-OCT'!$A$8:$E$259,2,0)) -> 45883 | J24: =IF(A24=A23,"Addtnl Line / CO",VLOOKUP(A24,Data_PO_List,3,0)) -> 10220 | K24: =IF(A24=A23,"Addtnl Line / CO",VLOOKUP(A24,Data_PO_List,4,0)) -> Bronco Fire Alarm Systems, Inc. | L24: NA | M24: =IF(A24=A23,"Addtnl Line / CO",VLOOKUP(A24,'PurchaseOrders.List-OCT'!$A$7:$F$260,6,0)) -> Emailed | N24: 14908.8 | O24: =H24-N24 -> -7454.4
A25: 464815 | B25: 1 | C25: 503 | D25: 0452 | E25: 503-2201 | F25: 41 | G25: 4000 | H25: 2219.02 | I25: =IF(A25=A24,"Addtnl Line / CO",VLOOKUP(A25,'PurchaseOrders.List-OCT'!$A$8:$E$259,2,0)) -> 45875 | J25: =IF(A25=A24,"Addtnl Line / CO",VLOOKUP(A25,Data_PO_List,3,0)) -> 24907 | K25: =IF(A25=A24,"Addtnl Line / CO",VLOOKUP(A25,Data_PO_List,4,0)) -> Iconergy | L25: NA | M25: =IF(A25=A24,"Addtnl Line / CO",VLOOKUP(A25,'PurchaseOrders.List-OCT'!$A$7:$F$260,6,0)) -> Printed | N25: 70726.02 | O25: =H25-N25 -> -68507 | P25: Commitments not in eBuilder: 462498, 462500, 462501, 462503, 462508, 462510, 462633, 462634
A26: 464814 | B26: 1 | C26: 340 | D26: 0452 | E26: 340-2201 | F26: 41 | G26: 4000 | H26: 24609.5 | I26: =IF(A26=A25,"Addtnl Line / CO",VLOOKUP(A26,'PurchaseOrders.List-OCT'!$A$8:$E$259,2,0)) -> 45875 | J26: =IF(A26=A25,"Addtnl Line / CO",VLOOKUP(A26,Data_PO_List,3,0)) -> 24907 | K26: =IF(A26=A25,"Addtnl Line / CO",VLOOKUP(A26,Data_PO_List,4,0)) -> Iconergy | L26: NA | M26: =IF(A26=A25,"Addtnl Line / CO",VLOOKUP(A26,'PurchaseOrders.List-OCT'!$A$7:$F$260,6,0)) -> Emailed | N26: =VLOOKUP(A26, 'e.Builder Open PO Amts 10.21.25'!$F$7:$M$263,8,FALSE) -> 24609.5 | O26: =H26-N26 -> 0
A27: 464758 | B27: 1 | C27: 360 | D27: 0733 | E27: 360-2201 | F27: 41 | G27: 4000 | H27: 6121.52 | I27: =IF(A27=A26,"Addtnl Line / CO",VLOOKUP(A27,'PurchaseOrders.List-OCT'!$A$8:$E$259,2,0)) -> 45859 | J27: =IF(A27=A26,"Addtnl Line / CO",VLOOKUP(A27,Data_PO_List,3,0)) -> 23554 | K27: =IF(A27=A26,"Addtnl Line / CO",VLOOKUP(A27,Data_PO_List,4,0)) -> Peak Media, Inc. | L27: NA | M27: =IF(A27=A26,"Addtnl Line / CO",VLOOKUP(A27,'PurchaseOrders.List-OCT'!$A$7:$F$260,6,0)) -> Emailed | N27: =VLOOKUP(A27, 'e.Builder Open PO Amts 10.21.25'!$F$7:$M$263,8,FALSE) -> 6121.52 | O27: =H27-N27 -> 0
A28: 464756 | B28: 1 | C28: 350 | D28: 0730 | E28: 350-2201 | F28: 41 | G28: 4000 | H28: 32584.8 | I28: =IF(A28=A27,"Addtnl Line / CO",VLOOKUP(A28,'PurchaseOrders.List-OCT'!$A$8:$E$259,2,0)) -> 45859 | J28: =IF(A28=A27,"Addtnl Line / CO",VLOOKUP(A28,Data_PO_List,3,0)) -> 10214 | K28: =IF(A28=A27,"Addtnl Line / CO",VLOOKUP(A28,Data_PO_List,4,0)) -> National Car Charging, LLC | L28: NA | M28: =IF(A28=A27,"Addtnl Line / CO",VLOOKUP(A28,'PurchaseOrders.List-OCT'!$A$7:$F$260,6,0)) -> Emailed | N28: =VLOOKUP(A28, 'e.Builder Open PO Amts 10.21.25'!$F$7:$M$263,8,FALSE) -> 32584.8 | O28: =H28-N28 -> 0
A29: 464721 | B29: 1 | C29: 503 | D29: 0733 | E29: 503-2201 | F29: 41 | G29: 4000 | H29: 316 | I29: =IF(A29=A28,"Addtnl Line / CO",VLOOKUP(A29,'PurchaseOrders.List-OCT'!$A$8:$E$259,2,0)) -> 45848 | J29: =IF(A29=A28,"Addtnl Line / CO",VLOOKUP(A29,Data_PO_List,3,0)) -> 10300 | K29: =IF(A29=A28,"Addtnl Line / CO",VLOOKUP(A29,Data_PO_List,4,0)) -> Pioneer Athletics | L29: NA | M29: =IF(A29=A28,"Addtnl Line / CO",VLOOKUP(A29,'PurchaseOrders.List-OCT'!$A$7:$F$260,6,0)) -> Emailed | N29: =VLOOKUP(A29, 'e.Builder Open PO Amts 10.21.25'!$F$7:$M$263,8,FALSE) -> 316 | O29: =H29-N29 -> 0
A30: 464673 | B30: 1 | C30: 360 | D30: 0733 | E30: 360-2201 | F30: 41 | G30: 4000 | H30: 1287 | I30: =IF(A30=A29,"Addtnl Line / CO",VLOOKUP(A30,'PurchaseOrders.List-OCT'!$A$8:$E$259,2,0)) -> 45838 | J30: =IF(A30=A29,"Addtnl Line / CO",VLOOKUP(A30,Data_PO_List,3,0)) -> 10247 | K30: =IF(A30=A29,"Addtnl Line / CO",VLOOKUP(A30,Data_PO_List,4,0)) -> CDW Government LLC | L30: =IF(A30=A29,"Addtnl Line / CO",VLOOKUP(A30,'PurchaseOrders.List-JUL'!$A$8:$F$239,5,0)) -> 18565 | M30: =IF(A30=A29,"Addtnl Line / CO",VLOOKUP(A30,'PurchaseOrders.List-OCT'!$A$7:$F$260,6,0)) -> Emailed | N30: 0 | O30: =H30-N30 -> 1287
A31: 464672 | B31: 1 | C31: 741 | D31: 0733 | E31: 741-2201 | F31: 41 | G31: 4000 | H31: 12206.44 | I31: =IF(A31=A30,"Addtnl Line / CO",VLOOKUP(A31,'PurchaseOrders.List-OCT'!$A$8:$E$259,2,0)) -> 45838 | J31: =IF(A31=A30,"Addtnl Line / CO",VLOOKUP(A31,Data_PO_List,3,0)) -> 10438 | K31: =IF(A31=A30,"Addtnl Line / CO",VLOOKUP(A31,Data_PO_List,4,0)) -> BC Interiors, Inc | L31: =IF(A31=A30,"Addtnl Line / CO",VLOOKUP(A31,'PurchaseOrders.List-JUL'!$A$8:$F$239,5,0)) -> 12206.44 | M31: =IF(A31=A30,"Addtnl Line / CO",VLOOKUP(A31,'PurchaseOrders.List-OCT'!$A$7:$F$260,6,0)) -> Emailed | N31: =VLOOKUP(A31, 'e.Builder Open PO Amts 10.21.25'!$F$7:$M$263,8,FALSE) -> 12206.44 | O31: =H31-N31 -> 0
A32: 464643 | B32: 1 | C32: 270 | D32: 0339 | E32: 270-2201 | F32: 41 | G32: 4000 | H32: 10300 | I32: =IF(A32=A31,"Addtnl Line / CO",VLOOKUP(A32,'PurchaseOrders.List-OCT'!$A$8:$E$259,2,0)) -> 45824 | J32: =IF(A32=A31,"Addtnl Line / CO",VLOOKUP(A32,Data_PO_List,3,0)) -> 27018 | K32: =IF(A32=A31,"Addtnl Line / CO",VLOOKUP(A32,Data_PO_List,4,0)) -> Jensen Hughes, Inc. | L32: =IF(A32=A31,"Addtnl Line / CO",VLOOKUP(A32,'PurchaseOrders.List-JUL'!$A$8:$F$239,5,0)) -> 10300 | M32: =IF(A32=A31,"Addtnl Line / CO",VLOOKUP(A32,'PurchaseOrders.List-OCT'!$A$7:$F$260,6,0)) -> Emailed | N32: =VLOOKUP(A32, 'e.Builder Open PO Amts 10.21.25'!$F$7:$M$263,8,FALSE) -> 10300 | O32: =H32-N32 -> 0
A33: 464576 | B33: 1 | C33: 360 | D33: 0739 | E33: 360-2201 | F33: 41 | G33: 4000 | H33: 2550 | I33: =IF(A33=A32,"Addtnl Line / CO",VLOOKUP(A33,'PurchaseOrders.List-OCT'!$A$8:$E$259,2,0)) -> 45810 | J33: =IF(A33=A32,"Addtnl Line / CO",VLOOKUP(A33,Data_PO_List,3,0)) -> 10448 | K33: =IF(A33=A32,"Addtnl Line / CO",VLOOKUP(A33,Data_PO_List,4,0)) -> HSS Inc | L33: =IF(A33=A32,"Addtnl Line / CO",VLOOKUP(A33,'PurchaseOrders.List-JUL'!$A$8:$F$239,5,0)) -> 36547 | M33: =IF(A33=A32,"Addtnl Line / CO",VLOOKUP(A33,'PurchaseOrders.List-OCT'!$A$7:$F$260,6,0)) -> Emailed | N33: =VLOOKUP(A33, 'e.Builder Open PO Amts 10.21.25'!$F$7:$M$263,8,FALSE) -> 2550 | O33: =H33-N33 -> 0
A34: 464542 | B34: 1 | C34: 360 | D34: 0733 | E34: 360-2201 | F34: 41 | G34: 4000 | H34: 29615.22 | I34: =IF(A34=A33,"Addtnl Line / CO",VLOOKUP(A34,'PurchaseOrders.List-OCT'!$A$8:$E$259,2,0)) -> 45799 | J34: =IF(A34=A33,"Addtnl Line / CO",VLOOKUP(A34,Data_PO_List,3,0)) -> 23665 | K34: =IF(A34=A33,"Addtnl Line / CO",VLOOKUP(A34,Data_PO_List,4,0)) -> OS Schools | L34: =IF(A34=A33,"Addtnl Line / CO",VLOOKUP(A34,'PurchaseOrders.List-JUL'!$A$8:$F$239,5,0)) -> 204938.16 | M34: =IF(A34=A33,"Addtnl Line / CO",VLOOKUP(A34,'PurchaseOrders.List-OCT'!$A$7:$F$260,6,0)) -> Emailed | N34: =VLOOKUP(A34, 'e.Builder Open PO Amts 10.21.25'!$F$7:$M$263,8,FALSE) -> 29615.22 | O34: =H34-N34 -> 0
A35: 464538 | B35: 1 | C35: 154 | D35: 0730 | E35: 154-2201 | F35: 41 | G35: 4000 | H35: 64 | I35: =IF(A35=A34,"Addtnl Line / CO",VLOOKUP(A35,'PurchaseOrders.List-OCT'!$A$8:$E$259,2,0)) -> 45798 | J35: =IF(A35=A34,"Addtnl Line / CO",VLOOKUP(A35,Data_PO_List,3,0)) -> 10274 | K35: =IF(A35=A34,"Addtnl Line / CO",VLOOKUP(A35,Data_PO_List,4,0)) -> United Restaurant Supply, LLC. | L35: =IF(A35=A34,"Addtnl Line / CO",VLOOKUP(A35,'PurchaseOrders.List-JUL'!$A$8:$F$239,5,0)) -> 24657 | M35: =IF(A35=A34,"Addtnl Line / CO",VLOOKUP(A35,'PurchaseOrders.List-OCT'!$A$7:$F$260,6,0)) -> Emailed | N35: =VLOOKUP(A35, 'e.Builder Open PO Amts 10.21.25'!$F$7:$M$263,8,FALSE) -> 64 | O35: =H35-N35 -> 0
A36: 464537 | B36: 1 | C36: 120 | D36: 0340 | E36: 120-2201 | F36: 41 | G36: 4000 | H36: 12463 | I36: =IF(A36=A35,"Addtnl Line / CO",VLOOKUP(A36,'PurchaseOrders.List-OCT'!$A$8:$E$259,2,0)) -> 45798 | J36: =IF(A36=A35,"Addtnl Line / CO",VLOOKUP(A36,Data_PO_List,3,0)) -> 24769 | K36: =IF(A36=A35,"Addtnl Line / CO",VLOOKUP(A36,Data_PO_List,4,0)) -> Accenture Infrastructure and Capital Projects LLC | L36: =IF(A36=A35,"Addtnl Line / CO",VLOOKUP(A36,'PurchaseOrders.List-JUL'!$A$8:$F$239,5,0)) -> 12463 | M36: =IF(A36=A35,"Addtnl Line / CO",VLOOKUP(A36,'PurchaseOrders.List-OCT'!$A$7:$F$260,6,0)) -> Emailed | N36: =VLOOKUP(A36, 'e.Builder Open PO Amts 10.21.25'!$F$7:$M$263,8,FALSE) -> 12463 | O36: =H36-N36 -> 0
A37: 464536 | B37: 1 | C37: 230 | D37: 0340 | E37: 230-2201 | F37: 41 | G37: 4000 | H37: 20691 | I37: =IF(A37=A36,"Addtnl Line / CO",VLOOKUP(A37,'PurchaseOrders.List-OCT'!$A$8:$E$259,2,0)) -> 45798 | J37: =IF(A37=A36,"Addtnl Line / CO",VLOOKUP(A37,Data_PO_List,3,0)) -> 24769 | K37: =IF(A37=A36,"Addtnl Line / CO",VLOOKUP(A37,Data_PO_List,4,0)) -> Accenture Infrastructure and Capital Projects LLC | L37: =IF(A37=A36,"Addtnl Line / CO",VLOOKUP(A37,'PurchaseOrders.List-JUL'!$A$8:$F$239,5,0)) -> 20691 | M37: =IF(A37=A36,"Addtnl Line / CO",VLOOKUP(A37,'PurchaseOrders.List-OCT'!$A$7:$F$260,6,0)) -> Emailed | N37: =VLOOKUP(A37, 'e.Builder Open PO Amts 10.21.25'!$F$7:$M$263,8,FALSE) -> 20691 | O37: =H37-N37 -> 0
A38: 464529 | B38: 1 | C38: 315 | D38: 0733 | E38: 315-2201 | F38: 41 | G38: 4000 | H38: 468.25 | I38: =IF(A38=A37,"Addtnl Line / CO",VLOOKUP(A38,'PurchaseOrders.List-OCT'!$A$8:$E$259,2,0)) -> 45798 | J38: =IF(A38=A37,"Addtnl Line / CO",VLOOKUP(A38,Data_PO_List,3,0)) -> 10247 | K38: =IF(A38=A37,"Addtnl Line / CO",VLOOKUP(A38,Data_PO_List,4,0)) -> CDW Government LLC | L38: =IF(A38=A37,"Addtnl Line / CO",VLOOKUP(A38,'PurchaseOrders.List-JUL'!$A$8:$F$239,5,0)) -> 17970.25 | M38: =IF(A38=A37,"Addtnl Line / CO",VLOOKUP(A38,'PurchaseOrders.List-OCT'!$A$7:$F$260,6,0)) -> Emailed | N38: =VLOOKUP(A38, 'e.Builder Open PO Amts 10.21.25'!$F$7:$M$263,8,FALSE) -> 468.25 | O38: =H38-N38 -> 0
A39: 464524 | B39: 1 | C39: 340 | D39: 0733 | E39: 340-2201 | F39: 41 | G39: 4000 | H39: 194972.14 | I39: =IF(A39=A38,"Addtnl Line / CO",VLOOKUP(A39,'PurchaseOrders.List-OCT'!$A$8:$E$259,2,0)) -> 45798 | J39: =IF(A39=A38,"Addtnl Line / CO",VLOOKUP(A39,Data_PO_List,3,0)) -> 10438 | K39: =IF(A39=A38,"Addtnl Line / CO",VLOOKUP(A39,Data_PO_List,4,0)) -> BC Interiors, Inc | L39: =IF(A39=A38,"Addtnl Line / CO",VLOOKUP(A39,'PurchaseOrders.List-JUL'!$A$8:$F$239,5,0)) -> 439724.38 | M39: =IF(A39=A38,"Addtnl Line / CO",VLOOKUP(A39,'PurchaseOrders.List-OCT'!$A$7:$F$260,6,0)) -> Emailed | N39: =VLOOKUP(A39, 'e.Builder Open PO Amts 10.21.25'!$F$7:$M$263,8,FALSE) -> 194972.14 | O39: =H39-N39 -> 0
A40: 464523 | B40: 1 | C40: 180 | D40: 0455 | E40: 180-2201 | F40: 41 | G40: 4000 | H40: 12350 | I40: =IF(A40=A39,"Addtnl Line / CO",VLOOKUP(A40,'PurchaseOrders.List-OCT'!$A$8:$E$259,2,0)) -> 45798 | J40: =IF(A40=A39,"Addtnl Line / CO",VLOOKUP(A40,Data_PO_List,3,0)) -> 10280 | K40: =IF(A40=A39,"Addtnl Line / CO",VLOOKUP(A40,Data_PO_List,4,0)) -> Buehler Companies | L40: =IF(A40=A39,"Addtnl Line / CO",VLOOKUP(A40,'PurchaseOrders.List-JUL'!$A$8:$F$239,5,0)) -> 12350 | M40: =IF(A40=A39,"Addtnl Line / CO",VLOOKUP(A40,'PurchaseOrders.List-OCT'!$A$7:$F$260,6,0)) -> Emailed | N40: =VLOOKUP(A40, 'e.Builder Open PO Amts 10.21.25'!$F$7:$M$263,8,FALSE) -> 12350 | O40: =H40-N40 -> 0
...

Sheet PurchaseOrders.List-OCT
A1: INFOR Report
A2: Purchasing --> Advanced Search --> Encumbrances | D2: Total amount of PO: (Calculate)
A3: Saved Report: Purchase Orders List -->> Filter Fund 41
A4: Ran 10.17.25
A5: Duplicates edited to $0
E6: =SUBTOTAL(9,E8:E260) -> 1.8555034e+08
A7: Purchase Order | B7: Purchase Order Date | C7: Vendor | D7: Vendor Name | E7: Calculate Total Amount | F7: Purchase Order Status
A8: 465170 | B8: 45947 | C8: 10320 | D8: GROUND Engineering Consultants, Inc. | E8: 0 | F8: Emailed
A9: 465141 | B9: 45938 | C9: 24829 | D9: Career And Technical Training, LLC | E9: 4350 | F9: Emailed
A10: 465134 | B10: 45937 | C10: 24761 | D10: SynDaver EDU Inc. | E10: 9955.85 | F10: Emailed
A11: 465108 | B11: 45929 | C11: 22952 | D11: Ninyo & Moore Geotechnical & Environmental Sciences Consultants | E11: 10205 | F11: Emailed
A12: 465091 | B12: 45926 | C12: 29264 | D12: AJI Fence Ltd. | E12: 1435 | F12: Emailed
A13: 465050 | B13: 45917 | C13: 29215 | D13: Encore Electric, Inc. | E13: 6304.96 | F13: Emailed
A14: 465049 | B14: 45917 | C14: 29215 | D14: Encore Electric, Inc. | E14: 6304.96 | F14: Emailed
A15: 465048 | B15: 45917 | C15: 29215 | D15: Encore Electric, Inc. | E15: 3604.96 | F15: Emailed
A16: 465041 | B16: 45917 | C16: 10419 | D16: GEORGE T SANDERS COMPANY | E16: 18889.88 | F16: Emailed
A17: 465033 | B17: 45912 | C17: 29207 | D17: Equalized Productions LLC | E17: 159256 | F17: Emailed
A18: 464985 | B18: 45904 | C18: 28269 | D18: Pavion Corp. | E18: 498.2 | F18: Emailed
A19: 464974 | B19: 45898 | C19: 10243 | D19: McKinstry Essention, LLC | E19: 225090 | F19: Emailed
... A260: 460529 | B260: 44665 | C260: 10309 | D260: FCI Constructors, Inc. | E260: 249513.25 | F260: Closed

Sheet PurchaseOrders.List-JUL
A1: INFOR Report
A2: Purchasing --> Advanced Search --> Encumbrances | D2: Total amount of PO: (Calculate)
A3: Saved Report: Purchase Orders List -->> Filter Fund 41
A4: Ran 10.21.25 - Date Before 07.01.25
A5: Duplicates edited to $0
E6: =SUBTOTAL(9,E8:E236) -> 1.8458423e+08
A7: PurchaseOrder | B7: PurchaseOrder.PurchaseOrderDate | C7: PurchaseOrder.Vendor | D7: PurchaseOrderLine.DerivedWidgetVendorName | E7: PurchaseOrder.CalculateTotalAmount | F7: PurchaseOrder.DerivedPurchaseOrderStatus
A8: 464673 | B8: 45838 | C8: 10247 | D8: CDW Government LLC | E8: 18565 | F8: Emailed
A9: 464672 | B9: 45838 | C9: 10438 | D9: BC Interiors, Inc | E9: 12206.44 | F9: Emailed
A10: 464643 | B10: 45824 | C10: 27018 | D10: Jensen Hughes, Inc. | E10: 10300 | F10: Emailed
A11: 464576 | B11: 45810 | C11: 10448 | D11: HSS Inc | E11: 36547 | F11: Emailed
A12: 464542 | B12: 45799 | C12: 23665 | D12: OS Schools | E12: 204938.16 | F12: Emailed
A13: 464538 | B13: 45798 | C13: 10274 | D13: United Restaurant Supply, LLC. | E13: 24657 | F13: Emailed
A14: 464537 | B14: 45798 | C14: 24769 | D14: Accenture Infrastructure and Capital Projects LLC | E14: 12463 | F14: Emailed
A15: 464536 | B15: 45798 | C15: 24769 | D15: Accenture Infrastructure and Capital Projects LLC | E15: 20691 | F15: Emailed
A16: 464529 | B16: 45798 | C16: 10247 | D16: CDW Government LLC | E16: 17970.25 | F16: Emailed
A17: 464524 | B17: 45798 | C17: 10438 | D17: BC Interiors, Inc | E17: 439724.38 | F17: Emailed
A18: 464523 | B18: 45798 | C18: 10280 | D18: Buehler Companies | E18: 12350 | F18: Emailed
A19: 464503 | B19: 45790 | C19: 10320 | D19: GROUND Engineering Consultants, Inc. | E19: 2295 | F19: Emailed
... A236: 460529 | B236: 44665 | C236: 10309 | D236: FCI Constructors, Inc. | E236: 249513.25 | F236: Closed

Sheet e.Builder Open PO Amts 10.21.25
A1: eBuilder Report
A2: Open Commitments Recon Report
A3: Ran 10.21.25
M5: =SUBTOTAL(9,M7:M263) -> 41238653
A6: Project Number | B6: Company Number | C6: Company Name | D6: Commitment Date | E6: Commitment Status | F6: Commitment Number | G6: Current Commitment Value | H6: Pending Changes | I6: Projected Changes | J6: Projected Commitment Value | K6: Actuals Approved | L6: Current Retainage Held | M6: Open Projected Commitment
A7: PLAYGROUNDS-22 | B7: 10309 | C7: FCI Constructors, Inc. | D7: 45743 | E7: Approved | F7: 464344 | G7: 26250 | H7: 0 | I7: 0 | J7: 26250 | K7: 0 | L7: 0 | M7: 26250
A8: PLAYGROUNDS-22 | B8: 10320 | C8: GROUND Engineering Consultants, Inc. | D8: 45667 | E8: Approved | F8: 464094 | G8: 16025 | H8: 0 | I8: 0 | J8: 16025 | K8: 8508 | L8: 0 | M8: 7517
A9: PLAYGROUNDS-22 | B9: 10368 | C9: Design Concepts | D9: 45246 | E9: Approved | F9: 462690 | G9: 740998 | H9: 0 | I9: 0 | J9: 740998 | K9: 649633.7 | L9: 0 | M9: 91364.3
A10: 252-2201 | B10: 10209 | C10: Hord Coplan Macht, Inc. | D10: 45099 | E10: Approved | F10: 462091 | G10: 280510 | H10: 0 | I10: 0 | J10: 280510 | K10: 279780.5 | L10: 0 | M10: 729.5
A11: 252-2201 | B11: 10320 | C11: GROUND Engineering Consultants, Inc. | D11: 45331 | E11: Approved | F11: 462948 | G11: 14475 | H11: 0 | I11: 0 | J11: 14475 | K11: 9865 | L11: 0 | M11: 4610
A12: 252-2201 | B12: 16779 | C12: Albireo Energy | D12: 44998 | E12: Approved | F12: 461657 | G12: 6546 | H12: 0 | I12: 0 | J12: 6546 | K12: 6218.7 | L12: 0 | M12: 327.3
A13: 252-2201 | B13: 24907 | C13: Iconergy | D13: 45197 | E13: Approved | F13: 462522 | G13: 13569 | H13: 0 | I13: 0 | J13: 13569 | K13: 7934.5 | L13: 0 | M13: 5634.5
A14: 340-2201 | B14: 10309 | C14: FCI Constructors, Inc. | D14: 45264 | E14: Approved | F14: 462741 | G14: 21916023 | H14: 0 | I14: 0 | J14: 21916023 | K14: 8131233.9 | L14: 406561.77 | M14: 14191351
A15: 340-2201 | B15: 10320 | C15: GROUND Engineering Consultants, Inc. | E15: Approved | F15: 464098 | G15: 59705 | H15: 0 | I15: 0 | J15: 59705 | K15: 20864.25 | L15: 0 | M15: 38840.75
A16: 340-2201 | B16: 10438 | C16: BC Interiors, Inc | E16: Approved | F16: 464254 | G16: 51250.47 | H16: 0 | I16: 0 | J16: 51250.47 | K16: 29402.44 | L16: 0 | M16: 21848.03
A17: 340-2201 | B17: 10438 | C17: BC Interiors, Inc | E17: Approved | F17: 464524 | G17: 439724.38 | H17: 0 | I17: 0 | J17: 439724.38 | K17: 244752.24 | L17: 0 | M17: 194972.14
A18: 340-2201 | B18: 10448 | C18: HSS Inc | E18: Approved | F18: 464163 | G18: 150753 | H18: 0 | I18: 0 | J18: 150753 | K18: 42540 | L18: 0 | M18: 108213
A19: 340-2201 | B19: 16637 | C19: DLR Group | D19: 44995 | E19: Approved | F19: 461651 | G19: 271225.9 | H19: 0 | I19: 0 | J19: 271225.9 | K19: 226760.9 | L19: 0 | M19: 44465
A20: 340-2201 | B20: 16637 | C20: DLR Group | D20: 44995 | E20: Approved | F20: 461651 FUND-22 | G20: -44465 | H20: 0 | I20: 0 | J20: -44465 | K20: 0 | L20: 0 | M20: -44465
A21: 340-2201 | B21: 16779 | C21: Albireo Energy | D21: 44998 | E21: Approved | F21: 461658 | G21: 6572 | H21: 0 | I21: 0 | J21: 6572 | K21: 0 | L21: 0 | M21: 6572
A22: 340-2201 | B22: 22857 | C22: Workplace Resource | E22: Approved | F22: 464237 | G22: 91560 | H22: 0 | I22: 0 | J22: 91560 | K22: 50417.5 | L22: 0 | M22: 41142.5
A23: 340-2201 | B23: 23174 | C23: Colorado Hazard Control | E23: Approved | F23: 464257 | G23: 722798 | H23: 0 | I23: 0 | J23: 722798 | K23: 630432.35 | L23: 0 | M23: 92365.65
A24: 340-2201 | B24: 24279 | C24: Cuningham Group Architecture | D24: 45320 | E24: Approved | F24: 462896 | G24: 1779010 | H24: 0 | I24: 0 | J24: 1779010 | K24: 1480631.3 | L24: 0 | M24: 298378.71
A25: 340-2201 | B25: 24761 | C25: SynDaver EDU Inc. | E25: Approved | F25: 465134 | G25: 9955.85 | H25: 0 | I25: 0 | J25: 9955.85 | K25: 0 | L25: 0 | M25: 9955.85
A26: 340-2201 | B26: 24907 | C26: Iconergy | D26: 45230 | E26: Approved | F26: 464814 | G26: 26719 | H26: 0 | I26: 0 | J26: 26719 | K26: 2109.5 | L26: 0 | M26: 24609.5
A27: 340-2201 | B27: 25157 | C27: Landmark Environmental Inc | D27: 45246 | E27: Approved | F27: 462685 | G27: 47910 | H27: 0 | I27: 0 | J27: 47910 | K27: 45913.21 | L27: 0 | M27: 1996.79
A28: 505-2201 | B28: 10244 | C28: Sport Tech Flooring LLC | D28: 45328 | E28: Approved | F28: 462933 | G28: 5328 | H28: 0 | I28: 0 | J28: 5328 | K28: 0 | L28: 0 | M28: 5328
A29: 505-2201 | B29: 10309 | C29: FCI Constructors, Inc. | D29: 45723 | E29: Approved | F29: 464265 | G29: 525355.67 | H29: 0 | I29: 0 | J29: 525355.67 | K29: 525355.67 | L29: 26267.79 | M29: 26267.79
A30: 505-2201 | B30: 10320 | C30: GROUND Engineering Consultants, Inc. | D30: 45947 | E30: Approved | F30: 465170 | G30: 5500 | H30: 0 | I30: 0 | J30: 5500 | K30: 0 | L30: 0 | M30: 5500
A31: 505-2201 | B31: 16779 | C31: Albireo Energy | D31: 44998 | E31: Approved | F31: 461659 | G31: 47144 | H31: 0 | I31: 0 | J31: 47144 | K31: 44786.8 | L31: 0 | M31: 2357.2
A32: 505-2201 | B32: 22887 | C32: Shums Coda Associates, Inc. | D32: 45243 | E32: Approved | F32: 462678 | G32: 3485 | H32: 0 | I32: 0 | J32: 3485 | K32: 0 | L32: 0 | M32: 3485
A33: 505-2201 | B33: 24907 | C33: Iconergy | D33: 45230 | E33: Approved | F33: 462631 | G33: 12450 | H33: 0 | I33: 0 | J33: 12450 | K33: 3536 | L33: 0 | M33: 8914
A34: 505-2201 | B34: 25243 | C34: BVH Architecture | D34: 45617 | E34: Approved | F34: 464346 | G34: 245853 | H34: 0 | I34: 0 | J34: 245853 | K34: 119964.27 | L34: 0 | M34: 125888.73
A35: 505-2201 | B35: 25657 | C35: Alliance Construction Solutions, LLC | D35: 45621 | E35: Approved | F35: 463990 | G35: 3000 | H35: 0 | I35: 0 | J35: 3000 | K35: 0 | L35: 0 | M35: 3000
A36: 505-2201 | B36: 25657 | C36: Alliance Construction Solutions, LLC | D36: 45601 | E36: Approved | F36: 464345 | G36: 3000 | H36: 0 | I36: 0 | J36: 3000 | K36: 0 | L36: 0 | M36: 3000
A37: 979-2201 | B37: 16779 | C37: Albireo Energy | D37: 44998 | E37: Approved | F37: 461661 | G37: 54801 | H37: 0 | I37: 0 | J37: 54801 | K37: 23778.49 | L37: 0 | M37: 31022.51
A38: 979-2201 | B38: 24907 | C38: Iconergy | D38: 45197 | E38: Approved | F38: 462521 | G38: 20776 | H38: 0 | I38: 0 | J38: 20776 | K38: 18536 | L38: 0 | M38: 2240
A39: 979-2201 | B39: 25614 | C39: Eidos Architects PC | E39: Approved | F39: 464063 | G39: 94626 | H39: 0 | I39: 0 | J39: 94626 | K39: 70121.64 | L39: 0 | M39: 24504.36
A40: 979-2201 | B40: 27992 | C40: Swinerton Builders | E40: Approved | F40: 464137 | G40: 3083 | H40: 0 | I40: 0 | J40: 3083 | K40: 2055 | L40: 0 | M40: 1028
A41: 119-2201 | B41: 24907 | C41: Iconergy | D41: 45896 | E41: Approved | F41: 464971 | G41: 9800 | H41: 0 | I41: 0 | J41: 9800 | K41: 0 | L41: 0 | M41: 9800
...

Sheet e.Builder Open PO Amts 08.28
A1: eBuilder Report
A2: Open Commitments Recon Report
A3: Ran 08.28.25
H5: (Convert to #) | I5: =SUBTOTAL(9,I7:I291) -> 1.9394611e+08 | J5: =SUBTOTAL(9,J7:J291) -> 294050.4 | K5: =SUBTOTAL(9,K7:K291) -> 0 | L5: =SUBTOTAL(9,L7:L291) -> 1.9426972e+08 | M5: =SUBTOTAL(9,M7:M291) -> 1.3581908e+08 | N5: =SUBTOTAL(9,N7:N291) -> 5093571.7 | O5: =SUBTOTAL(9,O7:O291) -> 63544210
A6: Year Bond Passed | B6: Project Name | C6: Project Number | D6: Company Number | E6: Company Name | F6: Commitment Date | G6: Commitment Status | H6: Commitment Number | I6: Current Commitment Value | J6: Pending Changes | K6: Projected Changes | L6: Projected Commitment Value | M6: Actuals Approved | N6: Current Retainage Held | O6: Open Projected Commitment Amount
A7: 2022 | B7: 22 - New Vista High | C7: 350-2201 | D7: 16603 | E7: Adolfson & Peterson Construction | F7: 45005 | G7: Approved | H7: 461704 | I7: 43602194 | J7: 0 | K7: 0 | L7: 43602194 | M7: 39598633 | N7: 1087968 | O7: 5091528.9
A8: 2022 | B8: 22 - Arapahoe Ridge High | C8: 340-2201 | D8: 10309 | E8: FCI Constructors, Inc. | F8: 45264 | G8: Approved | H8: 462741 | I8: 21916023 | J8: 0 | K8: 0 | L8: 21916023 | M8: 6746037.3 | N8: 337301.9 | O8: 15507288
A9: 2022 | B9: 22 - Broomfield High | C9: 315-2201 | D9: 26775 | E9: JHL Constructors LLC | F9: 45159 | G9: Approved | H9: 462357 | I9: 13672573 | J9: 0 | K9: 0 | L9: 13672573 | M9: 12889144 | N9: 644457.26 | O9: 1427886.3
A10: 2022 | B10: 22 - Boulder High | C10: 310-2201 | D10: 26775 | E10: JHL Constructors LLC | F10: 45411 | G10: Approved | H10: 463203 | I10: 13080935 | J10: 210896 | K10: 0 | L10: 13291831 | M10: 4404592.9 | N10: 218979.68 | O10: 9106217.8
A11: 2022 | B11: 22 - Centaurus High | C11: 320-2201 | D11: 16603 | E11: Adolfson & Peterson Construction | F11: 45174 | G11: Approved | H11: 462418 | I11: 12665992 | J11: 0 | K11: 0 | L11: 12665992 | M11: 11969169 | N11: 598458.52 | O11: 1295281.8
A12: 2022 | B12: 22 - Monarch High | C12: 360-2201 | D12: 26878 | E12: Gerald H Phipps Inc dba GH Phipps Construction | G12: Approved | H12: 463195 | I12: 12494750 | J12: 0 | K12: 0 | L12: 12494750 | M12: 5407846.3 | N12: 270392.34 | O12: 7357296.4
A13: 2022 | B13: 22 - Peak To Peak | C13: 956-2201 | D13: 10321 | E13: Fransen Pittman General Contractors | F13: 45272 | G13: Approved | H13: 462757 | I13: 10413435 | J13: 0 | K13: 0 | L13: 10413435 | M13: 10413435 | N13: 520071.76 | O13: 520071.76
A14: 2022 | B14: 22 - Summit Middle | C14: 925-2201 | D14: 23484 | E14: Palace Construction Co., Inc. | G14: Approved | H14: 463221 | I14: 3965336.6 | J14: 0 | K14: 0 | L14: 3965336.6 | M14: 1913453.5 | N14: 95222.71 | O14: 2147105.8
A15: 2022 | B15: 22 - Broomfield Heights Middle | C15: 225-2201 | D15: 26775 | E15: JHL Constructors LLC | G15: Approved | H15: 462358 | I15: 3482147 | J15: 0 | K15: 0 | L15: 3482147 | M15: 3333260.5 | N15: 166663.05 | O15: 315549.55
A16: 2022 | B16: 22 - Pioneer Elementary | C16: 180-2201 | D16: 26916 | E16: Bryan Construction | G16: Approved | H16: 463225 | I16: 3208039.8 | J16: 6412.8 | K16: 0 | L16: 3214452.6 | M16: 1491660.6 | N16: 74233.03 | O16: 1797025.1
A17: 2022 | B17: 22 - Angevine Middle | C17: 252-2201 | D17: 16603 | E17: Adolfson & Peterson Construction | F17: 45174 | G17: Approved | H17: 462419 | I17: 2918256 | J17: 0 | K17: 0 | L17: 2918256 | M17: 2918256 | N17: 145903.16 | O17: 145903.16
A18: 2022 | B18: 22 - Monarch PK-8 | C18: 502-2201 | D18: 26878 | E18: Gerald H Phipps Inc dba GH Phipps Construction | G18: Approved | H18: 463194 | I18: 2815809 | J18: 0 | K18: 0 | L18: 2815809 | M18: 2326352.6 | N18: 116317.62 | O18: 605774.03
