Workbook

Sheet Births by Elem (Present)
A1: Births By Elementary Attendance Area
A2: 45811
R3: K in 2025
A4: ElemName | B4: 2001 | C4: 2002 | D4: 2003 | E4: 2004 | F4: 2007 | G4: 2008 | H4: 2009 | I4: 2010 | J4: 2011 | K4: 2012 | L4: 2013 | M4: 2014 | N4: 2015 | O4: 2016 | P4: 2017 | Q4: 2018 | R4: 2019 | S4: 2020 | T4: 2021 | U4: 2022 | V4: 2023 | W4: 2024
A5: Aspen Crk | B5: 62 | C5: 58 | D5: 52 | E5: 57 | F5: 52 | G5: 56 | H5: 65 | I5: 56 | J5: 51 | K5: 61 | L5: 67 | M5: 54 | N5: 70 | O5: 61 | P5: 66 | Q5: 66 | R5: 48 | S5: 65 | T5: 57 | U5: 56 | V5: 66 | W5: 64 | X5: =W5-V5 -> -2
A6: BC-Creekside | B6: 9 | C6: 7 | D6: 9 | E6: 7 | F6: 5 | G6: 6 | H6: 2 | I6: 2 | J6: 2 | K6: 8 | L6: 3 | M6: 4 | N6: 6 | O6: 1 | P6: 4 | Q6: 5 | R6: 3 | S6: 6 | T6: 2 | U6: 2 | V6: 7 | W6: 3 | X6: =W6-V6 -> -4
A7: BC-Mesa | B7: 17 | C7: 18 | D7: 17 | E7: 26 | F7: 22 | G7: 27 | H7: 25 | I7: 31 | J7: 24 | K7: 26 | L7: 23 | M7: 25 | N7: 17 | O7: 17 | P7: 16 | Q7: 15 | R7: 8 | S7: 11 | T7: 18 | U7: 22 | V7: 11 | W7: 28 | X7: =W7-V7 -> 17
A8: Bear Creek | B8: 24 | C8: 13 | D8: 19 | E8: 14 | F8: 23 | G8: 18 | H8: 25 | I8: 31 | J8: 20 | K8: 19 | L8: 25 | M8: 21 | N8: 11 | O8: 12 | P8: 16 | Q8: 13 | R8: 10 | S8: 10 | T8: 10 | U8: 13 | V8: 15 | W8: 17 | X8: =W8-V8 -> 2
A9: Birch | B9: 86 | C9: 71 | D9: 53 | E9: 58 | F9: 52 | G9: 60 | H9: 46 | I9: 56 | J9: 49 | K9: 43 | L9: 65 | M9: 58 | N9: 51 | O9: 55 | P9: 39 | Q9: 41 | R9: 48 | S9: 33 | T9: 34 | U9: 38 | V9: 37 | W9: 40 | X9: =W9-V9 -> 3
A10: Coal Creek | B10: 53 | C10: 54 | D10: 74 | E10: 49 | F10: 55 | G10: 54 | H10: 68 | I10: 68 | J10: 51 | K10: 66 | L10: 60 | M10: 63 | N10: 48 | O10: 47 | P10: 50 | Q10: 43 | R10: 38 | S10: 37 | T10: 53 | U10: 52 | V10: 20 | W10: 40 | X10: =W10-V10 -> 20
A11: Columbine | B11: 171 | C11: 180 | D11: 168 | E11: 175 | F11: 157 | G11: 155 | H11: 153 | I11: 135 | J11: 155 | K11: 132 | L11: 129 | M11: 124 | N11: 121 | O11: 123 | P11: 128 | Q11: 101 | R11: 92 | S11: 108 | T11: 105 | U11: 85 | V11: 98 | W11: 99 | X11: =W11-V11 -> 1
A12: Creekside | B12: 175 | C12: 179 | D12: 160 | E12: 145 | F12: 156 | G12: 176 | H12: 159 | I12: 150 | J12: 130 | K12: 157 | L12: 157 | M12: 131 | N12: 158 | O12: 131 | P12: 125 | Q12: 112 | R12: 95 | S12: 87 | T12: 84 | U12: 70 | V12: 85 | W12: 76 | X12: =W12-V12 -> -9
A13: Crest View | B13: 128 | C13: 152 | D13: 117 | E13: 150 | F13: 144 | G13: 114 | H13: 165 | I13: 135 | J13: 123 | K13: 147 | L13: 151 | M13: 123 | N13: 152 | O13: 140 | P13: 128 | Q13: 91 | R13: 100 | S13: 122 | T13: 111 | U13: 124 | V13: 98 | W13: 115 | X13: =W13-V13 -> 17
A14: Douglass | B14: 30 | C14: 29 | D14: 51 | E14: 43 | F14: 54 | G14: 57 | H14: 47 | I14: 47 | J14: 38 | K14: 52 | L14: 46 | M14: 47 | N14: 49 | O14: 45 | P14: 36 | Q14: 44 | R14: 35 | S14: 39 | T14: 33 | U14: 42 | V14: 44 | W14: 41 | X14: =W14-V14 -> -3
A15: Eisenhower | B15: 73 | C15: 71 | D15: 92 | E15: 74 | F15: 100 | G15: 82 | H15: 75 | I15: 76 | J15: 91 | K15: 83 | L15: 84 | M15: 75 | N15: 74 | O15: 67 | P15: 64 | Q15: 56 | R15: 52 | S15: 54 | T15: 71 | U15: 54 | V15: 61 | W15: 61 | X15: =W15-V15 -> 0
A16: Eldorado (K-5) | B16: 79 | C16: 82 | D16: 82 | E16: 79 | F16: 65 | G16: 61 | H16: 58 | I16: 46 | J16: 40 | K16: 41 | L16: 46 | M16: 37 | N16: 29 | O16: 30 | P16: 29 | Q16: 23 | R16: 37 | S16: 28 | T16: 49 | U16: 32 | V16: 27 | W16: 34 | X16: =W16-V16 -> 7
... A34: Whittier | B34: 145 | C34: 133 | D34: 142 | E34: 136 | F34: 115 | G34: 110 | H34: 115 | I34: 105 | J34: 87 | K34: 119 | L34: 115 | M34: 113 | N34: 106 | O34: 104 | P34: 83 | Q34: 84 | R34: 90 | S34: 47 | T34: 83 | U34: 63 | V34: 59 | W34: 56 | X34: =W34-V34 -> -3
A35: Unlocated | B35: 3 | C35: 2 | D35: 3 | E35: 1 | F35: 0 | G35: 0 | H35: 1 | I35: 0 | J35: 0 | K35: 0 | L35: 0 | M35: 0 | N35: 0 | O35: 0 | P35: 0 | Q35: 0 | R35: 0 | S35: 0 | T35: 0 | U35: 0 | V35: 0 | W35: 0
A36: BVSD | B36: =SUM(B5:B35) -> 2329 | C36: =SUM(C5:C35) -> 2260 | D36: =SUM(D5:D35) -> 2221 | E36: =SUM(E5:E35) -> 2113 | F36: 2058 | G36: 2036 | H36: 2012 | I36: 1891 | J36: 1829 | K36: 1956 | L36: 1912 | M36: 1856 | N36: 1878 | O36: 1773 | P36: 1735 | Q36: 1604 | R36: 1583 | S36: 1586 | T36: 1645 | U36: 1575 | V36: =SUM(V5:V35) -> 1524 | W36: =SUM(W5:W35) -> 1587
A37: Boulder Total | B37: =SUM(B8,B11,B12,B13,B15,B19,B20,B22,B28,B34+B6+B7) -> 1027 | C37: =SUM(C8,C11,C12,C13,C15,C19,C20,C22,C28,C34+C6+C7) -> 985 | D37: =SUM(D8,D11,D12,D13,D15,D19,D20,D22,D28,D34+D6+D7) -> 1020 | E37: =SUM(E8,E11,E12,E13,E15,E19,E20,E22,E28,E34+E6+E7) -> 981 | F37: 962 | G37: 939 | H37: 966 | I37: 880 | J37: 840 | K37: 913 | L37: 872 | M37: 825 | N37: 846 | O37: 771 | P37: 758 | Q37: 639 | R37: 605 | S37: 630 | T37: 646 | U37: 592 | V37: =SUM(V8,V11,V12,V13,V15,V19,V20,V22,V28,V34+U1+V7) -> 586 | W37: =SUM(W8,W11,W12,W13,W15,W19,W20,W22,W28,W34+V1+W7) -> 621
A38: E County Total | B38: =SUM(B5,B9,B10,B14,B17,B18,B24,B25,B26,B29,B31,B32,B33+B27) -> 1129 | C38: =SUM(C5,C9,C10,C14,C17,C18,C24,C25,C26,C29,C31,C32,C33+C27) -> 1105 | D38: =SUM(D5,D9,D10,D14,D17,D18,D24,D25,D26,D29,D31,D32,D33+D27) -> 1016 | E38: =SUM(E5,E9,E10,E14,E17,E18,E24,E25,E26,E29,E31,E32,E33+E27) -> 969 | F38: 963 | G38: 967 | H38: 920 | I38: 898 | J38: 890 | K38: 947 | L38: 934 | M38: 936 | N38: 946 | O38: 912 | P38: 888 | Q38: 883 | R38: 890 | S38: 857 | T38: 881 | U38: 893 | V38: =SUM(V5,V9,V10,V14,V17,V18,V24,V25,V26,V29,V31,V32,V33+V27) -> 852 | W38: =SUM(W5,W9,W10,W14,W17,W18,W24,W25,W26,W29,W31,W32,W33+W27) -> 877

Sheet LOAD-Births by Elem
A1: Births By Elementary Attendance Area (source sheet for School-level BtoK calculators)
A2: 45811
B3: <-- STEP 1: COPY and paste all years left to maintain formula in school-level calcular. | Q3: K in 2023 | V3: >STEP 2: Enter new year into Column V
A4: ElemName | B4: 2004 | C4: 2005 | D4: 2006 | E4: 2007 | F4: 2008 | G4: 2009 | H4: 2010 | I4: 2011 | J4: 2012 | K4: 2013 | L4: 2014 | M4: 2015 | N4: 2016 | O4: 2017 | P4: 2018 | Q4: 2019 | R4: 2020 | S4: 2021 | T4: 2022 | U4: 2023 | V4: 2024 | W4: Prev. Ave
A5: Aspen Crk | B5: 57 | C5: 53 | D5: 62 | E5: 52 | F5: 56 | G5: 65 | H5: 56 | I5: 51 | J5: 61 | K5: 67 | L5: 54 | M5: 70 | N5: 61 | O5: 66 | P5: 66 | Q5: 48 | R5: 65 | S5: 57 | T5: 56 | U5: 66 | V5: 64 | W5: =AVERAGE(Q5:V5) -> 59.333333
A6: BC-Creekside | B6: 7 | C6: 6 | D6: 3 | E6: 5 | F6: 6 | G6: 2 | H6: 2 | I6: 2 | J6: 8 | K6: 3 | L6: 4 | M6: 6 | N6: 1 | O6: 4 | P6: 5 | Q6: 3 | R6: 6 | S6: 2 | T6: 2 | U6: 7 | V6: 3 | W6: =AVERAGE(Q6:V6) -> 3.8333333
A7: BC-Mesa | B7: 26 | C7: 26 | D7: 21 | E7: 22 | F7: 27 | G7: 25 | H7: 31 | I7: 24 | J7: 26 | K7: 23 | L7: 25 | M7: 17 | N7: 17 | O7: 16 | P7: 15 | Q7: 8 | R7: 11 | S7: 18 | T7: 22 | U7: 11 | V7: 28 | W7: =AVERAGE(Q7:V7) -> 16.333333
A8: Bear Creek | B8: 14 | C8: 26 | D8: 17 | E8: 23 | F8: 18 | G8: 25 | H8: 31 | I8: 20 | J8: 19 | K8: 25 | L8: 21 | M8: 11 | N8: 12 | O8: 16 | P8: 13 | Q8: 10 | R8: 10 | S8: 10 | T8: 13 | U8: 15 | V8: 17 | W8: =AVERAGE(Q8:V8) -> 12.5
A9: Birch | B9: 58 | C9: 60 | D9: 64 | E9: 52 | F9: 60 | G9: 46 | H9: 56 | I9: 49 | J9: 43 | K9: 65 | L9: 58 | M9: 51 | N9: 55 | O9: 39 | P9: 41 | Q9: 48 | R9: 33 | S9: 34 | T9: 38 | U9: 37 | V9: 40 | W9: =AVERAGE(Q9:V9) -> 38.333333
A10: Coal Creek | B10: 49 | C10: 51 | D10: 72 | E10: 55 | F10: 54 | G10: 68 | H10: 68 | I10: 51 | J10: 66 | K10: 60 | L10: 63 | M10: 48 | N10: 47 | O10: 50 | P10: 43 | Q10: 38 | R10: 37 | S10: 53 | T10: 52 | U10: 20 | V10: 40 | W10: =AVERAGE(Q10:V10) -> 40
A11: Columbine | B11: 175 | C11: 163 | D11: 168 | E11: 157 | F11: 155 | G11: 153 | H11: 135 | I11: 155 | J11: 132 | K11: 129 | L11: 124 | M11: 121 | N11: 123 | O11: 128 | P11: 101 | Q11: 92 | R11: 108 | S11: 105 | T11: 85 | U11: 98 | V11: 99 | W11: =AVERAGE(Q11:V11) -> 97.833333
A12: Creekside | B12: 145 | C12: 166 | D12: 145 | E12: 156 | F12: 176 | G12: 159 | H12: 150 | I12: 130 | J12: 157 | K12: 157 | L12: 131 | M12: 158 | N12: 131 | O12: 125 | P12: 112 | Q12: 95 | R12: 87 | S12: 84 | T12: 70 | U12: 85 | V12: 76 | W12: =AVERAGE(Q12:V12) -> 82.833333
A13: Crest View | B13: 150 | C13: 134 | D13: 115 | E13: 144 | F13: 114 | G13: 165 | H13: 135 | I13: 123 | J13: 147 | K13: 151 | L13: 123 | M13: 152 | N13: 140 | O13: 128 | P13: 91 | Q13: 100 | R13: 122 | S13: 111 | T13: 124 | U13: 98 | V13: 115 | W13: =AVERAGE(Q13:V13) -> 111.66667
A14: Douglass | B14: 43 | C14: 44 | D14: 47 | E14: 54 | F14: 57 | G14: 47 | H14: 47 | I14: 38 | J14: 52 | K14: 46 | L14: 47 | M14: 49 | N14: 45 | O14: 36 | P14: 44 | Q14: 35 | R14: 39 | S14: 33 | T14: 42 | U14: 44 | V14: 41 | W14: =AVERAGE(Q14:V14) -> 39
A15: Eisenhower | B15: 74 | C15: 84 | D15: 81 | E15: 100 | F15: 82 | G15: 75 | H15: 76 | I15: 91 | J15: 83 | K15: 84 | L15: 75 | M15: 74 | N15: 67 | O15: 64 | P15: 56 | Q15: 52 | R15: 54 | S15: 71 | T15: 54 | U15: 61 | V15: 61 | W15: =AVERAGE(Q15:V15) -> 58.833333
A16: Eldorado (K-5) | B16: 79 | C16: 76 | D16: 78 | E16: 65 | F16: 61 | G16: 58 | H16: 46 | I16: 40 | J16: 41 | K16: 46 | L16: 37 | M16: 29 | N16: 30 | O16: 29 | P16: 23 | Q16: 37 | R16: 28 | S16: 49 | T16: 32 | U16: 27 | V16: 34 | W16: =AVERAGE(Q16:V16) -> 34.5
... A35: Unlocated | B35: 1 | C35: 0 | D35: 3 | E35: 0 | F35: 0 | G35: 1 | H35: 0 | I35: 0 | J35: 0 | K35: 0 | L35: 0 | M35: 0 | N35: 0 | O35: 0 | P35: 0 | Q35: 0 | R35: 0 | S35: 0 | T35: 0 | U35: 0 | V35: 0 | W35: =AVERAGE(Q35:V35) -> 0
A36: BVSD | B36: =SUM(B5:B35) -> 2113 | C36: =SUM(C5:C35) -> 2109 | D36: =SUM(D5:D35) -> 2105 | E36: =SUM(E5:E35) -> 2058 | F36: =SUM(F5:F35) -> 2036 | G36: =SUM(G5:G35) -> 2012 | H36: =SUM(H5:H35) -> 1891 | I36: =SUM(I5:I35) -> 1829 | ... V36: =SUM(V5:V35) -> 1587
A37: Boulder Total | B37: =SUM(B8,B11,B12,B13,B15,B19,B20,B22,B28,B34+B6+B7) -> 981 | C37: =SUM(C8,C11,C12,C13,C15,C19,C20,C22,C28,C34+C6+C7) -> 975 | D37: =SUM(D8,D11,D12,D13,D15,D19,D20,D22,D28,D34+D6+D7) -> 920 | E37: =SUM(E8,E11,E12,E13,E15,E19,E20,E22,E28,E34+E6+E7) -> 962 | F37: =SUM(F8,F11,F12,F13,F15,F19,F20,F22,F28,F34+F6+F7) -> 939 | G37: =SUM(G8,G11,G12,G13,G15,G19,G20,G22,G28,G34+G6+G7) -> 966 | H37: =SUM(H8,H11,H12,H13,H15,H19,H20,H22,H28,H34+H6+H7) -> 880 | I37: =SUM(I8,I11,I12,I13,I15,I19,I20,I22,I28,I34+I6+I7) -> 840 | ... T37: =SUM(T8,T11,T12,T13,T15,T19,T20,T22,T28,T34+T6+T7) -> 594 | U37: =SUM(U8,U11,U12,U13,U15,U19,U20,U22,U28,U34+T1+U7) -> 586 | V37: =SUM(V8,V11,V12,V13,V15,V19,V20,V22,V28,V34+U1+V7) -> 621
A38: E County Total | B38: =SUM(B5,B9,B10,B14,B17,B18,B24,B25,B26,B29,B31,B32,B33+B27) -> 969 | C38: =SUM(C5,C9,C10,C14,C17,C18,C24,C25,C26,C29,C31,C32,C33+C27) -> 950 | D38: =SUM(D5,D9,D10,D14,D17,D18,D24,D25,D26,D29,D31,D32,D33+D27) -> 1013 | E38: =SUM(E5,E9,E10,E14,E17,E18,E24,E25,E26,E29,E31,E32,E33+E27) -> 963 | F38: =SUM(F5,F9,F10,F14,F17,F18,F24,F25,F26,F29,F31,F32,F33+F27) -> 967 | G38: =SUM(G5,G9,G10,G14,G17,G18,G24,G25,G26,G29,G31,G32,G33+G27) -> 920 | H38: =SUM(H5,H9,H10,H14,H17,H18,H24,H25,H26,H29,H31,H32,H33+H27) -> 898 | I38: =SUM(I5,I9,I10,I14,I17,I18,I24,I25,I26,I29,I31,I32,I33+I27) -> 890 | ... V38: =SUM(V5,V9,V10,V14,V17,V18,V24,V25,V26,V29,V31,V32,V33+V27) -> 877
B39: formula fields

Sheet LOAD-K and 1 by Elm 
A1: RESIDENT KINDERGARTEN LOAD SHEET
A2: Updated: 6/3/2025
B3: <----copy/paste to the left each year to retain formulas on each shool tab | R3: |<---------for cell reference only--------->|
B4: 2010/11 | C4: 2011/12 | D4: 2012/13 | E4: 2013/14 | F4: 2014/15 | G4: 2015/16 | H4: 2016/17 | I4: 2017/18 | J4: 2018/19 | K4: 2019/20 | L4: 2020/21 | M4: 2021/22 | N4: 2022/23 | O4: 2023/24 | P4: 2024/25 | Q4: 2025/26 | R4: 2026/27 | S4: 2027/28 | T4: 2028/29 | U4: 2029/30 | W4: Perhaps add dual adjustments to a separate worksheet that better shows calculation logic
A5: Aspen Crk | B5: 71 | C5: 84 | D5: 78 | E5: 53 | F5: 69 | G5: 55 | H5: 66 | I5: 67 | J5: 48 | K5: 49 | L5: 46 | M5: 48 | N5: 49 | O5: 46 | P5: 52 | Q5: 49 | W5: Year 1 | X5: Year2 | Y5: Year 3 | Z5: Year 4 | AA5: Year 5 | AB5: Year 6 | AC5: Year 7 | AF5: Year 1 | AG5: Year2 | AH5: Year 3 | AI5: Year 4 | AJ5: Year 5 | AK5: Year 6 | AL5: Year 7
A6: BC-Creekside | B6: 6 | C6: 2 | D6: 9 | E6: 3 | F6: 6 | G6: 3 | H6: 6 | I6: 8 | J6: 2 | K6: 7 | L6: 4 | M6: 3 | N6: 6 | O6: 2 | P6: 6 | Q6: 4 | W6: 2019/20 | X6: 2020/21 | Y6: 2021/22 | Z6: 2022/23 | AA6: 2023/24 | AB6: 2024/25 | AC6: 2025/26 | AD6: AVE | AF6: 2019/20 | AG6: 2020/21 | AH6: 2021/22 | AI6: 2022/23 | AJ6: 2023/24 | AK6: 2024/25 | AL6: 2025/26 | AM6: AVE
A7: BC-Mesa | B7: 36 | C7: 31 | D7: 30 | E7: 35 | F7: 31 | G7: 36 | H7: 30 | I7: 31 | J7: 26 | K7: 24 | L7: 25 | M7: 20 | N7: 33 | O7: 12 | P7: 19 | Q7: 19 | V7: BC-Mesa Attg. Bear Creek | AE7: BC-Mesa Attg. Other School (half)
A8: Bear Creek | B8: 37 | C8: 35 | D8: 35 | E8: 47 | F8: 27 | G8: 44 | H8: 31 | I8: 37 | J8: 32 | K8: 26 | L8: 19 | M8: 30 | N8: 23 | O8: 23 | P8: 22 | Q8: 23 | V8: K | W8: 13 | X8: 11 | Y8: 11 | Z8: 18 | AA8: 2 | AB8: 12 | AC8: 8 | AE8: 6 | AF8: =ROUND((K7-(W8+W28))*0.5,0) -> 3 | AG8: =ROUND((L7-(X8+X28))*0.5,0) -> 3 | AH8: =ROUND((M7-(Y8+Y28))*0.5,0) -> 2 | AI8: =ROUND((N7-(Z8+Z28))*0.5,0) -> 5 | AJ8: =ROUND((O7-(AA8+AA28))*0.5,0) -> 2 | AK8: =ROUND((P7-(AB8+AB28))*0.5,0) -> 2 | AL8: =ROUND((Q7-(AC8+AC28))*0.5,0) -> 3
A9: Birch | B9: 56 | C9: 56 | D9: 46 | E9: 54 | F9: 54 | G9: 53 | H9: 58 | I9: 59 | J9: 61 | K9: 51 | L9: 37 | M9: 50 | N9: 48 | O9: 33 | P9: 51 | Q9: 35 | V9: K % of BC-Mesa | W9: =W8/K7 -> 0.54166667 | X9: =X8/L7 -> 0.44 | Y9: =Y8/M7 -> 0.55 | Z9: =Z8/N7 -> 0.54545455 | AA9: =AA8/O7 -> 0.16666667 | AB9: =AB8/P7 -> 0.63157895 | AC9: =AC8/Q7 -> 0.42105263 | AD9: =AVERAGE(W9:AC9) -> 0.47091707 | AF9: =AF8/K7 -> 0.125 | AH9: =AH8/M7 -> 0.1 | AI9: =AI8/N7 -> 0.15151515 | AJ9: =AJ8/O7 -> 0.16666667 | AK9: =AK8/P7 -> 0.10526316 | AL9: =AL8/Q7 -> 0.15789474 | AM9: =AVERAGE(AF9:AL9) -> 0.13438995
A10: Coal Creek | B10: 74 | C10: 70 | D10: 77 | E10: 62 | F10: 62 | G10: 68 | H10: 72 | I10: 58 | J10: 75 | K10: 55 | L10: 54 | M10: 66 | N10: 44 | O10: 41 | P10: 47 | Q10: 40 | W10: or better yet, put in BC-Mesa tab
A11: Columbine | B11: 110 | C11: 124 | D11: 111 | E11: 120 | F11: 103 | G11: 122 | H11: 105 | I11: 103 | J11: 87 | K11: 100 | L11: 98 | M11: 88 | N11: 92 | O11: 89 | P11: 86 | Q11: 79
A12: Creekside | B12: 95 | C12: 97 | D12: 91 | E12: 98 | F12: 93 | G12: 91 | H12: 94 | I12: 81 | J12: 93 | K12: 101 | L12: 80 | M12: 74 | N12: 82 | O12: 69 | P12: 68 | Q12: 59
A13: Crest View | B13: 148 | C13: 133 | D13: 124 | E13: 117 | F13: 119 | G13: 129 | H13: 141 | I13: 120 | J13: 132 | K13: 124 | L13: 88 | M13: 122 | N13: 118 | O13: 86 | P13: 90 | Q13: 115
A14: Douglass | B14: 59 | C14: 55 | D14: 69 | E14: 66 | F14: 61 | G14: 66 | H14: 43 | I14: 59 | J14: 39 | K14: 51 | L14: 33 | M14: 42 | N14: 39 | O14: 35 | P14: 38 | Q14: 40
A15: Eisenhower | B15: 93 | C15: 67 | D15: 62 | E15: 83 | F15: 70 | G15: 62 | H15: 78 | I15: 60 | J15: 69 | K15: 71 | L15: 54 | M15: 57 | N15: 51 | O15: 57 | P15: 51 | Q15: 51
A16: Eldorado (K-5) | B16: 98 | C16: 89 | D16: 84 | E16: 79 | F16: 59 | G16: 56 | H16: 44 | I16: 44 | J16: 46 | K16: 33 | L16: 34 | M16: 44 | N16: 38 | O16: 27 | P16: 31 | Q16: 34
A17: Emerald | B17: 56 | C17: 67 | D17: 44 | E17: 66 | F17: 75 | G17: 62 | H17: 64 | I17: 64 | J17: 69 | K17: 67 | L17: 63 | M17: 51 | N17: 62 | O17: 43 | P17: 64 | Q17: 56
A18: Fireside | B18: 52 | C18: 68 | D18: 49 | E18: 59 | F18: 52 | G18: 59 | H18: 74 | I18: 57 | J18: 54 | K18: 67 | L18: 48 | M18: 54 | N18: 50 | O18: 41 | P18: 43 | Q18: 47
A19: Flatirons | B19: 45 | C19: 54 | D19: 47 | E19: 43 | F19: 35 | G19: 40 | H19: 36 | I19: 47 | J19: 31 | K19: 37 | L19: 25 | M19: 30 | N19: 37 | O19: 32 | P19: 29 | Q19: 29
A20: Foothill | B20: 94 | C20: 112 | D20: 107 | E20: 110 | F20: 89 | G20: 97 | H20: 87 | I20: 92 | J20: 68 | K20: 74 | L20: 62 | M20: 69 | N20: 68 | O20: 63 | P20: 50 | Q20: 55
A21: Gold Hill | B21: 2 | C21: 1 | D21: 2 | E21: 0 | F21: 2 | G21: 0 | H21: 4 | I21: 2 | J21: 1 | K21: 0 | L21: 1 | M21: 3 | N21: 2 | O21: 1 | P21: 0 | Q21: 3
A22: Heatherwood | B22: 56 | C22: 62 | D22: 65 | E22: 45 | F22: 64 | G22: 53 | H22: 62 | I22: 55 | J22: 50 | K22: 49 | L22: 50 | M22: 49 | N22: 32 | O22: 48 | P22: 47 | Q22: 35
... A24: Kohl | B24: 49 | C24: 52 | D24: 44 | E24: 53 | F24: 66 | G24: 51 | H24: 56 | I24: 50 | J24: 52 | K24: 41 | L24: 34 | M24: 46 | N24: 41 | O24: 34 | P24: 37 | Q24: 58
A25: Lafayette* | B25: 101 | C25: 111 | D25: 110 | E25: 97 | F25: 110 | G25: 88 | H25: 116 | I25: 103 | J25: 93 | K25: 108 | L25: 90 | M25: 108 | N25: 90 | O25: 85 | P25: 100 | Q25: 92 | W25: Year 1 | X25: Year2 | Y25: Year 3 | Z25: Year 4 | AA25: Year 5 | AB25: Year 6 | AC25: Year 7 | AF25: Year 1 | AG25: Year2 | AH25: Year 3 | AI25: Year 4 | AJ25: Year 5 | AK25: Year 6 | AL25: Year 7
A26: Louisville | B26: 72 | C26: 85 | D26: 85 | E26: 94 | F26: 96 | G26: 109 | H26: 96 | I26: 90 | J26: 88 | K26: 86 | L26: 61 | M26: 85 | N26: 59 | O26: 68 | P26: 59 | Q26: 54 | W26: 2019/20 | X26: 2020/21 | Y26: 2021/22 | Z26: 2022/23 | AA26: 2023/24 | AB26: 2024/25 | AC26: 2025/26 | AD26: AVE | AF26: 2019/20 | AG26: 2020/21 | AH26: 2021/22 | AI26: 2022/23 | AJ26: 2023/24 | AK26: 2024/25 | AL26: 2025/26 | AM26: AVE
A27: Meadowlark | B27: 53 | C27: 41 | D27: 31 | E27: 46 | F27: 42 | G27: 37 | H27: 47 | I27: 60 | J27: 91 | K27: 102 | L27: 74 | M27: 97 | N27: 95 | O27: 95 | P27: 112 | Q27: 91 | V27: BC-Mesa Attg. Mesa | AE27: BC-Mesa Attg. Other School (half)
A28: Mesa | B28: 38 | C28: 41 | D28: 30 | E28: 34 | F28: 38 | G28: 33 | H28: 28 | I28: 28 | J28: 31 | K28: 30 | L28: 25 | M28: 27 | N28: 24 | O28: 25 | P28: 25 | Q28: 24 | V28: K | W28: 5 | X28: 8 | Y28: 5 | Z28: 6 | AA28: 6 | AB28: 4 | AC28: 6 | AE28: 6 | AF28: =ROUND((K7-(W8+W28))*0.5,0) -> 3 | AG28: =ROUND((L7-(X8+X28))*0.5,0) -> 3 | AH28: =ROUND((M7-(Y8+Y28))*0.5,0) -> 2 | AI28: =ROUND((N7-(Z8+Z28))*0.5,0) -> 5 | AJ28: =ROUND((O7-(AA8+AA28))*0.5,0) -> 2 | AK28: =ROUND((P7-(AB8+AB28))*0.5,0) -> 2 | AL28: =ROUND((Q7-(AC8+AC28))*0.5,0) -> 3
A29: Monarch (K-5) | B29: 37 | C29: 40 | D29: 60 | E29: 60 | F29: 65 | G29: 44 | H29: 42 | I29: 48 | J29: 39 | K29: 55 | L29: 34 | M29: 31 | N29: 39 | O29: 38 | P29: 45 | Q29: 64 | V29: K % of BC-Mesa | W29: =W28/K8 -> 0.19230769 | X29: =X28/L8 -> 0.42105263 | Y29: =Y28/M8 -> 0.16666667 | Z29: =Z28/N8 -> 0.26086957 | AA29: =AA28/O8 -> 0.26086957 | AB29: =AB28/P8 -> 0.18181818 | AC29: =AC28/Q8 -> 0.26086957 | AD29: =AVERAGE(W29:AC29) -> 0.2492077 | AF29: =AF8/K7 -> 0.125 | AG29: =AG8/L7 -> 0.12 | AH29: =AH8/M7 -> 0.1 | AI29: =AI8/N7 -> 0.15151515 | AJ29: =AJ8/O7 -> 0.16666667 | AK29: =AK8/P7 -> 0.10526316 | AL29: =AL8/Q7 -> 0.15789474 | AM29: =AVERAGE(AF29:AL29) -> 0.13233424
A30: Nederland | B30: 55 | C30: 52 | D30: 59 | E30: 37 | F30: 44 | G30: 51 | H30: 37 | I30: 44 | J30: 38 | K30: 36 | L30: 26 | M30: 38 | N30: 24 | O30: 29 | P30: 38 | Q30: 28
A31: Ryan | B31: 79 | C31: 87 | D31: 101 | E31: 86 | F31: 94 | G31: 87 | H31: 70 | I31: 112 | J31: 106 | K31: 129 | L31: 85 | M31: 123 | N31: 107 | O31: 106 | P31: 84 | Q31: 81
A32: Sanchez | B32: 96 | C32: 105 | D32: 108 | E32: 99 | F32: 99 | G32: 101 | H32: 117 | I32: 124 | J32: 99 | K32: 99 | L32: 86 | M32: 90 | N32: 101 | O32: 86 | P32: 91 | Q32: 106
A33: Superior | B33: 83 | C33: 75 | D33: 70 | E33: 65 | F33: 48 | G33: 66 | H33: 75 | I33: 57 | J33: 57 | K33: 57 | L33: 62 | M33: 50 | N33: 60 | O33: 66 | P33: 39 | Q33: 54
A34: Whittier | B34: 85 | C34: 86 | D34: 92 | E34: 94 | F34: 93 | G34: 89 | H34: 73 | I34: 61 | J34: 77 | K34: 59 | L34: 49 | M34: 50 | N34: 46 | O34: 49 | P34: 56 | Q34: 42
A35: BVSD | B35: =SUM(B5:B34) -> 1938 | C35: =SUM(C5:C34) -> 1987 | D35: =SUM(D5:D34) -> 1923 | E35: =SUM(E5:E34) -> 1906 | F35: =SUM(F5:F34) -> 1868 | G35: =SUM(G5:G34) -> 1853 | H35: =SUM(H5:H34) -> 1854 | I35: =SUM(I5:I34) -> 1822 | ... Q35: =SUM(Q5:Q34) -> 1468
A36: Unknown | Q36: 3
A37: *All years adjusted to exclude students in the 2017 Meadowlark boundary
A39: RESIDENT 1st GRADE LOAD SHEET
B41: <----copy/paste to the left each year to retain formulas on each shool tab | R41: |<---------for cell reference only--------->|
B42: 2010/11 | C42: 2011/12 | D42: 2012/13 | E42: 2013/14 | F42: 2014/15 | G42: 2015/16 | H42: 2016/17 | I42: 2017/18 | J42: 2018/19 | K42: 2019/20 | L42: 2020/21 | M42: 2021/22 | N42: 2022/23 | O42: 2023/24 | P42: 2024/25 | Q42: 2025/26 | R42: 2027/28 | S42: 2028/29 | T42: 2029/30 | U42: 2030/31
B43: 76 | C43: 72 | D43: 90 | E43: 79 | F43: 59 | G43: 76 | H43: 60 | I43: 80 | J43: 72 | K43: 52 | L43: 41 | M43: 50 | N43: 48 | O43: 47 | P43: 46 | Q43: 52
...

Sheet EXPORT TABLE-Births to K Est.
B2: Export Birth to Kindergarten Estimates Table
B3: For populating "LOAD TABLE-Birth to K Est." in Projeciton Worksheets
C5: Year 0 | D5: Year +1 | E5: Year +2 | F5: Year +3 | G5: Year +4
C6: 2025/26 | D6: 2027/28 | E6: 2028/29 | F6: 2029/30 | G6: 2030/31
B7: ELEMENTARY
B8: Aspen Creek (K-5)
B9: Resident Estimate
B10: Basis A | C10: ='Aspen Crk'!R45 -> 49 | D10: ='Aspen Crk'!S45 -> 49.245724 | E10: ='Aspen Crk'!T45 -> 46.547303 | F10: ='Aspen Crk'!U45 -> 51.869862 | G10: ='Aspen Crk'!V45 -> 51.683904
B11: Basis B | C11: ='Aspen Crk'!R46 -> 49 | D11: ='Aspen Crk'!S46 -> 47.419255 | E11: ='Aspen Crk'!T46 -> 44.820916 | F11: ='Aspen Crk'!U46 -> 49.946067 | G11: ='Aspen Crk'!V46 -> 51.444626
B12: Basis C | C12: ='Aspen Crk'!R47 -> 49 | D12: ='Aspen Crk'!S47 -> 49.747029 | E12: ='Aspen Crk'!T47 -> 50.505447 | F12: ='Aspen Crk'!U47 -> 51.275428 | G12: ='Aspen Crk'!V47 -> 52.057147
B13: Enrolled Estimate
B14: Basis A | C14: ='Aspen Crk'!R58 -> 67 | D14: ='Aspen Crk'!S58 -> 61.845724 | E14: ='Aspen Crk'!T58 -> 59.147303 | F14: ='Aspen Crk'!U58 -> 64.469862 | G14: ='Aspen Crk'!V58 -> 64.283904
B15: Basis B | C15: ='Aspen Crk'!R59 -> 67 | D15: ='Aspen Crk'!S59 -> 60.019255 | E15: ='Aspen Crk'!T59 -> 57.420916 | F15: ='Aspen Crk'!U59 -> 62.546067 | G15: ='Aspen Crk'!V59 -> 64.044626
B16: Basis C | C16: ='Aspen Crk'!R60 -> 67 | D16: ='Aspen Crk'!S60 -> 62.347029 | E16: ='Aspen Crk'!T60 -> 63.105447 | F16: ='Aspen Crk'!U60 -> 63.875428 | G16: ='Aspen Crk'!V60 -> 64.657147
B18: Bear Creek
B19: Resident Estimate
B20: Basis A | C20: ='Bear Creek'!R45 -> 38 | D20: ='Bear Creek'!S45 -> 31.498221 | E20: ='Bear Creek'!T45 -> 45.178428 | F20: ='Bear Creek'!U45 -> 54.14662 | G20: ='Bear Creek'!V45 -> 64.992112
B21: Basis B | C21: ='Bear Creek'!R46 -> 38 | D21: ='Bear Creek'!S46 -> 26.375072 | E21: ='Bear Creek'!T46 -> 37.83021 | F21: ='Bear Creek'!U46 -> 45.339736 | G21: ='Bear Creek'!V46 -> 54.421222
B22: Basis C | C22: ='Bear Creek'!R47 -> 38 | D22: ='Bear Creek'!S47 -> 40.336776 | E22: ='Bear Creek'!T47 -> 42.817251 | F22: ='Bear Creek'!U47 -> 45.45026 | G22: ='Bear Creek'!V47 -> 48.245183
B23: Enrolled Estimate
B24: Basis A | C24: ='Bear Creek'!R58 -> 48 | D24: ='Bear Creek'!S58 -> 38.498221 | E24: ='Bear Creek'!T58 -> 52.178428 | F24: ='Bear Creek'!U58 -> 61.14662 | G24: ='Bear Creek'!V58 -> 71.992112
B25: Basis B | C25: ='Bear Creek'!R59 -> 48 | D25: ='Bear Creek'!S59 -> 33.375072 | E25: ='Bear Creek'!T59 -> 44.83021 | F25: ='Bear Creek'!U59 -> 52.339736 | G25: ='Bear Creek'!V59 -> 61.421222
B26: Basis C | C26: ='Bear Creek'!R60 -> 48 | D26: ='Bear Creek'!S60 -> 47.336776 | E26: ='Bear Creek'!T60 -> 49.817251 | F26: ='Bear Creek'!U60 -> 52.45026 | G26: ='Bear Creek'!V60 -> 55.245183
B28: BC-Mesa
B29: Resident Estimate
B30: Basis A | C30: ='BC-Mesa'!R45 -> 19 | D30: ='BC-Mesa'!S45 -> 29.914206 | E30: ='BC-Mesa'!T45 -> 39.364393 | F30: ='BC-Mesa'!U45 -> 27.67982 | G30: ='BC-Mesa'!V45 -> 42.773642
B31: Basis B | C31: ='BC-Mesa'!R46 -> 19 | D31: ='BC-Mesa'!S46 -> 24.379617 | E31: ='BC-Mesa'!T46 -> 32.081374 | F31: ='BC-Mesa'!U46 -> 22.558627 | G31: ='BC-Mesa'!V46 -> 34.85986
B32: Basis C | C32: ='BC-Mesa'!R47 -> 19 | D32: ='BC-Mesa'!S47 -> 24.409353 | E32: ='BC-Mesa'!T47 -> 31.358763 | F32: ='BC-Mesa'!U47 -> 40.286691 | G32: ='BC-Mesa'!V47 -> 51.756423
B33: Enrolled Estimate
B34: Basis A | C34: ='BC-Mesa'!R54+'BC-Mesa'!R55 -> 15.01 | D34: ='BC-Mesa'!S54+'BC-Mesa'!S55 -> 23.632222 | E34: ='BC-Mesa'!T54+'BC-Mesa'!T55 -> 31.09787 | F34: ='BC-Mesa'!U54+'BC-Mesa'!U55 -> 21.867058 | G34: ='BC-Mesa'!V54+'BC-Mesa'!V55 -> 33.791177
B35: Basis B | C35: ='BC-Mesa'!R55+'BC-Mesa'!R56 -> 4.37 | D35: ='BC-Mesa'!S55+'BC-Mesa'!S56 -> 6.8802673 | E35: ='BC-Mesa'!T55+'BC-Mesa'!T56 -> 9.0538104 | F35: ='BC-Mesa'!U55+'BC-Mesa'!U56 -> 6.3663586 | G35: ='BC-Mesa'!V55+'BC-Mesa'!V56 -> 9.8379377
B36: Basis C | C36: ='BC-Mesa'!R56+'BC-Mesa'!R57 -> 10.64 | D36: ='BC-Mesa'!S56+'BC-Mesa'!S57 -> 13.669238 | E36: ='BC-Mesa'!T56+'BC-Mesa'!T57 -> 17.965569 | F36: ='BC-Mesa'!U56+'BC-Mesa'!U57 -> 12.632831 | G36: ='BC-Mesa'!V56+'BC-Mesa'!V57 -> 19.521521
B38: Birch
B39: Resident Estimate
B40: Basis A | C40: =Birch!R45 -> 35 | D40: =Birch!S45 -> 31.203312 | E40: =Birch!T45 -> 34.01007 | F40: =Birch!U45 -> 34.582664 | G40: =Birch!V45 -> 34.281391
B41: Basis B | C41: =Birch!R46 -> 35 | D41: =Birch!S46 -> 33.185854 | E41: =Birch!T46 -> 36.170942 | F41: =Birch!U46 -> 36.779917 | G41: =Birch!V46 -> 38.460691
B42: Basis C | C42: =Birch!R47 -> 35 | D42: =Birch!S47 -> 34.908984 | E42: =Birch!T47 -> 34.818205 | F42: =Birch!U47 -> 34.727661 | G42: =Birch!V47 -> 34.637354
B43: Enrolled Estimate
B44: Basis A | C44: =Birch!R58 -> 38 | D44: =Birch!S58 -> 34.203312 | E44: =Birch!T58 -> 37.01007 | F44: =Birch!U58 -> 37.582664 | G44: =Birch!V58 -> 37.281391
B45: Basis B | C45: =Birch!R59 -> 38 | D45: =Birch!S59 -> 36.185854 | E45: =Birch!T59 -> 39.170942 | F45: =Birch!U59 -> 39.779917 | G45: =Birch!V59 -> 41.460691
...

Sheet BVSD Trend
A1: BVSD Birth Trends | C1: (source: Colorado Department of Health and Environment)
A2: Total Fertility Rate 2010/2020: 1.4/1.0
A3: Birth by Age of Mother (%) | D3: 15-19 | E3: 20-24 | F3: 25-29 | G3: 30-34 | H3: 35-39 | I3: 40-44 | J3: 45+ | N3: 15-19 | O3: 20-24 | P3: 25-29 | Q3: 30-34 | R3: 35-39 | S3: 40-44 | T3: 45+
C4: 2000 | D4: 0.05 | E4: 0.12 | F4: 0.22 | G4: 0.33 | H4: 0.22 | I4: 0.06 | J4: 0
C5: 2010 | D5: 0.03 | E5: 0.09 | F5: 0.21 | G5: 0.36 | H5: 0.24 | I5: 0.06 | J5: 0.005
C6: 2022 | D6: 0.018412698 | E6: 0.062857143 | F6: 0.15047619 | G6: 0.37396825 | H6: 0.31492063 | I6: 0.074285714 | J6: 0.0050793651 | M6: 2022 | N6: 29 | O6: 99 | P6: 237 | Q6: 589 | R6: 496 | S6: 117 | T6: 8 | U6: =SUM(N6:T6) -> 1575
N7: =N6/1575 -> 0.018412698 | O7: =O6/1575 -> 0.062857143 | P7: =P6/1575 -> 0.15047619 | Q7: =Q6/1575 -> 0.37396825 | R7: =R6/1575 -> 0.31492063 | S7: =S6/1575 -> 0.074285714 | T7: =T6/1575 -> 0.0050793651
A25: Community Birth Trends
A26: Total Fertility Rate 2010: 1.8 (East)/1.2 (Boulder) | N26: 2021
A27: Birth by Age of Mother (%) | D27: 15-19 | E27: 20-24 | F27: 25-29 | G27: 30-34 | H27: 35-39 | I27: 40-44 | J27: 45-49 | N27: 15-19 | O27: 20-24 | P27: 25-29 | Q27: 30-34 | R27: 35-39 | S27: 40-44* | T27: 45-49
C28: Boulder 2022 | D28: 0.023608769 | E28: 0.064080944 | F28: 0.1079258 | G28: 0.36424958 | H28: 0.33895447 | I28: 0.091062395 | J28: 0.010118044 | M28: Boulder | N28: 14 | O28: 38 | P28: 64 | Q28: 216 | R28: 201 | S28: 54 | T28: 6 | U28: 593
C29: Eastern Communities 2022 | D29: 0.015274949 | E29: 0.062118126 | F29: 0.17617108 | G29: 0.37983707 | H29: 0.30040733 | I29: 0.064154786 | J29: 0.0020366599 | M29: East | N29: =N6-N28 -> 15 | O29: =O6-O28 -> 61 | P29: =P6-P28 -> 173 | Q29: =Q6-Q28 -> 373 | R29: =R6-R28 -> 295 | S29: =S6-S28 -> 63 | T29: =T6-T28 -> 2 | U29: =SUM(N29:T29) -> 982
N30: =N28/593 -> 0.023608769 | O30: =O28/593 -> 0.064080944 | P30: =P28/593 -> 0.1079258 | Q30: =Q28/593 -> 0.36424958 | R30: =R28/593 -> 0.33895447 | S30: =S28/593 -> 0.091062395 | T30: =T28/593 -> 0.010118044 | U30: =SUM(U28:U29) -> 1575 | V30: >no mountains
N31: =N29/982 -> 0.015274949 | O31: =O29/982 -> 0.062118126 | P31: =P29/982 -> 0.17617108 | Q31: =Q29/982 -> 0.37983707 | R31: =R29/982 -> 0.30040733 | S31: =S29/982 -> 0.064154786 | T31: =T29/982 -> 0.0020366599

Sheet BVSD Birth to K
B1: BVSD Birth/Kindergarten Population Correlation Worksheet
B2: updated 11/21/2025
B5: INPUT 1: KINDERGARTEN RESIDENT STUDENTS (entry formula from "Res K-1 Load Sheet" tab) | R5: Current Year
B6: Grade | C6: ='LOAD-K and 1 by Elm '!B4 -> 2010/11 | D6: ='LOAD-K and 1 by Elm '!C4 -> 2011/12 | E6: ='LOAD-K and 1 by Elm '!D4 -> 2012/13 | F6: ='LOAD-K and 1 by Elm '!E4 -> 2013/14 | G6: ='LOAD-K and 1 by Elm '!F4 -> 2014/15 | H6: ='LOAD-K and 1 by Elm '!G4 -> 2015/16 | I6: ='LOAD-K and 1 by Elm '!H4 -> 2016/17 | J6: ='LOAD-K and 1 by Elm '!I4 -> 2017/18 | ... R6: ='LOAD-K and 1 by Elm '!Q4 -> 2025/26 | S6: 2026/27 | T6: 2027/28 | U6: 2028/29 | V6: 2029/30
B7: K (resident) | C7: ='LOAD-K and 1 by Elm '!B35 -> 1938 | D7: ='LOAD-K and 1 by Elm '!C35 -> 1987 | E7: ='LOAD-K and 1 by Elm '!D35 -> 1923 | F7: ='LOAD-K and 1 by Elm '!E35 -> 1906 | G7: ='LOAD-K and 1 by Elm '!F35 -> 1868 | H7: ='LOAD-K and 1 by Elm '!G35 -> 1853 | I7: ='LOAD-K and 1 by Elm '!H35 -> 1854 | J7: ='LOAD-K and 1 by Elm '!I35 -> 1822 | ... Q7: ='LOAD-K and 1 by Elm '!P35 -> 1482 | R7: 1470
B8: K (enrolled) | C8: ='LOAD-K and 1 by Elm '!B119 -> 0 | D8: 2060 | E8: 2029 | F8: 2113 | G8: 2017 | H8: 2021 | I8: 1969 | J8: 1964 | K8: ='LOAD-K and 1 by Elm '!J119 -> 1860 | L8: ='LOAD-K and 1 by Elm '!K119 -> 1894 | M8: ='LOAD-K and 1 by Elm '!L119 -> 1523 | N8: ='LOAD-K and 1 by Elm '!M119 -> 1729 | O8: ='LOAD-K and 1 by Elm '!N119 -> 1658 | P8: ='LOAD-K and 1 by Elm '!O119 -> 1461 | Q8: ='LOAD-K and 1 by Elm '!P119 -> 1609 | R8: 1626
B9: 1st (resident) | C9: ='LOAD-K and 1 by Elm '!B73 -> 2015 | D9: ='LOAD-K and 1 by Elm '!C73 -> 2041 | E9: ='LOAD-K and 1 by Elm '!D73 -> 2021 | F9: ='LOAD-K and 1 by Elm '!E73 -> 2041 | G9: ='LOAD-K and 1 by Elm '!F73 -> 2089 | H9: ='LOAD-K and 1 by Elm '!G73 -> 2008 | I9: ='LOAD-K and 1 by Elm '!H73 -> 1976 | J9: ='LOAD-K and 1 by Elm '!I73 -> 1997 | ... Q9: ='LOAD-K and 1 by Elm '!P73 -> 1484 | R9: 1457
B10: K Change | D10: =D7-C7 -> 49 | E10: =E7-D7 -> -64 | F10: =F7-E7 -> -17 | G10: =G7-F7 -> -38 | H10: =H7-G7 -> -15 | I10: =I7-H7 -> 1 | J10: =J7-I7 -> -32 | K10: =K7-J7 -> -65 | ... R10: =R7-Q7 -> -12
B11: % K change | D11: =D10/C7 -> 0.025283798 | E11: =E10/D7 -> -0.032209361 | F11: =F10/E7 -> -0.0088403536 | G11: =G10/F7 -> -0.019937041 | H11: =H10/G7 -> -0.0080299786 | I11: =I10/H7 -> 0.00053966541 | J11: =J10/I7 -> -0.017259978 | K11: =K10/J7 -> -0.035675082 | ... R11: =R10/Q7 -> -0.008097166
C12: 2019 | D12: 2001 | E12: 2033 | F12: 2015 | G12: 2041 | H12: 2021 | I12: 2041 | J12: 2089 | K12: 2008 | L12: 1976 | M12: 1997 | N12: 1957 | O12: 1858 | P12: 1725 | Q12: 1642 | R12: 1693
B13: INPUT 2: BIRTH COHORT FOR EACH KINDERGAREN CLASS (born 5 and 6 prior - (entry formula from "Births by Elem. (Load)" tab)
B14: Births 5 Years Prior
B15: Birth Year | C15: ='LOAD-Births by Elem'!C4 -> 2005 | D15: ='LOAD-Births by Elem'!D4 -> 2006 | E15: ='LOAD-Births by Elem'!E4 -> 2007 | F15: ='LOAD-Births by Elem'!F4 -> 2008 | G15: ='LOAD-Births by Elem'!G4 -> 2009 | H15: ='LOAD-Births by Elem'!H4 -> 2010 | I15: ='LOAD-Births by Elem'!I4 -> 2011 | J15: ='LOAD-Births by Elem'!J4 -> 2012 | ... V15: ='LOAD-Births by Elem'!V4 -> 2024
B16: No. of Births | C16: ='LOAD-Births by Elem'!C36 -> 2109 | D16: ='LOAD-Births by Elem'!D36 -> 2105 | E16: ='LOAD-Births by Elem'!E36 -> 2058 | F16: ='LOAD-Births by Elem'!F36 -> 2036 | G16: ='LOAD-Births by Elem'!G36 -> 2012 | H16: ='LOAD-Births by Elem'!H36 -> 1891 | I16: ='LOAD-Births by Elem'!I36 -> 1829 | J16: ='LOAD-Births by Elem'!J36 -> 1956 | ... V16: ='LOAD-Births by Elem'!V36 -> 1587
B17: Births to K % | C17: =C7/C16 -> 0.91891892 | D17: =D7/D16 -> 0.94394299 | E17: =E7/E16 -> 0.93440233 | F17: =F7/F16 -> 0.93614931 | G17: =G7/G16 -> 0.92842942 | H17: =H7/H16 -> 0.97990481 | I17: =I7/I16 -> 1.0136687 | J17: =J7/J16 -> 0.93149284 | ... R17: =R7/R16 -> 0.92686003
B18: Births 6 Years Prior
B19: Birth Year | C19: ='LOAD-Births by Elem'!B4 -> 2004 | D19: ='LOAD-Births by Elem'!C4 -> 2005 | E19: ='LOAD-Births by Elem'!D4 -> 2006 | F19: ='LOAD-Births by Elem'!E4 -> 2007 | G19: ='LOAD-Births by Elem'!F4 -> 2008 | H19: ='LOAD-Births by Elem'!G4 -> 2009 | I19: ='LOAD-Births by Elem'!H4 -> 2010 | J19: ='LOAD-Births by Elem'!I4 -> 2011 | ... V19: ='LOAD-Births by Elem'!U4 -> 2023
B20: No. of Births | C20: ='LOAD-Births by Elem'!B36 -> 2113 | D20: ='LOAD-Births by Elem'!C36 -> 2109 | E20: ='LOAD-Births by Elem'!D36 -> 2105 | F20: ='LOAD-Births by Elem'!E36 -> 2058 | G20: ='LOAD-Births by Elem'!F36 -> 2036 | H20: ='LOAD-Births by Elem'!G36 -> 2012 | I20: ='LOAD-Births by Elem'!H36 -> 1891 | J20: ='LOAD-Births by Elem'!I36 -> 1829 | ... V20: ='LOAD-Births by Elem'!U36 -> 1524
B21: Births to K % | C21: =C7/C20 -> 0.91717937 | D21: =D7/D20 -> 0.94215268 | E21: =E7/E20 -> 0.91353919 | F21: =F7/F20 -> 0.92614189 | G21: =G7/G20 -> 0.91748527 | H21: =H7/H20 -> 0.92097416 | I21: =I7/I20 -> 0.98043363 | J21: =J7/J20 -> 0.99617277 | ... Q21: =Q7/Q20 -> 0.92394015 | R21: 0.72727273
B23: INPUT 3: PROPORTION OF KINDERGARTENERS BORN 5 and 6 YEARS PRIOR (Hand entered - based on D.O.B. in student file) -MANUALLY SHIFT ONE YEAR TO THE LEFT EACH YEAR
B24: adj. Yr. Manually> | C24: 2010/11 | D24: 2011/12 | E24: 2012/13 | F24: 2013/14 | G24: 2014/15 | H24: 2015/16 | I24: 2016/17 | J24: 2017/18 | K24: 2018/19 | L24: 2019/20 | M24: 2020/21 | N24: 2021/22 | O24: 2022/23 | P24: 2023/24 | Q24: 2024/25 | R24: 2025/26 | S24: 2026/27 | T24: 2027/28 | U24: 2028/29 | V24: 2029/30
B25: DOB 5-Yr Prior | C25: 1356 | D25: 1376 | E25: 1322 | F25: 1292 | G25: 1353 | H25: 1246 | I25: 1269 | J25: 1245 | K25: 1179 | L25: 1175 | M25: 945 | N25: 1147 | O25: 1041 | P25: 943 | Q25: 1020 | R25: 0
B26: % of Res. K | C26: =C25/C7 -> 0.6996904 | D26: =D25/D7 -> 0.69250126 | E26: =E25/E7 -> 0.6874675 | F26: =F25/F7 -> 0.67785939 | G26: =G25/G7 -> 0.72430407 | H26: =H25/H7 -> 0.6724231 | I26: =I25/I7 -> 0.68446602 | J26: =J25/J7 -> 0.68331504 | ... Q26: =Q25/Q7 -> 0.68825911 | R26: =AVERAGE(M26:Q26) -> 0.67255448 | S26: =AVERAGE(N26:R26) -> 0.67654051 | T26: =S26 -> 0.67654051 | U26: =T26 -> 0.67654051 | V26: =U26 -> 0.67654051
B27: DOB 6-Yr Prior | C27: 629 | D27: 618 | E27: 604 | F27: 605 | G27: 516 | H27: 607 | I27: 583 | J27: 578 | K27: 577 | L27: 614 | M27: 478 | N27: 507 | O27: 521 | P27: 490 | Q27: 459 | R27: 0
B28: % of Res. K | C28: =C27/C7 -> 0.3245614 | D28: =D27/D7 -> 0.31102164 | E28: =E27/E7 -> 0.31409256 | F28: =F27/F7 -> 0.31741868 | G28: =G27/G7 -> 0.27623126 | H28: =H27/H7 -> 0.3275769 | I28: =I27/I7 -> 0.31445523 | J28: =J27/J7 -> 0.31723381 | ... Q28: =Q27/Q7 -> 0.3097166 | R28: =AVERAGE(M28:Q28) -> 0.32473536 | S28: =AVERAGE(N28:R28) -> 0.32366033 | T28: =S28 -> 0.32366033 | U28: =T28 -> 0.32366033 | V28: =U28 -> 0.32366033
B30: CALCULATION: ADJUSTED BIRTH CLASS (based on proportion of birth 5 & 6 years prior to K class)
B31: Birth Year Range: | C31: =C19&" "&"to"&" "&C15 -> 2004 to 2005 | D31: =D19&" "&"to"&" "&D15 -> 2005 to 2006 | E31: =E19&" "&"to"&" "&E15 -> 2006 to 2007 | F31: =F19&" "&"to"&" "&F15 -> 2007 to 2008 | G31: =G19&" "&"to"&" "&G15 -> 2008 to 2009 | H31: =H19&" "&"to"&" "&H15 -> 2009 to 2010 | I31: =I19&" "&"to"&" "&I15 -> 2010 to 2011 | J31: =J19&" "&"to"&" "&J15 -> 2011 to 2012 | ... V31: =V19&" "&"to"&" "&V15 -> 2023 to 2024
B32: Adjusted Births | C32: =(C26*C16)+(C28*C20) -> 2161.4453 | D32: =(D26*D16)+(D28*D20) -> 2113.6598 | E32: =(E26*E16)+(E28*E20) -> 2075.973 | F32: =(F26*F16)+(F28*F20) -> 2033.3694 | G32: =(G26*G16)+(G28*G20) -> 2019.7066 | H32: =(H26*H16)+(H28*H20) -> 1930.6368 | I32: =(I26*I16)+(I28*I20) -> 1846.5232 | J32: =(J26*J16)+(J28*J20) -> 1916.7849 | ... V32: =(V26*V16)+(V28*V20) -> 1566.9281
B33: Change | D33: =D32-C32 -> -47.785516 | E33: =E32-D32 -> -37.68683 | F33: =F32-E32 -> -42.603599 | G33: =G32-F32 -> -13.662722 | H33: =H32-G32 -> -89.069833 | I33: =I32-H32 -> -84.113612 | J33: =J32-I32 -> 70.261659 | K33: =K32-J32 -> 8.5765597 | ... V33: =V32-U32 -> 26.115375
B34: % Change | D34: =D33/C32 -> -0.022108131 | E34: =E33/D32 -> -0.01783013 | F34: =F33/E32 -> -0.020522232 | G34: =G33/F32 -> -0.0067192523 | H34: =H33/G32 -> -0.044100381 | I34: =I33/H32 -> -0.043567807 | J34: =J33/I32 -> 0.038050786 | K34: =K33/J32 -> 0.0044744509 | ... U34: =U33/T32 -> -0.035770195 | V34: =AVERAGE(Q34:U34) -> -0.013558059
B35: Births to K% | C35: =C7/C32 -> 0.89662227 | D35: =D7/D32 -> 0.9400756 | E35: =E7/E32 -> 0.92631264 | F35: =F7/F32 -> 0.93736044 | G35: =G7/G32 -> 0.9248868 | H35: =H7/H32 -> 0.95978694 | I35: =I7/I32 -> 1.0040491 | J35: =J7/J32 -> 0.95055008 | ... R35: =R7/R32 -> 0.92995157
B36: Births to K | C36: =C7-C32 -> -223.4453 | D36: =D7-D32 -> -126.65979 | E36: =E7-E32 -> -152.97296 | F36: =F7-F32 -> -127.36936 | G36: =G7-G32 -> -151.70664 | H36: =H7-H32 -> -77.636805 | I36: =I7-I32 -> 7.4768069 | J36: =J7-J32 -> -94.784852 | ... R36: =R7-R32 -> -110.72748
O38: PROJECTED RESIDENT KINDERGARTENER CALCULATOR
R40: 2025/26 | S40: 2026/27 | T40: 2027/28 | U40: 2028/29 | V40: 2029/30
O41: A, B, C, Basis Calculations
O42: A) | P42: Annual % Birth change | R42: =R34 -> -0.003512651 | S42: =S34 -> 0.028788614 | T42: =T34 -> -0.017378722 | U42: =U34 -> -0.035770195 | V42: =V34 -> -0.013558059
O43: B) | P43: Ave B to K % | R43: =AVERAGE(O35:R35) -> 0.90586127 | S43: =R43 -> 0.90586127 | T43: =S43 -> 0.90586127 | U43: =T43 -> 0.90586127 | V43: =U43 -> 0.90586127
O44: C) | P44: Ave B % Change | R44: =AVERAGE(R34:V34) -> -0.0082862026 | S44: =R44 -> -0.0082862026 | T44: =S44 -> -0.0082862026 | U44: =T44 -> -0.0082862026 | V44: =U44 -> -0.0082862026
O45: Estimated Kindergarten Students
P46: Basis-A (B % change) | R46: =R7 -> 1470 | S46: =R46+(R46*S42) -> 1512.3193 | T46: =S46+(S46*T42) -> 1486.0371 | U46: =T46+(T46*U42) -> 1432.8812 | V46: =U46+(U46*V42) -> 1413.4542
...

Sheet Aspen Crk
B1: Aspen Creek K-5 Birth/Kindergarten Population Correlation Worksheet
B2: ='BVSD Birth to K'!B2 -> updated 11/21/2025
K4: =K8-K7 -> 5 | L4: =L8-L7 -> 3 | M4: =M8-M7 -> 4 | N4: =N8-N7 -> 3 | O4: =O8-O7 -> 9 | P4: =P8-P7 -> 15 | Q4: =Q8-Q7 -> 18 | R4: =R8-R7 -> 18
B5: INPUT 1: KINDERGARTEN RESIDENT STUDENTS (entry formula from "Res K-1 Load Sheet" tab) | R5: Current Year
B6: Grade | C6: ='LOAD-K and 1 by Elm '!B79 -> 2010/11 | D6: ='LOAD-K and 1 by Elm '!C79 -> 2011/12 | E6: ='LOAD-K and 1 by Elm '!D79 -> 2012/13 | F6: ='LOAD-K and 1 by Elm '!E79 -> 2013/14 | G6: ='LOAD-K and 1 by Elm '!F79 -> 2014/15 | H6: ='LOAD-K and 1 by Elm '!G79 -> 2015/16 | I6: ='LOAD-K and 1 by Elm '!H79 -> 2016/17 | J6: ='LOAD-K and 1 by Elm '!I79 -> 2017/18 | ... V6: ='LOAD-K and 1 by Elm '!U79 -> 2030/31
B7: K (resident) | C7: ='LOAD-K and 1 by Elm '!B5 -> 71 | D7: ='LOAD-K and 1 by Elm '!C5 -> 84 | E7: ='LOAD-K and 1 by Elm '!D5 -> 78 | F7: ='LOAD-K and 1 by Elm '!E5 -> 53 | G7: ='LOAD-K and 1 by Elm '!F5 -> 69 | H7: ='LOAD-K and 1 by Elm '!G5 -> 55 | I7: ='LOAD-K and 1 by Elm '!H5 -> 66 | J7: ='LOAD-K and 1 by Elm '!I5 -> 67 | ... R7: ='LOAD-K and 1 by Elm '!Q5 -> 49
B8: K (enrolled) | C8: ='LOAD-K and 1 by Elm '!B80 -> 0 | D8: ='LOAD-K and 1 by Elm '!C80 -> 0 | E8: ='LOAD-K and 1 by Elm '!D80 -> 0 | F8: ='LOAD-K and 1 by Elm '!E80 -> 0 | G8: ='LOAD-K and 1 by Elm '!F80 -> 0 | H8: ='LOAD-K and 1 by Elm '!G80 -> 0 | I8: ='LOAD-K and 1 by Elm '!H80 -> 62 | J8: ='LOAD-K and 1 by Elm '!I80 -> 64 | ... R8: ='LOAD-K and 1 by Elm '!Q80 -> 67
B9: 1st (resident) | C9: ='LOAD-K and 1 by Elm '!B43 -> 76 | D9: ='LOAD-K and 1 by Elm '!C43 -> 72 | E9: ='LOAD-K and 1 by Elm '!D43 -> 90 | F9: ='LOAD-K and 1 by Elm '!E43 -> 79 | G9: ='LOAD-K and 1 by Elm '!F43 -> 59 | H9: ='LOAD-K and 1 by Elm '!G43 -> 76 | I9: ='LOAD-K and 1 by Elm '!H43 -> 60 | J9: ='LOAD-K and 1 by Elm '!I43 -> 80 | ... R9: ='LOAD-K and 1 by Elm '!Q43 -> 52
B10: K Change | D10: =D7-C7 -> 13 | E10: =E7-D7 -> -6 | F10: =F7-E7 -> -25 | G10: =G7-F7 -> 16 | H10: =H7-G7 -> -14 | I10: =I7-H7 -> 11 | J10: =J7-I7 -> 1 | K10: =K7-J7 -> -19 | ... R10: =R7-Q7 -> -3
B11: % K change | D11: =D10/C7 -> 0.18309859 | E11: =E10/D7 -> -0.071428571 | F11: =F10/E7 -> -0.32051282 | G11: =G10/F7 -> 0.30188679 | H11: =H10/G7 -> -0.20289855 | I11: =I10/H7 -> 0.2 | J11: =J10/I7 -> 0.015151515 | K11: =K10/J7 -> -0.28358209 | ... R11: =R10/Q7 -> -0.057692308
B13: INPUT 2: BIRTH COHORT FOR EACH KINDERGAREN CLASS (born 5 and 6 prior - (entry formula from "Births by Elem. (Load)" tab)
B14: Births 5 Years Prior
B15: Birth Year | C15: ='LOAD-Births by Elem'!C4 -> 2005 | D15: ='LOAD-Births by Elem'!D4 -> 2006 | E15: ='LOAD-Births by Elem'!E4 -> 2007 | F15: ='LOAD-Births by Elem'!F4 -> 2008 | G15: ='LOAD-Births by Elem'!G4 -> 2009 | H15: ='LOAD-Births by Elem'!H4 -> 2010 | I15: ='LOAD-Births by Elem'!I4 -> 2011 | J15: ='LOAD-Births by Elem'!J4 -> 2012 | ... V15: ='LOAD-Births by Elem'!V4 -> 2024
B16: No. of Births | C16: ='LOAD-Births by Elem'!C5 -> 53 | D16: ='LOAD-Births by Elem'!D5 -> 62 | E16: ='LOAD-Births by Elem'!E5 -> 52 | F16: ='LOAD-Births by Elem'!F5 -> 56 | G16: ='LOAD-Births by Elem'!G5 -> 65 | H16: ='LOAD-Births by Elem'!H5 -> 56 | I16: ='LOAD-Births by Elem'!I5 -> 51 | J16: ='LOAD-Births by Elem'!J5 -> 61 | ... V16: ='LOAD-Births by Elem'!V5 -> 64
B17: Births to K % | C17: =C7/C16 -> 1.3396226 | D17: =D7/D16 -> 1.3548387 | E17: =E7/E16 -> 1.5 | F17: =F7/F16 -> 0.94642857 | G17: =G7/G16 -> 1.0615385 | H17: =H7/H16 -> 0.98214286 | I17: =I7/I16 -> 1.2941176 | J17: =J7/J16 -> 1.0983607 | ... R17: =R7/R16 -> 0.75384615
B18: Births 6 Years Prior
B19: Birth Year | C19: ='LOAD-Births by Elem'!B4 -> 2004 | D19: ='LOAD-Births by Elem'!C4 -> 2005 | E19: ='LOAD-Births by Elem'!D4 -> 2006 | F19: ='LOAD-Births by Elem'!E4 -> 2007 | G19: ='LOAD-Births by Elem'!F4 -> 2008 | H19: ='LOAD-Births by Elem'!G4 -> 2009 | I19: ='LOAD-Births by Elem'!H4 -> 2010 | J19: ='LOAD-Births by Elem'!I4 -> 2011 | ... V19: ='LOAD-Births by Elem'!U4 -> 2023
B20: No. of Births | C20: ='LOAD-Births by Elem'!B5 -> 57 | D20: ='LOAD-Births by Elem'!C5 -> 53 | E20: ='LOAD-Births by Elem'!D5 -> 62 | F20: ='LOAD-Births by Elem'!E5 -> 52 | G20: ='LOAD-Births by Elem'!F5 -> 56 | H20: ='LOAD-Births by Elem'!G5 -> 65 | I20: ='LOAD-Births by Elem'!H5 -> 56 | J20: ='LOAD-Births by Elem'!I5 -> 51 | ... V20: ='LOAD-Births by Elem'!U5 -> 66
B21: Births to K % | C21: =C7/C20 -> 1.245614 | D21: =D7/D20 -> 1.5849057 | E21: =E7/E20 -> 1.2580645 | F21: =F7/F20 -> 1.0192308 | G21: =G7/G20 -> 1.2321429 | H21: =H7/H20 -> 0.84615385 | I21: =I7/I20 -> 1.1785714 | J21: =J7/J20 -> 1.3137255 | ... Q21: =Q7/Q20 -> 0.78787879 | R21: 0.72727273
B23: INPUT 3: PROPORTION OF KINDERGARTENERS BORN 5 and 6 YEARS PRIOR (entry formula based on "BVSD Births to K" tab)
B24: DOB 5-Yr Prior | C24: District-wide Proportion Used
B25: % of Res. K | C25: ='BVSD Birth to K'!C26 -> 0.6996904 | D25: ='BVSD Birth to K'!D26 -> 0.69250126 | E25: ='BVSD Birth to K'!E26 -> 0.6874675 | F25: ='BVSD Birth to K'!F26 -> 0.67785939 | G25: ='BVSD Birth to K'!G26 -> 0.72430407 | H25: ='BVSD Birth to K'!H26 -> 0.6724231 | I25: ='BVSD Birth to K'!I26 -> 0.68446602 | J25: ='BVSD Birth to K'!J26 -> 0.68331504 | ... R25: ='BVSD Birth to K'!R26 -> 0.67255448 | S25: =AVERAGE(N25:R25) -> 0.67654051 | T25: =S25 -> 0.67654051 | U25: =T25 -> 0.67654051 | V25: =U25 -> 0.67654051
B26: DOB 6-Yr Prior | C26: District-wide Proportion Used
B27: % of Res. K | C27: ='BVSD Birth to K'!C28 -> 0.3245614 | D27: ='BVSD Birth to K'!D28 -> 0.31102164 | E27: ='BVSD Birth to K'!E28 -> 0.31409256 | F27: ='BVSD Birth to K'!F28 -> 0.31741868 | G27: ='BVSD Birth to K'!G28 -> 0.27623126 | H27: ='BVSD Birth to K'!H28 -> 0.3275769 | I27: ='BVSD Birth to K'!I28 -> 0.31445523 | J27: ='BVSD Birth to K'!J28 -> 0.31723381 | ... R27: ='BVSD Birth to K'!R28 -> 0.32473536 | S27: =AVERAGE(N27:R27) -> 0.32366033 | T27: =S27 -> 0.32366033 | U27: =T27 -> 0.32366033 | V27: =U27 -> 0.32366033
B29: CALCULATION: ADJUSTED BIRTH CLASS (based on proportion of birth 5 & 6 years prior to K class)
B30: Birth Year Range: | C30: =C19&" "&"to"&" "&C15 -> 2004 to 2005 | D30: =D19&" "&"to"&" "&D15 -> 2005 to 2006 | E30: =E19&" "&"to"&" "&E15 -> 2006 to 2007 | F30: =F19&" "&"to"&" "&F15 -> 2007 to 2008 | G30: =G19&" "&"to"&" "&G15 -> 2008 to 2009 | H30: =H19&" "&"to"&" "&H15 -> 2009 to 2010 | I30: =I19&" "&"to"&" "&I15 -> 2010 to 2011 | J30: =J19&" "&"to"&" "&J15 -> 2011 to 2012 | ... V30: =V19&" "&"to"&" "&V15 -> 2023 to 2024
B31: Adjusted Births | C31: =(C25*C16)+(C27*C20) -> 55.583591 | D31: =(D25*D16)+(D27*D20) -> 59.419225 | E31: =(E25*E16)+(E27*E20) -> 55.222049 | F31: =(F25*F16)+(F27*F20) -> 54.465897 | G31: =(G25*G16)+(G27*G20) -> 62.548715 | H31: =(H25*H16)+(H27*H20) -> 58.948192 | I31: =(I25*I16)+(I27*I20) -> 52.51726 | J31: =(J25*J16)+(J27*J20) -> 57.861142 | ... V31: =(V25*V16)+(V27*V20) -> 64.660175
B32: Change | D32: =D31-C31 -> 3.8356336 | E32: =E31-D31 -> -4.1971761 | F32: =F31-E31 -> -0.75615172 | G32: =G31-F31 -> 8.082818 | H32: =H31-G31 -> -3.6005231 | I32: =I31-H31 -> -6.4309321 | J32: =J31-I31 -> 5.3438816 | K32: =K31-J31 -> 7.1303211 | ... V32: =V31-U31 -> 1.8835223
B33: % Change | D33: =D32/C31 -> 0.069006582 | E33: =E32/D31 -> -0.070636668 | F33: =F32/E31 -> -0.013692931 | G33: =G32/F31 -> 0.14840145 | H33: =H32/G31 -> -0.057563502 | I33: =I32/H31 -> -0.10909465 | J33: =J32/I31 -> 0.10175477 | K33: =K32/J31 -> 0.1232316 | ... U33: =U32/T31 -> 0.1143473 | V33: =AVERAGE(Q33:U33) -> -0.0035850822
B34: Births to K% | C34: =C7/C31 -> 1.2773554 | D34: =D7/D31 -> 1.4136839 | E34: =E7/E31 -> 1.4124793 | F34: =F7/F31 -> 0.97308596 | G34: =G7/G31 -> 1.1031402 | H34: =H7/H31 -> 0.93302268 | I34: =I7/I31 -> 1.2567297 | J34: =J7/J31 -> 1.1579447 | ... R34: =R7/R31 -> 0.8262604
B35: Births to K | C35: =C7-C31 -> 15.416409 | D35: =D7-D31 -> 24.580775 | E35: =E7-E31 -> 22.777951 | F35: =F7-F31 -> -1.4658972 | G35: =G7-G31 -> 6.4512848 | H35: =H7-H31 -> -3.9481921 | I35: =I7-I31 -> 13.48274 | J35: =J7-J31 -> 9.1388584 | ... R35: =R7-R31 -> -10.303338
O37: PROJECTED RESIDENT KINDERGARTENER CALCULATOR
R39: =R6 -> 2025/26 | S39: =S6 -> 2027/28 | T39: =T6 -> 2028/29 | U39: =U6 -> 2029/30 | V39: =V6 -> 2030/31
O40: A, B, C, Basis Calculations
O41: A) | P41: Annual % Birth change | R41: =R33 -> 0.10893516 | S41: =S33 -> 0.0050147677 | T41: =T33 -> -0.054795019 | U41: =U33 -> 0.1143473 | V41: =V33 -> -0.0035850822
O42: B) | P42: Ave B to K % | R42: =AVERAGE(L34:R34) -> 0.79561532 | S42: =R42 -> 0.79561532 | T42: =S42 -> 0.79561532 | U42: =T42 -> 0.79561532 | V42: =U42 -> 0.79561532
O43: C) | P43: Ave B % Change | R43: =AVERAGE(S33:V33) -> 0.015245492 | S43: =R43 -> 0.015245492 | T43: =S43 -> 0.015245492 | U43: =T43 -> 0.015245492 | V43: =U43 -> 0.015245492
O44: Estimated Kindergarten Students
P45: Basis-A (B % change) | R45: =R7 -> 49 | S45: =R45+(R45*S41) -> 49.245724 | T45: =S45+(S45*T41) -> 46.547303 | U45: =T45+(T45*U41) -> 51.869862 | V45: =U45+(U45*V41) -> 51.683904
P46: Basis-B (av. B to K%) | R46: =R45 -> 49 | S46: =S42*S31 -> 47.419255 | T46: =T42*T31 -> 44.820916 | U46: =U42*U31 -> 49.946067 | V46: =V42*V31 -> 51.444626
...

Sheet Bear Creek
B1: Bear Creek El. Birth/Kindergarten Population Correlation Worksheet
B2: ='BVSD Birth to K'!B2 -> updated 11/21/2025
B3: note: Bear Creek current and historic resident K and births include births/students from the previous Bear Creek-Creekside dual area, which was absorbed into Bear Creek in 2025)
I4: =I8-I7 -> 23 | J4: =J8-J7 -> 25 | K4: =K8-K7 -> 14 | L4: =L8-L7 -> -6 | M4: =M8-M7 -> -8 | N4: =N8-N7 -> 2 | O4: =O8-O7 -> -2 | P4: =P8-P7 -> 3 | ... R4: =R8-R7 -> 10
B5: INPUT 1: KINDERGARTEN RESIDENT STUDENTS (entry formula from "Res K-1 Load Sheet" tab) | R5: Current Year
B6: Grade | C6: ='LOAD-K and 1 by Elm '!B4 -> 2010/11 | D6: ='LOAD-K and 1 by Elm '!C4 -> 2011/12 | E6: ='LOAD-K and 1 by Elm '!D4 -> 2012/13 | F6: ='LOAD-K and 1 by Elm '!E4 -> 2013/14 | G6: ='LOAD-K and 1 by Elm '!F4 -> 2014/15 | H6: ='LOAD-K and 1 by Elm '!G4 -> 2015/16 | I6: ='LOAD-K and 1 by Elm '!H4 -> 2016/17 | J6: ='LOAD-K and 1 by Elm '!I4 -> 2017/18 | ... V6: ='LOAD-K and 1 by Elm '!U4 -> 2029/30 | X6: not adjusted for BC-Mesa
B7: K (resident) | C7: ='LOAD-K and 1 by Elm '!B6+'LOAD-K and 1 by Elm '!B8 -> 43 | D7: ='LOAD-K and 1 by Elm '!C6+'LOAD-K and 1 by Elm '!C8 -> 37 | E7: ='LOAD-K and 1 by Elm '!D6+'LOAD-K and 1 by Elm '!D8 -> 44 | F7: ='LOAD-K and 1 by Elm '!E6+'LOAD-K and 1 by Elm '!E8 -> 50 | G7: ='LOAD-K and 1 by Elm '!F6+'LOAD-K and 1 by Elm '!F8 -> 33 | H7: ='LOAD-K and 1 by Elm '!G6+'LOAD-K and 1 by Elm '!G8 -> 47 | I7: ='LOAD-K and 1 by Elm '!H6+'LOAD-K and 1 by Elm '!H8 -> 37 | J7: ='LOAD-K and 1 by Elm '!I6+'LOAD-K and 1 by Elm '!I8 -> 45 | K7: ='LOAD-K and 1 by Elm '!J6+'LOAD-K and 1 by Elm '!J8 -> 34 | L7: ='LOAD-K and 1 by Elm '!K6+'LOAD-K and 1 by Elm '!K8+'LOAD-K and 1 by Elm '!W8+'LOAD-K and 1 by Elm '!AF8 -> 49 | M7: ='LOAD-K and 1 by Elm '!L6+'LOAD-K and 1 by Elm '!L8+'LOAD-K and 1 by Elm '!X8+'LOAD-K and 1 by Elm '!AG8 -> 37 | N7: ='LOAD-K and 1 by Elm '!M6+'LOAD-K and 1 by Elm '!M8+'LOAD-K and 1 by Elm '!Y8+'LOAD-K and 1 by Elm '!AH8 -> 46 | O7: ='LOAD-K and 1 by Elm '!N6+'LOAD-K and 1 by Elm '!N8+'LOAD-K and 1 by Elm '!Z8+'LOAD-K and 1 by Elm '!AI8 -> 52 | P7: ='LOAD-K and 1 by Elm '!O6+'LOAD-K and 1 by Elm '!O8+'LOAD-K and 1 by Elm '!AA8+'LOAD-K and 1 by Elm '!AJ8 -> 29 | Q7: ='LOAD-K and 1 by Elm '!P6+'LOAD-K and 1 by Elm '!P8+'LOAD-K and 1 by Elm '!AB8+'LOAD-K and 1 by Elm '!AK8 -> 42 | R7: ='LOAD-K and 1 by Elm '!Q6+'LOAD-K and 1 by Elm '!Q8+'LOAD-K and 1 by Elm '!AC8+'LOAD-K and 1 by Elm '!AL8 -> 38 | W7: >adjusted to include BC-Creekside and BC-Mesa
B8: K (enrolled) | C8: ='LOAD-K and 1 by Elm '!B83 -> 0 | D8: ='LOAD-K and 1 by Elm '!C83 -> 0 | E8: ='LOAD-K and 1 by Elm '!D83 -> 0 | F8: ='LOAD-K and 1 by Elm '!E83 -> 0 | G8: ='LOAD-K and 1 by Elm '!F83 -> 0 | H8: ='LOAD-K and 1 by Elm '!G83 -> 0 | I8: ='LOAD-K and 1 by Elm '!H83 -> 60 | J8: ='LOAD-K and 1 by Elm '!I83 -> 70 | ... R8: ='LOAD-K and 1 by Elm '!Q83 -> 48 | W8: >adjusted to include BC-Creekside
B9: 1st (resident) | C9: ='LOAD-K and 1 by Elm '!B44+'LOAD-K and 1 by Elm '!B46 -> 35 | D9: ='LOAD-K and 1 by Elm '!C44+'LOAD-K and 1 by Elm '!C46 -> 48 | E9: ='LOAD-K and 1 by Elm '!D44+'LOAD-K and 1 by Elm '!D46 -> 43 | F9: ='LOAD-K and 1 by Elm '!E44+'LOAD-K and 1 by Elm '!E46 -> 43 | G9: ='LOAD-K and 1 by Elm '!F44+'LOAD-K and 1 by Elm '!F46 -> 53 | H9: ='LOAD-K and 1 by Elm '!G44+'LOAD-K and 1 by Elm '!G46 -> 34 | I9: ='LOAD-K and 1 by Elm '!H44+'LOAD-K and 1 by Elm '!H46 -> 49 | J9: ='LOAD-K and 1 by Elm '!I44+'LOAD-K and 1 by Elm '!I46 -> 43 | ... R9: ='LOAD-K and 1 by Elm '!Q44+'LOAD-K and 1 by Elm '!Q46 -> 27 | W9: >adjusted to include BC-Creekside
B10: K Change | D10: =D7-C7 -> -6 | E10: =E7-D7 -> 7 | F10: =F7-E7 -> 6 | G10: =G7-F7 -> -17 | H10: =H7-G7 -> 14 | I10: =I7-H7 -> -10 | J10: =J7-I7 -> 8 | K10: =K7-J7 -> -11 | ... R10: =R7-Q7 -> -4
B11: % K change | D11: =D10/C7 -> -0.13953488 | E11: =E10/D7 -> 0.18918919 | F11: =F10/E7 -> 0.13636364 | G11: =G10/F7 -> -0.34 | H11: =H10/G7 -> 0.42424242 | I11: =I10/H7 -> -0.21276596 | J11: =J10/I7 -> 0.21621622 | K11: =K10/J7 -> -0.24444444 | ... R11: =R10/Q7 -> -0.095238095
B13: INPUT 2: BIRTH COHORT FOR EACH KINDERGAREN CLASS (born 5 and 6 prior - (entry formula from "Births by Elem. (Load)" tab)
B14: Births 5 Years Prior
B15: Birth Year | C15: ='LOAD-Births by Elem'!C4 -> 2005 | D15: ='LOAD-Births by Elem'!D4 -> 2006 | E15: ='LOAD-Births by Elem'!E4 -> 2007 | F15: ='LOAD-Births by Elem'!F4 -> 2008 | G15: ='LOAD-Births by Elem'!G4 -> 2009 | H15: ='LOAD-Births by Elem'!H4 -> 2010 | I15: ='LOAD-Births by Elem'!I4 -> 2011 | J15: ='LOAD-Births by Elem'!J4 -> 2012 | ... V15: ='LOAD-Births by Elem'!V4 -> 2024
B16: No. of Births | C16: ='LOAD-Births by Elem'!C6+'LOAD-Births by Elem'!C8+('LOAD-Births by Elem'!C7*('LOAD-K and 1 by Elm '!AD9+'LOAD-K and 1 by Elm '!AM9)) -> 47.737982 | D16: ='LOAD-Births by Elem'!D6+'LOAD-Births by Elem'!D8+('LOAD-Births by Elem'!D7*('LOAD-K and 1 by Elm '!AD9+'LOAD-K and 1 by Elm '!AM9)) -> 32.711447 | E16: ='LOAD-Births by Elem'!E6+'LOAD-Births by Elem'!E8+('LOAD-Births by Elem'!E7*('LOAD-K and 1 by Elm '!AD9+'LOAD-K and 1 by Elm '!AM9)) -> 41.316754 | F16: ='LOAD-Births by Elem'!F6+'LOAD-Births by Elem'!F8+('LOAD-Births by Elem'!F7*('LOAD-K and 1 by Elm '!AD9+'LOAD-K and 1 by Elm '!AM9)) -> 40.343289 | G16: ='LOAD-Births by Elem'!G6+'LOAD-Births by Elem'!G8+('LOAD-Births by Elem'!G7*('LOAD-K and 1 by Elm '!AD9+'LOAD-K and 1 by Elm '!AM9)) -> 42.132675 | H16: ='LOAD-Births by Elem'!H6+'LOAD-Births by Elem'!H8+('LOAD-Births by Elem'!H7*('LOAD-K and 1 by Elm '!AD9+'LOAD-K and 1 by Elm '!AM9)) -> 51.764518 | I16: ='LOAD-Births by Elem'!I6+'LOAD-Births by Elem'!I8+('LOAD-Births by Elem'!I7*('LOAD-K and 1 by Elm '!AD9+'LOAD-K and 1 by Elm '!AM9)) -> 36.527368 | J16: ='LOAD-Births by Elem'!J6+'LOAD-Births by Elem'!J8+('LOAD-Births by Elem'!J7*('LOAD-K and 1 by Elm '!AD9+'LOAD-K and 1 by Elm '!AM9)) -> 42.737982 | K16: ='LOAD-Births by Elem'!K6+'LOAD-Births by Elem'!K8+('LOAD-Births by Elem'!K7*('LOAD-K and 1 by Elm '!AD9+'LOAD-K and 1 by Elm '!AM9)) -> 41.922061 | L16: ='LOAD-Births by Elem'!L6+'LOAD-Births by Elem'!L8+('LOAD-Births by Elem'!L7*('LOAD-K and 1 by Elm '!AD9+'LOAD-K and 1 by Elm '!AM9)) -> 40.132675 | M16: ='LOAD-Births by Elem'!M6+'LOAD-Births by Elem'!M8+('LOAD-Births by Elem'!M7*('LOAD-K and 1 by Elm '!AD9+'LOAD-K and 1 by Elm '!AM9)) -> 27.290219 | N16: ='LOAD-Births by Elem'!N6+'LOAD-Births by Elem'!N8+('LOAD-Births by Elem'!N7*('LOAD-K and 1 by Elm '!AD9+'LOAD-K and 1 by Elm '!AM9)) -> 23.290219 | O16: ='LOAD-Births by Elem'!O6+'LOAD-Births by Elem'!O8+('LOAD-Births by Elem'!O7*('LOAD-K and 1 by Elm '!AD9+'LOAD-K and 1 by Elm '!AM9)) -> 29.684912 | P16: ='LOAD-Births by Elem'!P6+'LOAD-Births by Elem'!P8+('LOAD-Births by Elem'!P7*('LOAD-K and 1 by Elm '!AD9+'LOAD-K and 1 by Elm '!AM9)) -> 27.079605 | Q16: ='LOAD-Births by Elem'!Q6+'LOAD-Births by Elem'!Q8+('LOAD-Births by Elem'!Q7*('LOAD-K and 1 by Elm '!AD9+'LOAD-K and 1 by Elm '!AM9)) -> 17.842456 | R16: ='LOAD-Births by Elem'!R6+'LOAD-Births by Elem'!R8+('LOAD-Births by Elem'!R7*('LOAD-K and 1 by Elm '!AD9+'LOAD-K and 1 by Elm '!BB9)) -> 21.180088 | S16: ='LOAD-Births by Elem'!S6+'LOAD-Births by Elem'!S8+('LOAD-Births by Elem'!S7*('LOAD-K and 1 by Elm '!AT9+'LOAD-K and 1 by Elm '!AM9)) -> 14.419019 | T16: ='LOAD-Births by Elem'!T6+'LOAD-Births by Elem'!T8+('LOAD-Births by Elem'!T7*('LOAD-K and 1 by Elm '!AD9+'LOAD-K and 1 by Elm '!AM9)) -> 28.316754 | U16: ='LOAD-Births by Elem'!U6+'LOAD-Births by Elem'!U8+('LOAD-Births by Elem'!U7*('LOAD-K and 1 by Elm '!AD9+'LOAD-K and 1 by Elm '!AM9)) -> 28.658377 | V16: ='LOAD-Births by Elem'!V6+'LOAD-Births by Elem'!V8+('LOAD-Births by Elem'!V7*('LOAD-K and 1 by Elm '!AD9+'LOAD-K and 1 by Elm '!AM9)) -> 36.948596 | W16: >adjusted to include BC-Creekside and BC-Mesa formula
B17: Births to K % | C17: =C7/C16 -> 0.90075026 | D17: =D7/D16 -> 1.1311025 | E17: =E7/E16 -> 1.0649433 | F17: =F7/F16 -> 1.2393635 | G17: =G7/G16 -> 0.78324008 | H17: =H7/H16 -> 0.90795785 | I17: =I7/I16 -> 1.0129391 | J17: =J7/J16 -> 1.0529276 | ... R17: =R7/R16 -> 1.794138
B18: Births 6 Years Prior
B19: Birth Year | C19: ='LOAD-Births by Elem'!B4 -> 2004 | D19: ='LOAD-Births by Elem'!C4 -> 2005 | E19: ='LOAD-Births by Elem'!D4 -> 2006 | F19: ='LOAD-Births by Elem'!E4 -> 2007 | G19: ='LOAD-Births by Elem'!F4 -> 2008 | H19: ='LOAD-Births by Elem'!G4 -> 2009 | I19: ='LOAD-Births by Elem'!H4 -> 2010 | J19: ='LOAD-Births by Elem'!I4 -> 2011 | ... V19: ='LOAD-Births by Elem'!U4 -> 2023
B20: No. of Births | C20: ='LOAD-Births by Elem'!B6+'LOAD-Births by Elem'!B8 -> 21 | D20: =C16 -> 47.737982 | E20: =D16 -> 32.711447 | F20: =E16 -> 41.316754 | G20: =F16 -> 40.343289 | H20: =G16 -> 42.132675 | I20: =H16 -> 51.764518 | J20: =I16 -> 36.527368 | K20: =J16 -> 42.737982 | ... V20: =U16 -> 28.658377
B21: Births to K % | C21: =C20/C7 -> 0.48837209 | D21: =D20/D7 -> 1.2902157 | E21: =E20/E7 -> 0.74344199 | F21: =F20/F7 -> 0.82633509 | G21: =G20/G7 -> 1.2225239 | H21: =H20/H7 -> 0.8964399 | I21: =I20/I7 -> 1.399041 | J21: =J20/J7 -> 0.8117193 | ... R21: =R20/R7 -> 0.46953832
B23: INPUT 3: PROPORTION OF KINDERGARTENERS BORN 5 and 6 YEARS PRIOR (based on D.O.B. in student file)
B24: DOB 5-Yr Prior | C24: District-wide Proportion Used
B25: % of Res. K | C25: ='BVSD Birth to K'!C26 -> 0.6996904 | D25: ='BVSD Birth to K'!D26 -> 0.69250126 | E25: ='BVSD Birth to K'!E26 -> 0.6874675 | F25: ='BVSD Birth to K'!F26 -> 0.67785939 | G25: ='BVSD Birth to K'!G26 -> 0.72430407 | H25: ='BVSD Birth to K'!H26 -> 0.6724231 | I25: ='BVSD Birth to K'!I26 -> 0.68446602 | J25: ='BVSD Birth to K'!J26 -> 0.68331504 | ... R25: ='BVSD Birth to K'!R26 -> 0.67255448 | S25: =AVERAGE(N25:R25) -> 0.67654051 | T25: =S25 -> 0.67654051 | U25: =T25 -> 0.67654051 | V25: =U25 -> 0.67654051
B26: DOB 6-Yr Prior | C26: District-wide Proportion Used
B27: % of Res. K | C27: ='BVSD Birth to K'!C28 -> 0.3245614 | D27: ='BVSD Birth to K'!D28 -> 0.31102164 | E27: ='BVSD Birth to K'!E28 -> 0.31409256 | F27: ='BVSD Birth to K'!F28 -> 0.31741868 | G27: ='BVSD Birth to K'!G28 -> 0.27623126 | H27: ='BVSD Birth to K'!H28 -> 0.3275769 | I27: ='BVSD Birth to K'!I28 -> 0.31445523 | J27: ='BVSD Birth to K'!J28 -> 0.31723381 | ... R27: ='BVSD Birth to K'!R28 -> 0.32473536 | S27: =AVERAGE(N27:R27) -> 0.32366033 | T27: =S27 -> 0.32366033 | U27: =T27 -> 0.32366033 | V27: =U27 -> 0.32366033
B29: CALCULATION: ADJUSTED BIRTH CLASS (based on proportion of birth 5 & 6 years prior to K class)
B30: Birth Year Range: | C30: =C19&" "&"to"&" "&C15 -> 2004 to 2005 | D30: =D19&" "&"to"&" "&D15 -> 2005 to 2006 | E30: =E19&" "&"to"&" "&E15 -> 2006 to 2007 | F30: =F19&" "&"to"&" "&F15 -> 2007 to 2008 | G30: =G19&" "&"to"&" "&G15 -> 2008 to 2009 | H30: =H19&" "&"to"&" "&H15 -> 2009 to 2010 | I30: =I19&" "&"to"&" "&I15 -> 2010 to 2011 | J30: =J19&" "&"to"&" "&J15 -> 2011 to 2012 | ... V30: =V19&" "&"to"&" "&V15 -> 2023 to 2024
B31: Adjusted Births | C31: =(C25*C16)+(C27*C20) -> 40.217598 | D31: =(D25*D16)+(D27*D20) -> 37.500264 | E31: =(E25*E16)+(E27*E20) -> 38.678348 | F31: =(F25*F16)+(F27*F20) -> 40.461787 | G31: =(G25*G16)+(G27*G20) -> 41.660946 | H31: =(H25*H16)+(H27*H20) -> 48.609349 | I31: =(I25*I16)+(I27*I20) -> 41.279366 | J31: =(J25*J16)+(J27*J20) -> 40.791222 | ... V31: =(V25*V16)+(V27*V20) -> 34.272802
B32: Change | D32: =D31-C31 -> -2.7173335 | E32: =E31-D31 -> 1.1780841 | F32: =F31-E31 -> 1.783439 | G32: =G31-F31 -> 1.1991589 | H32: =H31-G31 -> 6.9484025 | I32: =I31-H31 -> -7.3299827 | J32: =J31-I31 -> -0.48814349 | K32: =K31-J31 -> 1.3749281 | ... V32: =V31-U31 -> 5.719239
B33: % Change | D33: =D32/C31 -> -0.067565785 | E33: =E32/D31 -> 0.031415354 | F33: =F32/E31 -> 0.046109493 | G33: =G32/F31 -> 0.029636824 | H33: =H32/G31 -> 0.16678456 | I33: =I32/H31 -> -0.15079368 | J33: =J32/I31 -> -0.011825363 | K33: =K32/J31 -> 0.033706469 | ... V33: =V32/U31 -> 0.20029861
B34: Births to K% | D34: =D7/D31 -> 0.98665972 | E34: =E7/E31 -> 1.1375874 | F34: =F7/F31 -> 1.2357338 | G34: =G7/G31 -> 0.79210875 | H34: =H7/H31 -> 0.9668922 | I34: =I7/I31 -> 0.8963316 | J34: =J7/J31 -> 1.1031785 | K34: =K7/K31 -> 0.80633398 | ... R34: =R7/R31 -> 1.8963174
B35: Births to K | C35: =C7-C31 -> 2.7824024 | D35: =D7-D31 -> -0.50026408 | E35: =E7-E31 -> 5.3216518 | F35: =F7-F31 -> 9.5382128 | G35: =G7-G31 -> -8.6609461 | H35: =H7-H31 -> -1.6093485 | I35: =I7-I31 -> -4.2793658 | J35: =J7-J31 -> 4.2087777 | ... R35: =R7-R31 -> 17.961161
O37: PROJECTED KINDERGARTENER CALCULATOR
R39: =R6 -> 2025/26 | S39: =S6 -> 2026/27 | T39: =T6 -> 2027/28 | U39: =U6 -> 2028/29 | V39: =V6 -> 2029/30
O40: A, B, C, Basis Calculations
P41: Annual % Birth change | R41: =R33 -> -0.030405466 | S41: =S33 -> -0.17109945 | T41: =T33 -> 0.43431681 | U41: =U33 -> 0.19850607 | V41: =V33 -> 0.20029861
P42: Ave B to K % | R42: =AVERAGE(L34:R34) -> 1.5878836 | S42: =R42 -> 1.5878836 | T42: =S42 -> 1.5878836 | U42: =T42 -> 1.5878836 | V42: =U42 -> 1.5878836
P43: Ave B % Change | R43: =AVERAGE(Q33:V33) -> 0.061494115 | S43: =R43 -> 0.061494115 | T43: =S43 -> 0.061494115 | U43: =T43 -> 0.061494115 | V43: =U43 -> 0.061494115
O44: Estimated Kindergarten Students
P45: Basis-A (% change) | R45: =R7 -> 38 | S45: =R45+(R45*S41) -> 31.498221 | T45: =S45+(S45*T41) -> 45.178428 | U45: =T45+(T45*U41) -> 54.14662 | V45: =U45+(U45*V41) -> 64.992112
...

Sheet BC-Mesa
B1: Bear Creek-Mesa Dual Birth/Kindergarten Population Correlation Worksheet
B2: ='BVSD Birth to K'!B2 -> updated 11/21/2025
