Workbook

Sheet Births by Elem (Present)
A1: Births By Elementary Attendance Area
A2: 45811
R3: K in 2025
A4: ElemName | B4: 2001 | C4: 2002 | D4: 2003 | E4: 2004 | F4: 2007 | G4: 2008 | H4: 2009 | I4: 2010 | J4: 2011 | K4: 2012 | L4: 2013 | M4: 2014 | N4: 2015 | O4: 2016 | P4: 2017 | Q4: 2018 | R4: 2019 | S4: 2020 | T4: 2021 | U4: 2022 | V4: 2023 | W4: 2024
A5: Aspen Crk | B5: 62 | C5: 58 | D5: 52 | E5: 57 | F5: 52 | G5: 56 | H5: 65 | I5: 56 | J5: 51 | K5: 61 | L5: 67 | M5: 54 | N5: 70 | O5: 61 | P5: 66 | Q5: 66 | R5: 48 | S5: 65 | T5: 57 | U5: 56 | V5: 66 | W5: 64 | X5: =W5-V5 -> -2
A6: BC-Creekside | B6: 9 | C6: 7 | D6: 9 | E6: 7 | F6: 5 | G6: 6 | H6: 2 | I6: 2 | J6: 2 | K6: 8 | L6: 3 | M6: 4 | N6: 6 | O6: 1 | P6: 4 | Q6: 5 | R6: 3 | S6: 6 | T6: 2 | U6: 2 | V6: 7 | W6: 3 | X6: =W6-V6 -> -4
A7: BC-Mesa | B7: 17 | C7: 18 | D7: 17 | E7: 26 | F7: 22 | G7: 27 | H7: 25 | I7: 31 | J7: 24 | K7: 26 | L7: 23 | M7: 25 | N7: 17 | O7: 17 | P7: 16 | Q7: 15 | R7: 8 | S7: 11 | T7: 18 | U7: 22 | V7: 11 | W7: 28 | X7: =W7-V7 -> 17
A8: Bear Creek | B8: 24 | C8: 13 | D8: 19 | E8: 14 | F8: 23 | G8: 18 | H8: 25 | I8: 31 | J8: 20 | K8: 19 | L8: 25 | M8: 21 | N8: 11 | O8: 12 | P8: 16 | Q8: 13 | R8: 10 | S8: 10 | T8: 10 | U8: 13 | V8: 15 | W8: 17 | X8: =W8-V8 -> 2
A9: Birch | B9: 86 | C9: 71 | D9: 53 | E9: 58 | F9: 52 | G9: 60 | H9: 46 | I9: 56 | J9: 49 | K9: 43 | L9: 65 | M9: 58 | N9: 51 | O9: 55 | P9: 39 | Q9: 41 | R9: 48 | S9: 33 | T9: 34 | U9: 38 | V9: 37 | W9: 40 | X9: =W9-V9 -> 3
A10: Coal Creek | B10: 53 | C10: 54 | D10: 74 | E10: 49 | F10: 55 | G10: 54 | H10: 68 | I10: 68 | J10: 51 | K10: 66 | L10: 60 | M10: 63 | N10: 48 | O10: 47 | P10: 50 | Q10: 43 | R10: 38 | S10: 37 | T10: 53 | U10: 52 | V10: 20 | W10: 40 | X10: =W10-V10 -> 20
A11: Columbine | B11: 171 | C11: 180 | D11: 168 | E11: 175 | F11: 157 | G11: 155 | H11: 153 | I11: 135 | J11: 155 | K11: 132 | L11: 129 | M11: 124 | N11: 121 | O11: 123 | P11: 128 | Q11: 101 | R11: 92 | S11: 108 | T11: 105 | U11: 85 | V11: 98 | W11: 99 | X11: =W11-V11 -> 1
A12: Creekside | B12: 175 | C12: 179 | D12: 160 | E12: 145 | F12: 156 | G12: 176 | H12: 159 | I12: 150 | J12: 130 | K12: 157 | L12: 157 | M12: 131 | N12: 158 | O12: 131 | P12: 125 | Q12: 112 | R12: 95 | S12: 87 | T12: 84 | U12: 70 | V12: 85 | W12: 76 | X12: =W12-V12 -> -9
A13: Crest View | B13: 128 | C13: 152 | D13: 117 | E13: 150 | F13: 144 | G13: 114 | H13: 165 | I13: 135 | J13: 123 | K13: 147 | L13: 151 | M13: 123 | N13: 152 | O13: 140 | P13: 128 | Q13: 91 | R13: 100 | S13: 122 | T13: 111 | U13: 124 | V13: 98 | W13: 115 | X13: =W13-V13 -> 17
A14: Douglass | B14: 30 | C14: 29 | D14: 51 | E14: 43 | F14: 54 | G14: 57 | H14: 47 | I14: 47 | J14: 38 | K14: 52 | L14: 46 | M14: 47 | N14: 49 | O14: 45 | P14: 36 | Q14: 44 | R14: 35 | S14: 39 | T14: 33 | U14: 42 | V14: 44 | W14: 41 | X14: =W14-V14 -> -3
A15: Eisenhower | B15: 73 | C15: 71 | D15: 92 | E15: 74 | F15: 100 | G15: 82 | H15: 75 | I15: 76 | J15: 91 | K15: 83 | L15: 84 | M15: 75 | N15: 74 | O15: 67 | P15: 64 | Q15: 56 | R15: 52 | S15: 54 | T15: 71 | U15: 54 | V15: 61 | W15: 61 | X15: =W15-V15 -> 0
A16: Eldorado (K-5) | B16: 79 | C16: 82 | D16: 82 | E16: 79 | F16: 65 | G16: 61 | H16: 58 | I16: 46 | J16: 40 | K16: 41 | L16: 46 | M16: 37 | N16: 29 | O16: 30 | P16: 29 | Q16: 23 | R16: 37 | S16: 28 | T16: 49 | U16: 32 | V16: 27 | W16: 34 | X16: =W16-V16 -> 7
... A34: Whittier | B34: 145 | C34: 133 | D34: 142 | E34: 136 | F34: 115 | G34: 110 | H34: 115 | I34: 105 | J34: 87 | K34: 119 | L34: 115 | M34: 113 | N34: 106 | O34: 104 | P34: 83 | Q34: 84 | R34: 90 | S34: 47 | T34: 83 | U34: 63 | V34: 59 | W34: 56 | X34: =W34-V34 -> -3
A35: Unlocated | B35: 3 | C35: 2 | D35: 3 | E35: 1 | F35: 0 | G35: 0 | H35: 1 | I35: 0 | J35: 0 | K35: 0 | L35: 0 | M35: 0 | N35: 0 | O35: 0 | P35: 0 | Q35: 0 | R35: 0 | S35: 0 | T35: 0 | U35: 0 | V35: 0 | W35: 0
A36: BVSD | B36: =SUM(B5:B35) -> 2329 | C36: =SUM(C5:C35) -> 2260 | D36: =SUM(D5:D35) -> 2221 | E36: =SUM(E5:E35) -> 2113 | F36: 2058 | G36: 2036 | H36: 2012 | I36: 1891 | J36: 1829 | K36: 1956 | L36: 1912 | M36: 1856 | N36: 1878 | O36: 1773 | P36: 1735 | Q36: 1604 | R36: 1583 | S36: 1586 | T36: 1645 | U36: 1575 | V36: =SUM(V5:V35) -> 1524 | W36: =SUM(W5:W35) -> 1587
A37: Boulder Total | B37: =SUM(B8,B11,B12,B13,B15,B19,B20,B22,B28,B34+B6+B7) -> 1027 | C37: =SUM(C8,C11,C12,C13,C15,C19,C20,C22,C28,C34+C6+C7) -> 985 | D37: =SUM(D8,D11,D12,D13,D15,D19,D20,D22,D28,D34+D6+D7) -> 1020 | E37: =SUM(E8,E11,E12,E13,E15,E19,E20,E22,E28,E34+E6+E7) -> 981 | F37: 962 | G37: 939 | H37: 966 | I37: 880 | J37: 840 | K37: 913 | L37: 872 | M37: 825 | N37: 846 | O37: 771 | P37: 758 | Q37: 639 | R37: 605 | S37: 630 | T37: 646 | U37: 592 | V37: =SUM(V8,V11,V12,V13,V15,V19,V20,V22,V28,V34+U1+V7) -> 586 | W37: =SUM(W8,W11,W12,W13,W15,W19,W20,W22,W28,W34+V1+W7) -> 621
A38: E County Total | B38: =SUM(B5,B9,B10,B14,B17,B18,B24,B25,B26,B29,B31,B32,B33+B27) -> 1129 | C38: =SUM(C5,C9,C10,C14,C17,C18,C24,C25,C26,C29,C31,C32,C33+C27) -> 1105 | D38: =SUM(D5,D9,D10,D14,D17,D18,D24,D25,D26,D29,D31,D32,D33+D27) -> 1016 | E38: =SUM(E5,E9,E10,E14,E17,E18,E24,E25,E26,E29,E31,E32,E33+E27) -> 969 | F38: 963 | G38: 967 | H38: 920 | I38: 898 | J38: 890 | K38: 947 | L38: 934 | M38: 936 | N38: 946 | O38: 912 | P38: 888 | Q38: 883 | R38: 890 | S38: 857 | T38: 881 | U38: 893 | V38: =SUM(V5,V9,V10,V14,V17,V18,V24,V25,V26,V29,V31,V32,V33+V27) -> 852 | W38: =SUM(W5,W9,W10,W14,W17,W18,W24,W25,W26,W29,W31,W32,W33+W27) -> 877

Sheet LOAD-Births by Elem
A1: Births By Elementary Attendance Area (source sheet for School-level BtoK calculators)
A2: 45811
B3: <-- STEP 1: COPY and paste all years left to maintain formula in school-level calcular. | Q3: K in 2023 | V3: >STEP 2: Enter new year into Column V
A4: ElemName | B4: 2004 | C4: 2005 | D4: 2006 | E4: 2007 | F4: 2008 | G4: 2009 | H4: 2010 | I4: 2011 | J4: 2012 | K4: 2013 | L4: 2014 | M4: 2015 | N4: 2016 | O4: 2017 | P4: 2018 | Q4: 2019 | R4: 2020 | S4: 2021 | T4: 2022 | U4: 2023 | V4: 2024 | W4: Prev. Ave
A5: Aspen Crk | B5: 57 | C5: 53 | D5: 62 | E5: 52 | F5: 56 | G5: 65 | H5: 56 | I5: 51 | J5: 61 | K5: 67 | L5: 54 | M5: 70 | N5: 61 | O5: 66 | P5: 66 | Q5: 48 | R5: 65 | S5: 57 | T5: 56 | U5: 66 | V5: 64 | W5: =AVERAGE(Q5:V5) -> 59.333333
A6: BC-Creekside | B6: 7 | C6: 6 | D6: 3 | E6: 5 | F6: 6 | G6: 2 | H6: 2 | I6: 2 | J6: 8 | K6: 3 | L6: 4 | M6: 6 | N6: 1 | O6: 4 | P6: 5 | Q6: 3 | R6: 6 | S6: 2 | T6: 2 | U6: 7 | V6: 3 | W6: =AVERAGE(Q6:V6) -> 3.8333333
A7: BC-Mesa | B7: 26 | C7: 26 | D7: 21 | E7: 22 | F7: 27 | G7: 25 | H7: 31 | I7: 24 | J7: 26 | K7: 23 | L7: 25 | M7: 17 | N7: 17 | O7: 16 | P7: 15 | Q7: 8 | R7: 11 | S7: 18 | T7: 22 | U7: 11 | V7: 28 | W7: =AVERAGE(Q7:V7) -> 16.333333
A8: Bear Creek | B8: 14 | C8: 26 | D8: 17 | E8: 23 | F8: 18 | G8: 25 | H8: 31 | I8: 20 | J8: 19 | K8: 25 | L8: 21 | M8: 11 | N8: 12 | O8: 16 | P8: 13 | Q8: 10 | R8: 10 | S8: 10 | T8: 13 | U8: 15 | V8: 17 | W8: =AVERAGE(Q8:V8) -> 12.5
A9: Birch | B9: 58 | C9: 60 | D9: 64 | E9: 52 | F9: 60 | G9: 46 | H9: 56 | I9: 49 | J9: 43 | K9: 65 | L9: 58 | M9: 51 | N9: 55 | O9: 39 | P9: 41 | Q9: 48 | R9: 33 | S9: 34 | T9: 38 | U9: 37 | V9: 40 | W9: =AVERAGE(Q9:V9) -> 38.333333
A10: Coal Creek | B10: 49 | C10: 51 | D10: 72 | E10: 55 | F10: 54 | G10: 68 | H10: 68 | I10: 51 | J10: 66 | K10: 60 | L10: 63 | M10: 48 | N10: 47 | O10: 50 | P10: 43 | Q10: 38 | R10: 37 | S10: 53 | T10: 52 | U10: 20 | V10: 40 | W10: =AVERAGE(Q10:V10) -> 40
A11: Columbine | B11: 175 | C11: 163 | D11: 168 | E11: 157 | F11: 155 | G11: 153 | H11: 135 | I11: 155 | J11: 132 | K11: 129 | L11: 124 | M11: 121 | N11: 123 | O11: 128 | P11: 101 | Q11: 92 | R11: 108 | S11: 105 | T11: 85 | U11: 98 | V11: 99 | W11: =AVERAGE(Q11:V11) -> 97.833333
A12: Creekside | B12: 145 | C12: 166 | D12: 145 | E12: 156 | F12: 176 | G12: 159 | H12: 150 | I12: 130 | J12: 157 | K12: 157 | L12: 131 | M12: 158 | N12: 131 | O12: 125 | P12: 112 | Q12: 95 | R12: 87 | S12: 84 | T12: 70 | U12: 85 | V12: 76 | W12: =AVERAGE(Q12:V12) -> 82.833333
A13: Crest View | B13: 150 | C13: 134 | D13: 115 | E13: 144 | F13: 114 | G13: 165 | H13: 135 | I13: 123 | J13: 147 | K13: 151 | L13: 123 | M13: 152 | N13: 140 | O13: 128 | P13: 91 | Q13: 100 | R13: 122 | S13: 111 | T13: 124 | U13: 98 | V13: 115 | W13: =AVERAGE(Q13:V13) -> 111.66667
A14: Douglass | B14: 43 | C14: 44 | D14: 47 | E14: 54 | F14: 57 | G14: 47 | H14: 47 | I14: 38 | J14: 52 | K14: 46 | L14: 47 | M14: 49 | N14: 45 | O14: 36 | P14: 44 | Q14: 35 | R14: 39 | S14: 33 | T14: 42 | U14: 44 | V14: 41 | W14: =AVERAGE(Q14:V14) -> 39
A15: Eisenhower | B15: 74 | C15: 84 | D15: 81 | E15: 100 | F15: 82 | G15: 75 | H15: 76 | I15: 91 | J15: 83 | K15: 84 | L15: 75 | M15: 74 | N15: 67 | O15: 64 | P15: 56 | Q15: 52 | R15: 54 | S15: 71 | T15: 54 | U15: 61 | V15: 61 | W15: =AVERAGE(Q15:V15) -> 58.833333
A16: Eldorado (K-5) | B16: 79 | C16: 76 | D16: 78 | E16: 65 | F16: 61 | G16: 58 | H16: 46 | I16: 40 | J16: 41 | K16: 46 | L16: 37 | M16: 29 | N16: 30 | O16: 29 | P16: 23 | Q16: 37 | R16: 28 | S16: 49 | T16: 32 | U16: 27 | V16: 34 | W16: =AVERAGE(Q16:V16) -> 34.5
... A35: Unlocated | B35: 1 | C35: 0 | D35: 3 | E35: 0 | F35: 0 | G35: 1 | H35: 0 | I35: 0 | J35: 0 | K35: 0 | L35: 0 | M35: 0 | N35: 0 | O35: 0 | P35: 0 | Q35: 0 | R35: 0 | S35: 0 | T35: 0 | U35: 0 | V35: 0 | W35: =AVERAGE(Q35:V35) -> 0
A36: BVSD | B36: =SUM(B5:B35) -> 2113 | C36: =SUM(C5:C35) -> 2109 | D36: =SUM(D5:D35) -> 2105 | E36: =SUM(E5:E35) -> 2058 | F36: =SUM(F5:F35) -> 2036 | G36: =SUM(G5:G35) -> 2012 | H36: =SUM(H5:H35) -> 1891 | I36: =SUM(I5:I35) -> 1829 | ... V36: =SUM(V5:V35) -> 1587
A37: Boulder Total | B37: =SUM(B8,B11,B12,B13,B15,B19,B20,B22,B28,B34+B6+B7) -> 981 | C37: =SUM(C8,C11,C12,C13,C15,C19,C20,C22,C28,C34+C6+C7) -> 975 | D37: =SUM(D8,D11,D12,D13,D15,D19,D20,D22,D28,D34+D6+D7) -> 920 | E37: =SUM(E8,E11,E12,E13,E15,E19,E20,E22,E28,E34+E6+E7) -> 962 | F37: =SUM(F8,F11,F12,F13,F15,F19,F20,F22,F28,F34+F6+F7) -> 939 | G37: =SUM(G8,G11,G12,G13,G15,G19,G20,G22,G28,G34+G6+G7) -> 966 | H37: =SUM(H8,H11,H12,H13,H15,H19,H20,H22,H28,H34+H6+H7) -> 880 | I37: =SUM(I8,I11,I12,I13,I15,I19,I20,I22,I28,I34+I6+I7) -> 840 | ... T37: =SUM(T8,T11,T12,T13,T15,T19,T20,T22,T28,T34+T6+T7) -> 594 | U37: =SUM(U8,U11,U12,U13,U15,U19,U20,U22,U28,U34+T1+U7) -> 586 | V37: =SUM(V8,V11,V12,V13,V15,V19,V20,V22,V28,V34+U1+V7) -> 621
A38: E County Total | B38: =SUM(B5,B9,B10,B14,B17,B18,B24,B25,B26,B29,B31,B32,B33+B27) -> 969 | C38: =SUM(C5,C9,C10,C14,C17,C18,C24,C25,C26,C29,C31,C32,C33+C27) -> 950 | D38: =SUM(D5,D9,D10,D14,D17,D18,D24,D25,D26,D29,D31,D32,D33+D27) -> 1013 | E38: =SUM(E5,E9,E10,E14,E17,E18,E24,E25,E26,E29,E31,E32,E33+E27) -> 963 | F38: =SUM(F5,F9,F10,F14,F17,F18,F24,F25,F26,F29,F31,F32,F33+F27) -> 967 | G38: =SUM(G5,G9,G10,G14,G17,G18,G24,G25,G26,G29,G31,G32,G33+G27) -> 920 | H38: =SUM(H5,H9,H10,H14,H17,H18,H24,H25,H26,H29,H31,H32,H33+H27) -> 898 | I38: =SUM(I5,I9,I10,I14,I17,I18,I24,I25,I26,I29,I31,I32,I33+I27) -> 890 | ... V38: =SUM(V5,V9,V10,V14,V17,V18,V24,V25,V26,V29,V31,V32,V33+V27) -> 877
B39: formula fields

Sheet LOAD-K and 1 by Elm 
A1: RESIDENT KINDERGARTEN LOAD SHEET
A2: Updated: 6/3/2025
B3: <----copy/paste to the left each year to retain formulas on each shool tab | R3: |<---------for cell reference only--------->|
B4: 2010/11 | C4: 2011/12 | D4: 2012/13 | E4: 2013/14 | F4: 2014/15 | G4: 2015/16 | H4: 2016/17 | I4: 2017/18 | J4: 2018/19 | K4: 2019/20 | L4: 2020/21 | M4: 2021/22 | N4: 2022/23 | O4: 2023/24 | P4: 2024/25 | Q4: 2025/26 | R4: 2026/27 | S4: 2027/28 | T4: 2028/29 | U4: 2029/30 | W4: Perhaps add dual adjustments to a separate worksheet that better shows calculation logic
A5: Aspen Crk | B5: 71 | C5: 84 | D5: 78 | E5: 53 | F5: 69 | G5: 55 | H5: 66 | I5: 67 | J5: 48 | K5: 49 | L5: 46 | M5: 48 | N5: 49 | O5: 46 | P5: 52 | Q5: 49 | W5: Year 1 | X5: Year2 | Y5: Year 3 | Z5: Year 4 | AA5: Year 5 | AB5: Year 6 | AC5: Year 7 | AF5: Year 1 | AG5: Year2 | AH5: Year 3 | AI5: Year 4 | AJ5: Year 5 | AK5: Year 6 | AL5: Year 7
A6: BC-Creekside | B6: 6 | C6: 2 | D6: 9 | E6: 3 | F6: 6 | G6: 3 | H6: 6 | I6: 8 | J6: 2 | K6: 7 | L6: 4 | M6: 3 | N6: 6 | O6: 2 | P6: 6 | Q6: 4 | W6: 2019/20 | X6: 2020/21 | Y6: 2021/22 | Z6: 2022/23 | AA6: 2023/24 | AB6: 2024/25 | AC6: 2025/26 | AD6: AVE | AF6: 2019/20 | AG6: 2020/21 | AH6: 2021/22 | AI6: 2022/23 | AJ6: 2023/24 | AK6: 2024/25 | AL6: 2025/26 | AM6: AVE
A7: BC-Mesa | B7: 36 | C7: 31 | D7: 30 | E7: 35 | F7: 31 | G7: 36 | H7: 30 | I7: 31 | J7: 26 | K7: 24 | L7: 25 | M7: 20 | N7: 33 | O7: 12 | P7: 19 | Q7: 19 | V7: BC-Mesa Attg. Bear Creek | AE7: BC-Mesa Attg. Other School (half)
A8: Bear Creek | B8: 37 | C8: 35 | D8: 35 | E8: 47 | F8: 27 | G8: 44 | H8: 31 | I8: 37 | J8: 32 | K8: 26 | L8: 19 | M8: 30 | N8: 23 | O8: 23 | P8: 22 | Q8: 23 | V8: K | W8: 13 | X8: 11 | Y8: 11 | Z8: 18 | AA8: 2 | AB8: 12 | AC8: 8 | AE8: 6 | AF8: =ROUND((K7-(W8+W28))*0.5,0) -> 3 | AG8: =ROUND((L7-(X8+X28))*0.5,0) -> 3 | AH8: =ROUND((M7-(Y8+Y28))*0.5,0) -> 2 | AI8: =ROUND((N7-(Z8+Z28))*0.5,0) -> 5 | AJ8: =ROUND((O7-(AA8+AA28))*0.5,0) -> 2 | AK8: =ROUND((P7-(AB8+AB28))*0.5,0) -> 2 | AL8: =ROUND((Q7-(AC8+AC28))*0.5,0) -> 3
A9: Birch | B9: 56 | C9: 56 | D9: 46 | E9: 54 | F9: 54 | G9: 53 | H9: 58 | I9: 59 | J9: 61 | K9: 51 | L9: 37 | M9: 50 | N9: 48 | O9: 33 | P9: 51 | Q9: 35 | V9: K % of BC-Mesa | W9: =W8/K7 -> 0.54166667 | X9: =X8/L7 -> 0.44 | Y9: =Y8/M7 -> 0.55 | Z9: =Z8/N7 -> 0.54545455 | AA9: =AA8/O7 -> 0.16666667 | AB9: =AB8/P7 -> 0.63157895 | AC9: =AC8/Q7 -> 0.42105263 | AD9: =AVERAGE(W9:AC9) -> 0.47091707 | AF9: =AF8/K7 -> 0.125 | AH9: =AH8/M7 -> 0.1 | AI9: =AI8/N7 -> 0.15151515 | AJ9: =AJ8/O7 -> 0.16666667 | AK9: =AK8/P7 -> 0.10526316 | AL9: =AL8/Q7 -> 0.15789474 | AM9: =AVERAGE(AF9:AL9) -> 0.13438995
A10: Coal Creek | B10: 74 | C10: 70 | D10: 77 | E10: 62 | F10: 62 | G10: 68 | H10: 72 | I10: 58 | J10: 75 | K10: 55 | L10: 54 | M10: 66 | N10: 44 | O10: 41 | P10: 47 | Q10: 40 | W10: or better yet, put in BC-Mesa tab
A11: Columbine | B11: 110 | C11: 124 | D11: 111 | E11: 120 | F11: 103 | G11: 122 | H11: 105 | I11: 103 | J11: 87 | K11: 100 | L11: 98 | M11: 88 | N11: 92 | O11: 89 | P11: 86 | Q11: 79
A12: Creekside | B12: 95 | C12: 97 | D12: 91 | E12: 98 | F12: 93 | G12: 91 | H12: 94 | I12: 81 | J12: 93 | K12: 101 | L12: 80 | M12: 74 | N12: 82 | O12: 69 | P12: 68 | Q12: 59
A13: Crest View | B13: 148 | C13: 133 | D13: 124 | E13: 117 | F13: 119 | G13: 129 | H13: 141 | I13: 120 | J13: 132 | K13: 124 | L13: 88 | M13: 122 | N13: 118 | O13: 86 | P13: 90 | Q13: 115
A14: Douglass | B14: 59 | C14: 55 | D14: 69 | E14: 66 | F14: 61 | G14: 66 | H14: 43 | I14: 59 | J14: 39 | K14: 51 | L14: 33 | M14: 42 | N14: 39 | O14: 35 | P14: 38 | Q14: 40
A15: Eisenhower | B15: 93 | C15: 67 | D15: 62 | E15: 83 | F15: 70 | G15: 62 | H15: 78 | I15: 60 | J15: 69 | K15: 71 | L15: 54 | M15: 57 | N15: 51 | O15: 57 | P15: 51 | Q15: 51
A16: Eldorado (K-5) | B16: 98 | C16: 89 | D16: 84 | E16: 79 | F16: 59 | G16: 56 | H16: 44 | I16: 44 | J16: 46 | K16: 33 | L16: 34 | M16: 44 | N16: 38 | O16: 27 | P16: 31 | Q16: 34
A17: Emerald | B17: 56 | C17: 67 | D17: 44 | E17: 66 | F17: 75 | G17: 62 | H17: 64 | I17: 64 | J17: 69 | K17: 67 | L17: 63 | M17: 51 | N17: 62 | O17: 43 | P17: 64 | Q17: 56
A18: Fireside | B18: 52 | C18: 68 | D18: 49 | E18: 59 | F18: 52 | G18: 59 | H18: 74 | I18: 57 | J18: 54 | K18: 67 | L18: 48 | M18: 54 | N18: 50 | O18: 41 | P18: 43 | Q18: 47
A19: Flatirons | B19: 45 | C19: 54 | D19: 47 | E19: 43 | F19: 35 | G19: 40 | H19: 36 | I19: 47 | J19: 31 | K19: 37 | L19: 25 | M19: 30 | N19: 37 | O19: 32 | P19: 29 | Q19: 29
A20: Foothill | B20: 94 | C20: 112 | D20: 107 | E20: 110 | F20: 89 | G20: 97 | H20: 87 | I20: 92 | J20: 68 | K20: 74 | L20: 62 | M20: 69 | N20: 68 | O20: 63 | P20: 50 | Q20: 55
A21: Gold Hill | B21: 2 | C21: 1 | D21: 2 | E21: 0 | F21: 2 | G21: 0 | H21: 4 | I21: 2 | J21: 1 | K21: 0 | L21: 1 | M21: 3 | N21: 2 | O21: 1 | P21: 0 | Q21: 3
A22: Heatherwood | B22: 56 | C22: 62 | D22: 65 | E22: 45 | F22: 64 | G22: 53 | H22: 62 | I22: 55 | J22: 50 | K22: 49 | L22: 50 | M22: 49 | N22: 32 | O22: 48 | P22: 47 | Q22: 35
... A24: Kohl | B24: 49 | C24: 52 | D24: 44 | E24: 53 | F24: 66 | G24: 51 | H24: 56 | I24: 50 | J24: 52 | K24: 41 | L24: 34 | M24: 46 | N24: 41 | O24: 34 | P24: 37 | Q24: 58
A25: Lafayette* | B25: 101 | C25: 111 | D25: 110 | E25: 97 | F25: 110 | G25: 88 | H25: 116 | I25: 103 | J25: 93 | K25: 108 | L25: 90 | M25: 108 | N25: 90 | O25: 85 | P25: 100 | Q25: 92 | W25: Year 1 | X25: Year2 | Y25: Year 3 | Z25: Year 4 | AA25: Year 5 | AB25: Year 6 | AC25: Year 7 | AF25: Year 1 | AG25: Year2 | AH25: Year 3 | AI25: Year 4 | AJ25: Year 5 | AK25: Year 6 | AL25: Year 7
A26: Louisville | B26: 72 | C26: 85 | D26: 85 | E26: 94 | F26: 96 | G26: 109 | H26: 96 | I26: 90 | J26: 88 | K26: 86 | L26: 61 | M26: 85 | N26: 59 | O26: 68 | P26: 59 | Q26: 54 | W26: 2019/20 | X26: 2020/21 | Y26: 2021/22 | Z26: 2022/23 | AA26: 2023/24 | AB26: 2024/25 | AC26: 2025/26 | AD26: AVE | AF26: 2019/20 | AG26: 2020/21 | AH26: 2021/22 | AI26: 2022/23 | AJ26: 2023/24 | AK26: 2024/25 | AL26: 2025/26 | AM26: AVE
A27: Meadowlark | B27: 53 | C27: 41 | D27: 31 | E27: 46 | F27: 42 | G27: 37 | H27: 47 | I27: 60 | J27: 91 | K27: 102 | L27: 74 | M27: 97 | N27: 95 | O27: 95 | P27: 112 | Q27: 91 | V27: BC-Mesa Attg. Mesa | AE27: BC-Mesa Attg. Other School (half)
A28: Mesa | B28: 38 | C28: 41 | D28: 30 | E28: 34 | F28: 38 | G28: 33 | H28: 28 | I28: 28 | J28: 31 | K28: 30 | L28: 25 | M28: 27 | N28: 24 | O28: 25 | P28: 25 | Q28: 24 | V28: K | W28: 5 | X28: 8 | Y28: 5 | Z28: 6 | AA28: 6 | AB28: 4 | AC28: 6 | AE28: 6 | AF28: =ROUND((K7-(W8+W28))*0.5,0) -> 3 | AG28: =ROUND((L7-(X8+X28))*0.5,0) -> 3 | AH28: =ROUND((M7-(Y8+Y28))*0.5,0) -> 2 | AI28: =ROUND((N7-(Z8+Z28))*0.5,0) -> 5 | AJ28: =ROUND((O7-(AA8+AA28))*0.5,0) -> 2 | AK28: =ROUND((P7-(AB8+AB28))*0.5,0) -> 2 | AL28: =ROUND((Q7-(AC8+AC28))*0.5,0) -> 3
A29: Monarch (K-5) | B29: 37 | C29: 40 | D29: 60 | E29: 60 | F29: 65 | G29: 44 | H29: 42 | I29: 48 | J29: 39 | K29: 55 | L29: 34 | M29: 31 | N29: 39 | O29: 38 | P29: 45 | Q29: 64 | V29: K % of BC-Mesa | W29: =W28/K8 -> 0.19230769 | X29: =X28/L8 -> 0.42105263 | Y29: =Y28/M8 -> 0.16666667 | Z29: =Z28/N8 -> 0.26086957 | AA29: =AA28/O8 -> 0.26086957 | AB29: =AB28/P8 -> 0.18181818 | AC29: =AC28/Q8 -> 0.26086957 | AD29: =AVERAGE(W29:AC29) -> 0.2492077 | AF29: =AF8/K7 -> 0.125 | AG29: =AG8/L7 -> 0.12 | AH29: =AH8/M7 -> 0.1 | AI29: =AI8/N7 -> 0.15151515 | AJ29: =AJ8/O7 -> 0.16666667 | AK29: =AK8/P7 -> 0.10526316 | AL29: =AL8/Q7 -> 0.15789474 | AM29: =AVERAGE(AF29:AL29) -> 0.13233424
A30: Nederland | B30: 55 | C30: 52 | D30: 59 | E30: 37 | F30: 44 | G30: 51 | H30: 37 | I30: 44 | J30: 38 | K30: 36 | L30: 26 | M30: 38 | N30: 24 | O30: 29 | P30: 38 | Q30: 28
A31: Ryan | B31: 79 | C31: 87 | D31: 101 | E31: 86 | F31: 94 | G31: 87 | H31: 70 | I31: 112 | J31: 106 | K31: 129 | L31: 85 | M31: 123 | N31: 107 | O31: 106 | P31: 84 | Q31: 81
A32: Sanchez | B32: 96 | C32: 105 | D32: 108 | E32: 99 | F32: 99 | G32: 101 | H32: 117 | I32: 124 | J32: 99 | K32: 99 | L32: 86 | M32: 90 | N32: 101 | O32: 86 | P32: 91 | Q32: 106
A33: Superior | B33: 83 | C33: 75 | D33: 70 | E33: 65 | F33: 48 | G33: 66 | H33: 75 | I33: 57 | J33: 57 | K33: 57 | L33: 62 | M33: 50 | N33: 60 | O33: 66 | P33: 39 | Q33: 54
A34: Whittier | B34: 85 | C34: 86 | D34: 92 | E34: 94 | F34: 93 | G34: 89 | H34: 73 | I34: 61 | J34: 77 | K34: 59 | L34: 49 | M34: 50 | N34: 46 | O34: 49 | P34: 56 | Q34: 42
A35: BVSD | B35: =SUM(B5:B34) -> 1938 | C35: =SUM(C5:C34) -> 1987 | D35: =SUM(D5:D34) -> 1923 | E35: =SUM(E5:E34) -> 1906 | F35: =SUM(F5:F34) -> 1868 | G35: =SUM(G5:G34) -> 1853 | H35: =SUM(H5:H34) -> 1854 | I35: =SUM(I5:I34) -> 1822 | ... Q35: =SUM(Q5:Q34) -> 1468
A36: Unknown | Q36: 3
A37: *All years adjusted to exclude students in the 2017 Meadowlark boundary
A39: RESIDENT 1st GRADE LOAD SHEET
B41: <----copy/paste to the left each year to retain formulas on each shool tab | R41: |<---------for cell reference only--------->|
B42: 2010/11 | C42: 2011/12 | D42: 2012/13 | E42: 2013/14 | F42: 2014/15 | G42: 2015/16 | H42: 2016/17 | I42: 2017/18 | J42: 2018/19 | K42: 2019/20 | L42: 2020/21 | M42: 2021/22 | N42: 2022/23 | O42: 2023/24 | P42: 2024/25 | Q42: 2025/26 | R42: 2027/28 | S42: 2028/29 | T42: 2029/30 | U42: 2030/31
B43: 76 | C43: 72 | D43: 90 | E43: 79 | F43: 59 | G43: 76 | H43: 60 | I43: 80 | J43: 72 | K43: 52 | L43: 41 | M43: 50 | N43: 48 | O43: 47 | P43: 46 | Q43: 52
A44: BC-Creekside | B44: 12 | C44: 8 | D44: 3 | E44: 10 | F44: 4 | G44: 7 | H44: 4 | I44: 6 | J44: 10 | K44: 2 | L44: 9 | M44: 7 | N44: 3 | O44: 7 | P44: 4 | Q44: 7
A45: BC-Mesa | B45: 26 | C45: 34 | D45: 38 | E45: 31 | F45: 38 | G45: 36 | H45: 31 | I45: 32 | J45: 37 | K45: 26 | L45: 21 | M45: 30 | N45: 23 | O45: 29 | P45: 11 | Q45: 20
A46: Bear Creek | B46: 23 | C46: 40 | D46: 40 | E46: 33 | F46: 49 | G46: 27 | H46: 45 | I46: 37 | J46: 39 | K46: 39 | L46: 30 | M46: 22 | N46: 32 | O46: 28 | P46: 27 | Q46: 20
A47: Birch | B47: 59 | C47: 53 | D47: 54 | E47: 49 | F47: 60 | G47: 55 | H47: 63 | I47: 59 | J47: 49 | K47: 54 | L47: 54 | M47: 37 | N47: 52 | O47: 53 | P47: 33 | Q47: 45
A48: Coal Creek | B48: 72 | C48: 86 | D48: 75 | E48: 82 | F48: 66 | G48: 68 | H48: 80 | I48: 84 | J48: 62 | K48: 74 | L48: 51 | M48: 67 | N48: 69 | O48: 50 | P48: 44 | Q48: 47
A49: Columbine | B49: 98 | C49: 107 | D49: 119 | E49: 106 | F49: 131 | G49: 106 | H49: 113 | I49: 108 | J49: 98 | K49: 89 | L49: 92 | M49: 75 | N49: 89 | O49: 85 | P49: 87 | Q49: 77
A50: Creekside | B50: 90 | C50: 88 | D50: 88 | E50: 90 | F50: 95 | G50: 77 | H50: 88 | I50: 92 | J50: 89 | K50: 93 | L50: 95 | M50: 84 | N50: 76 | O50: 86 | P50: 70 | Q50: 62
A51: Crest View | B51: 145 | C51: 158 | D51: 139 | E51: 136 | F51: 128 | G51: 126 | H51: 154 | I51: 147 | J51: 119 | K51: 134 | L51: 124 | M51: 98 | N51: 123 | O51: 115 | P51: 97 | Q51: 85
A52: Douglass | B52: 84 | C52: 58 | D52: 60 | E52: 78 | F52: 79 | G52: 81 | H52: 73 | I52: 43 | J52: 66 | K52: 53 | L52: 47 | M52: 48 | N52: 41 | O52: 45 | P52: 37 | Q52: 39
A53: Eisenhower | B53: 82 | C53: 101 | D53: 74 | E53: 67 | F53: 88 | G53: 78 | H53: 82 | I53: 82 | J53: 81 | K53: 72 | L53: 66 | M53: 75 | N53: 62 | O53: 60 | P53: 53 | Q53: 50
A54: Eldorado (K-5) | B54: 98 | C54: 89 | D54: 84 | E54: 79 | F54: 86 | G54: 67 | H54: 67 | I54: 53 | J54: 59 | K54: 54 | L54: 39 | M54: 44 | N54: 44 | O54: 36 | P54: 30 | Q54: 38
A55: Emerald | B55: 56 | C55: 68 | D55: 44 | E55: 66 | F55: 77 | G55: 70 | H55: 65 | I55: 58 | J55: 68 | K55: 67 | L55: 52 | M55: 50 | N55: 54 | O55: 60 | P55: 44 | Q55: 57
... A64: Louisville | B64: 89 | C64: 83 | D64: 94 | E64: 117 | F64: 100 | G64: 102 | H64: 118 | I64: 102 | J64: 105 | K64: 97 | L64: 88 | M64: 78 | N64: 89 | O64: 56 | P64: 72 | Q64: 62
A65: Meadowlark | F65: 31 | G65: 48 | H65: 45 | I65: 60 | J65: 77 | K65: 103 | L65: 110 | M65: 85 | N65: 109 | O65: 97 | P65: 92 | Q65: 112
A66: Mesa | B66: 31 | C66: 43 | D66: 41 | E66: 34 | F66: 47 | G66: 41 | H66: 38 | I66: 32 | J66: 32 | K66: 33 | L66: 25 | M66: 32 | N66: 25 | O66: 25 | P66: 24 | Q66: 23
A67: Monarch (K-5) | B67: 61 | C67: 41 | D67: 45 | E67: 64 | F67: 65 | G67: 73 | H67: 53 | I67: 52 | J67: 58 | K67: 44 | L67: 46 | M67: 39 | N67: 30 | O67: 42 | P67: 40 | Q67: 42
A68: Nederland | B68: 58 | C68: 50 | D68: 53 | E68: 54 | F68: 40 | G68: 49 | H68: 52 | I68: 42 | J68: 49 | K68: 33 | L68: 35 | M68: 24 | N68: 41 | O68: 22 | P68: 29 | Q68: 38
A69: Ryan | B69: 94 | C69: 92 | D69: 89 | E69: 93 | F69: 97 | G69: 98 | H69: 90 | I69: 84 | J69: 122 | K69: 114 | L69: 121 | M69: 92 | N69: 120 | O69: 99 | P69: 109 | Q69: 84
A70: Sanchez | B70: 86 | C70: 98 | D70: 101 | E70: 112 | F70: 108 | G70: 110 | H70: 103 | I70: 123 | J70: 115 | K70: 92 | L70: 95 | M70: 98 | N70: 94 | O70: 100 | P70: 102 | Q70: 93
A71: Superior | B71: 96 | C71: 89 | D71: 91 | E71: 78 | F71: 76 | G71: 62 | H71: 70 | I71: 90 | J71: 65 | K71: 78 | L71: 64 | M71: 81 | N71: 53 | O71: 65 | P71: 67 | Q71: 39
A72: Whittier | B72: 88 | C72: 83 | D72: 83 | E72: 91 | F72: 91 | G72: 100 | H72: 84 | I72: 76 | J72: 65 | K72: 71 | L72: 55 | M72: 58 | N72: 55 | O72: 52 | P72: 45 | Q72: 54
A73: BVSD | B73: =SUM(B43:B72) -> 2015 | C73: =SUM(C43:C72) -> 2041 | D73: =SUM(D43:D72) -> 2021 | E73: =SUM(E43:E72) -> 2041 | F73: =SUM(F43:F72) -> 2089 | G73: =SUM(G43:G72) -> 2008 | H73: =SUM(H43:H72) -> 1976 | I73: =SUM(I43:I72) -> 1997 | ... Q73: =SUM(Q43:Q72) -> 1452
A74: *All years adjusted to exclude students in the 2017 Meadowlark boundary
A76: ENROLLMENT KINDERGAREN LOAD SHEET
B78: <----copy/paste to the left each year to retain formulas on each shool tab | R78: |<---------for cell reference only--------->|
B79: 2010/11 | C79: 2011/12 | D79: 2012/13 | E79: 2013/14 | F79: 2014/15 | G79: 2015/16 | H79: 2016/17 | I79: 2017/18 | J79: 2018/19 | K79: 2019/20 | L79: 2020/21 | M79: 2021/22 | N79: 2022/23 | O79: 2023/24 | P79: 2024/25 | Q79: 2025/26 | R79: 2027/28 | S79: 2028/29 | T79: 2029/30 | U79: 2030/31
A80: Aspen Crk | H80: 62 | I80: 64 | J80: 53 | K80: 52 | L80: 50 | M80: 51 | N80: 58 | O80: 61 | P80: 70 | Q80: 67
A81: BC-Creekside
A82: BC-Mesa
A83: Bear Creek | H83: 60 | I83: 70 | J83: 48 | K83: 43 | L83: 29 | M83: 48 | N83: 50 | O83: 32 | P83: 51 | Q83: 48
A84: Birch | H84: 63 | I84: 70 | J84: 63 | K84: 55 | L84: 39 | M84: 52 | N84: 48 | O84: 36 | P84: 49 | Q84: 38
A85: Coal Creek | H85: 62 | I85: 48 | J85: 58 | K85: 51 | L85: 45 | M85: 50 | N85: 38 | O85: 38 | P85: 39 | Q85: 39
A86: Columbine | H86: 82 | I86: 80 | J86: 70 | K86: 71 | L86: 46 | M86: 53 | N86: 54 | O86: 55 | P86: 52 | Q86: 55
A87: Creekside | H87: 49 | I87: 56 | J87: 64 | K87: 73 | L87: 45 | M87: 55 | N87: 56 | O87: 43 | P87: 44 | Q87: 33
A88: Crest View | H88: 95 | I88: 77 | J88: 77 | K88: 86 | L88: 50 | M88: 70 | N88: 60 | O88: 49 | P88: 44 | Q88: 49
A89: Douglass | H89: 43 | I89: 55 | J89: 41 | K89: 48 | L89: 26 | M89: 37 | N89: 42 | O89: 42 | P89: 39 | Q89: 44
A90: Eisenhower | H90: 66 | I90: 45 | J90: 52 | K90: 58 | L90: 44 | M90: 46 | N90: 41 | O90: 45 | P90: 29 | Q90: 41
A91: Eldorado (K-5) | H91: 43 | I91: 46 | J91: 38 | K91: 44 | L91: 39 | M91: 43 | N91: 32 | O91: 25 | P91: 31 | Q91: 39
A92: Emerald | H92: 59 | I92: 65 | J92: 69 | K92: 69 | L92: 65 | M92: 59 | N92: 64 | O92: 45 | P92: 72 | Q92: 69
A93: Fireside | H93: 77 | I93: 66 | J93: 61 | K93: 71 | L93: 57 | M93: 69 | N93: 58 | O93: 58 | P93: 54 | Q93: 74
A94: Flatirons | H94: 26 | I94: 38 | J94: 26 | K94: 34 | L94: 23 | M94: 27 | N94: 29 | O94: 26 | P94: 26 | Q94: 26
... A101: Louisville | H101: 78 | I101: 72 | J101: 72 | K101: 70 | L101: 45 | M101: 66 | N101: 58 | O101: 58 | P101: 65 | Q101: 46
A102: Meadowlark | I102: 58 | J102: 90 | K102: 81 | L102: 63 | M102: 72 | N102: 68 | O102: 65 | P102: 75 | Q102: 84
A103: Mesa | H103: 35 | I103: 32 | J103: 38 | K103: 36 | L103: 33 | M103: 34 | N103: 27 | O103: 26 | P103: 33 | Q103: 28
A104: Monarch (K-5) | H104: 50 | I104: 47 | J104: 38 | K104: 61 | L104: 36 | M104: 35 | N104: 34 | O104: 39 | P104: 41 | Q104: 43
A105: Nederland | H105: 34 | I105: 41 | J105: 33 | K105: 31 | L105: 20 | M105: 36 | N105: 23 | O105: 24 | P105: 33 | Q105: 25
A106: Ryan | H106: 62 | I106: 74 | J106: 79 | K106: 82 | L106: 54 | M106: 86 | N106: 70 | O106: 71 | P106: 54 | Q106: 57
A107: Sanchez | H107: 65 | I107: 70 | J107: 52 | K107: 47 | L107: 41 | M107: 44 | N107: 57 | O107: 31 | P107: 48 | Q107: 37
A108: Superior | H108: 71 | I108: 56 | J108: 54 | K108: 58 | L108: 58 | M108: 58 | N108: 68 | O108: 74 | P108: 55 | Q108: 79
A109: Whittier | H109: 61 | I109: 58 | J109: 72 | K109: 49 | L109: 37 | M109: 43 | N109: 48 | O109: 44 | P109: 46 | Q109: 38
A110: Focus/Charter (only needed for BVSD total)
A111: BCSIS | H111: 46 | I111: 45 | J111: 46 | K111: 47 | L111: 44 | M111: 46 | N111: 37 | O111: 38 | P111: 42 | Q111: 37
A112: Boulder Universal | H112: 0 | I112: 0 | J112: 0 | K112: 0 | L112: 28 | M112: 13 | N112: 5 | O112: 3 | P112: 7 | Q112: 2
A113: Com. Montessori | H113: 43 | I113: 40 | J113: 44 | K113: 41 | L113: 33 | M113: 35 | N113: 41 | O113: 41 | P113: 40 | Q113: 32
A114: High Peaks | H114: 35 | I114: 42 | J114: 34 | K114: 45 | L114: 36 | M114: 35 | N114: 43 | O114: 26 | P114: 43 | Q114: 47
A115: Horizon | H115: 36 | I115: 36 | J115: 36 | K115: 36 | L115: 36 | M115: 36 | N115: 34 | O115: 24 | P115: 28 | Q115: 37
A116: Peak to Peak | H116: 73 | I116: 72 | J116: 72 | K116: 74 | L116: 72 | M116: 72 | N116: 71 | P116: 70 | Q116: 72
A117: Pioneer | H117: 78 | I117: 83 | J117: 78 | K117: 80 | L117: 72 | M117: 73 | N117: 76 | O117: 75 | P117: 63 | Q117: 63
A118: University Hill | H118: 78 | I118: 76 | J118: 79 | K118: 79 | L118: 68 | M118: 67 | N118: 61 | O118: 54 | P118: 58 | Q118: 58
I119: 1927 | J119: 1860 | K119: 1894 | L119: 1523 | M119: 1729 | N119: 1658 | O119: =SUM(O80:O118) -> 1461 | P119: =SUM(P80:P118) -> 1609 | Q119: =SUM(Q80:Q118) -> 1626

Sheet EXPORT TABLE-Births to K Est.
B2: Export Birth to Kindergarten Estimates Table
B3: For populating "LOAD TABLE-Birth to K Est." in Projeciton Worksheets
C5: Year 0 | D5: Year +1 | E5: Year +2 | F5: Year +3 | G5: Year +4
C6: 2025/26 | D6: 2027/28 | E6: 2028/29 | F6: 2029/30 | G6: 2030/31
B7: ELEMENTARY
B8: Aspen Creek (K-5)
B9: Resident Estimate
B10: Basis A | C10: ='Aspen Crk'!R45 -> 49 | D10: ='Aspen Crk'!S45 -> 49.245724 | E10: ='Aspen Crk'!T45 -> 46.547303 | F10: ='Aspen Crk'!U45 -> 51.869862 | G10: ='Aspen Crk'!V45 -> 51.683904
B11: Basis B | C11: ='Aspen Crk'!R46 -> 49 | D11: ='Aspen Crk'!S46 -> 47.419255 | E11: ='Aspen Crk'!T46 -> 44.820916 | F11: ='Aspen Crk'!U46 -> 49.946067 | G11: ='Aspen Crk'!V46 -> 51.444626
B12: Basis C | C12: ='Aspen Crk'!R47 -> 49 | D12: ='Aspen Crk'!S47 -> 49.747029 | E12: ='Aspen Crk'!T47 -> 50.505447 | F12: ='Aspen Crk'!U47 -> 51.275428 | G12: ='Aspen Crk'!V47 -> 52.057147
B13: Enrolled Estimate
B14: Basis A | C14: ='Aspen Crk'!R58 -> 67 | D14: ='Aspen Crk'!S58 -> 61.845724 | E14: ='Aspen Crk'!T58 -> 59.147303 | F14: ='Aspen Crk'!U58 -> 64.469862 | G14: ='Aspen Crk'!V58 -> 64.283904
B15: Basis B | C15: ='Aspen Crk'!R59 -> 67 | D15: ='Aspen Crk'!S59 -> 60.019255 | E15: ='Aspen Crk'!T59 -> 57.420916 | F15: ='Aspen Crk'!U59 -> 62.546067 | G15: ='Aspen Crk'!V59 -> 64.044626
B16: Basis C | C16: ='Aspen Crk'!R60 -> 67 | D16: ='Aspen Crk'!S60 -> 62.347029 | E16: ='Aspen Crk'!T60 -> 63.105447 | F16: ='Aspen Crk'!U60 -> 63.875428 | G16: ='Aspen Crk'!V60 -> 64.657147
B18: Bear Creek
B19: Resident Estimate
B20: Basis A | C20: ='Bear Creek'!R45 -> 38 | D20: ='Bear Creek'!S45 -> 31.498221 | E20: ='Bear Creek'!T45 -> 45.178428 | F20: ='Bear Creek'!U45 -> 54.14662 | G20: ='Bear Creek'!V45 -> 64.992112
B21: Basis B | C21: ='Bear Creek'!R46 -> 38 | D21: ='Bear Creek'!S46 -> 26.375072 | E21: ='Bear Creek'!T46 -> 37.83021 | F21: ='Bear Creek'!U46 -> 45.339736 | G21: ='Bear Creek'!V46 -> 54.421222
B22: Basis C | C22: ='Bear Creek'!R47 -> 38 | D22: ='Bear Creek'!S47 -> 40.336776 | E22: ='Bear Creek'!T47 -> 42.817251 | F22: ='Bear Creek'!U47 -> 45.45026 | G22: ='Bear Creek'!V47 -> 48.245183
B23: Enrolled Estimate
B24: Basis A | C24: ='Bear Creek'!R58 -> 48 | D24: ='Bear Creek'!S58 -> 38.498221 | E24: ='Bear Creek'!T58 -> 52.178428 | F24: ='Bear Creek'!U58 -> 61.14662 | G24: ='Bear Creek'!V58 -> 71.992112
B25: Basis B | C25: ='Bear Creek'!R59 -> 48 | D25: ='Bear Creek'!S59 -> 33.375072 | E25: ='Bear Creek'!T59 -> 44.83021 | F25: ='Bear Creek'!U59 -> 52.339736 | G25: ='Bear Creek'!V59 -> 61.421222
B26: Basis C | C26: ='Bear Creek'!R60 -> 48 | D26: ='Bear Creek'!S60 -> 47.336776 | E26: ='Bear Creek'!T60 -> 49.817251 | F26: ='Bear Creek'!U60 -> 52.45026 | G26: ='Bear Creek'!V60 -> 55.245183
B28: BC-Mesa
B29: Resident Estimate
B30: Basis A | C30: ='BC-Mesa'!R45 -> 19 | D30: ='BC-Mesa'!S45 -> 29.914206 | E30: ='BC-Mesa'!T45 -> 39.364393 | F30: ='BC-Mesa'!U45 -> 27.67982 | G30: ='BC-Mesa'!V45 -> 42.773642
B31: Basis B | C31: ='BC-Mesa'!R46 -> 19 | D31: ='BC-Mesa'!S46 -> 24.379617 | E31: ='BC-Mesa'!T46 -> 32.081374 | F31: ='BC-Mesa'!U46 -> 22.558627 | G31: ='BC-Mesa'!V46 -> 34.85986
B32: Basis C | C32: ='BC-Mesa'!R47 -> 19 | D32: ='BC-Mesa'!S47 -> 24.409353 | E32: ='BC-Mesa'!T47 -> 31.358763 | F32: ='BC-Mesa'!U47 -> 40.286691 | G32: ='BC-Mesa'!V47 -> 51.756423
B33: Enrolled Estimate
B34: Basis A | C34: ='BC-Mesa'!R54+'BC-Mesa'!R55 -> 15.01 | D34: ='BC-Mesa'!S54+'BC-Mesa'!S55 -> 23.632222 | E34: ='BC-Mesa'!T54+'BC-Mesa'!T55 -> 31.09787 | F34: ='BC-Mesa'!U54+'BC-Mesa'!U55 -> 21.867058 | G34: ='BC-Mesa'!V54+'BC-Mesa'!V55 -> 33.791177
B35: Basis B | C35: ='BC-Mesa'!R55+'BC-Mesa'!R56 -> 4.37 | D35: ='BC-Mesa'!S55+'BC-Mesa'!S56 -> 6.8802673 | E35: ='BC-Mesa'!T55+'BC-Mesa'!T56 -> 9.0538104 | F35: ='BC-Mesa'!U55+'BC-Mesa'!U56 -> 6.3663586 | G35: ='BC-Mesa'!V55+'BC-Mesa'!V56 -> 9.8379377
B36: Basis C | C36: ='BC-Mesa'!R56+'BC-Mesa'!R57 -> 10.64 | D36: ='BC-Mesa'!S56+'BC-Mesa'!S57 -> 13.669238 | E36: ='BC-Mesa'!T56+'BC-Mesa'!T57 -> 17.965569 | F36: ='BC-Mesa'!U56+'BC-Mesa'!U57 -> 12.632831 | G36: ='BC-Mesa'!V56+'BC-Mesa'!V57 -> 19.521521
B38: Birch
B39: Resident Estimate
B40: Basis A | C40: =Birch!R45 -> 35 | D40: =Birch!S45 -> 31.203312 | E40: =Birch!T45 -> 34.01007 | F40: =Birch!U45 -> 34.582664 | G40: =Birch!V45 -> 34.281391
B41: Basis B | C41: =Birch!R46 -> 35 | D41: =Birch!S46 -> 33.185854 | E41: =Birch!T46 -> 36.170942 | F41: =Birch!U46 -> 36.779917 | G41: =Birch!V46 -> 38.460691
B42: Basis C | C42: =Birch!R47 -> 35 | D42: =Birch!S47 -> 34.908984 | E42: =Birch!T47 -> 34.818205 | F42: =Birch!U47 -> 34.727661 | G42: =Birch!V47 -> 34.637354
B43: Enrolled Estimate
B44: Basis A | C44: =Birch!R58 -> 38 | D44: =Birch!S58 -> 34.203312 | E44: =Birch!T58 -> 37.01007 | F44: =Birch!U58 -> 37.582664 | G44: =Birch!V58 -> 37.281391
B45: Basis B | C45: =Birch!R59 -> 38 | D45: =Birch!S59 -> 36.185854 | E45: =Birch!T59 -> 39.170942 | F45: =Birch!U59 -> 39.779917 | G45: =Birch!V59 -> 41.460691
B46: Basis C | C46: =Birch!R60 -> 38 | D46: =Birch!S60 -> 37.908984 | E46: =Birch!T60 -> 37.818205 | F46: =Birch!U60 -> 37.727661 | G46: =Birch!V60 -> 37.637354
B48: Coal Creek
B49: Resident Estimate
B50: Basis A | C50: ='Coal Creek'!R45 -> 40 | D50: ='Coal Creek'!S45 -> 51.398548 | E50: ='Coal Creek'!T45 -> 56.236254 | F50: ='Coal Creek'!U45 -> 32.624944 | G50: ='Coal Creek'!V45 -> 31.124303
B51: Basis B | C51: ='Coal Creek'!R46 -> 40 | D51: ='Coal Creek'!S46 -> 48.604346 | E51: ='Coal Creek'!T46 -> 53.179058 | F51: ='Coal Creek'!U46 -> 30.851339 | G51: ='Coal Creek'!V46 -> 34.076259
B52: Basis C | C52: ='Coal Creek'!R47 -> 40 | D52: ='Coal Creek'!S47 -> 39.132292 | E52: ='Coal Creek'!T47 -> 38.283407 | F52: ='Coal Creek'!U47 -> 37.452936 | G52: ='Coal Creek'!V47 -> 36.640481
B53: Enrolled Estimate
B54: Basis A | C54: ='Coal Creek'!R58 -> 39 | D54: ='Coal Creek'!S58 -> 44.598548 | E54: ='Coal Creek'!T58 -> 49.436254 | F54: ='Coal Creek'!U58 -> 25.824944 | G54: ='Coal Creek'!V58 -> 24.324303
B55: Basis B | C55: ='Coal Creek'!R59 -> 39 | D55: ='Coal Creek'!S59 -> 41.804346 | E55: ='Coal Creek'!T59 -> 46.379058 | F55: ='Coal Creek'!U59 -> 24.051339 | G55: ='Coal Creek'!V59 -> 27.276259
B56: Basis C | C56: ='Coal Creek'!R60 -> 39 | D56: ='Coal Creek'!S60 -> 32.332292 | E56: ='Coal Creek'!T60 -> 31.483407 | F56: ='Coal Creek'!U60 -> 30.652936 | G56: ='Coal Creek'!V60 -> 29.840481
B58: Columbine
B59: Resident Estimate
B60: Basis A | C60: =Columbine!R45 -> 79 | D60: =Columbine!S45 -> 81.682255 | E60: =Columbine!T45 -> 70.506523 | F60: =Columbine!U45 -> 72.295822 | G60: =Columbine!V45 -> 76.059748
B61: Basis B | C61: =Columbine!R46 -> 79 | D61: =Columbine!S46 -> 85.155554 | E61: =Columbine!T46 -> 73.504606 | F61: =Columbine!U46 -> 75.36999 | G61: =Columbine!V46 -> 79.293966
B62: Basis C | C62: =Columbine!R47 -> 79 | D62: =Columbine!S47 -> 78.497829 | E62: =Columbine!T47 -> 77.998851 | F62: =Columbine!U47 -> 77.503044 | G62: =Columbine!V47 -> 77.010389
B63: Enrolled Estimate
B64: Basis A | C64: =Columbine!R58 -> 55 | D64: =Columbine!S58 -> 49.932255 | E64: =Columbine!T58 -> 38.756523 | F64: =Columbine!U58 -> 40.545822 | G64: =Columbine!V58 -> 44.309748
B65: Basis B | C65: =Columbine!R59 -> 55 | D65: =Columbine!S59 -> 53.405554 | E65: =Columbine!T59 -> 41.754606 | F65: =Columbine!U59 -> 43.61999 | G65: =Columbine!V59 -> 47.543966
B66: Basis C | C66: =Columbine!R60 -> 55 | D66: =Columbine!S60 -> 46.747829 | E66: =Columbine!T60 -> 46.248851 | F66: =Columbine!U60 -> 45.753044 | G66: =Columbine!V60 -> 45.260389
B68: Creekside
B69: Resident Estimate
B70: Basis A | C70: =Creekside!R45 -> 59 | D70: =Creekside!S45 -> 56.111968 | E70: =Creekside!T45 -> 49.217431 | F70: =Creekside!U45 -> 52.925881 | G70: =Creekside!V45 -> 49.264441
B71: Basis B | C71: =Creekside!R46 -> 59 | D71: =Creekside!S46 -> 51.739285 | E71: =Creekside!T46 -> 45.382024 | F71: =Creekside!U46 -> 48.801483 | G71: =Creekside!V46 -> 48.050267
B72: Basis C | C72: =Creekside!R47 -> 59 | D72: =Creekside!S47 -> 56.556619 | E72: =Creekside!T47 -> 54.214426 | F72: =Creekside!U47 -> 51.969231 | G72: =Creekside!V47 -> 49.817016
B73: Enrolled Estimate
B74: Basis A | C74: =Creekside!R58 -> 33 | D74: =Creekside!S58 -> 36.091394 | E74: =Creekside!T58 -> 31.656805 | F74: =Creekside!U58 -> 34.042092 | G74: =Creekside!V58 -> 31.687043
B75: Basis B | C75: =Creekside!R59 -> 33 | D75: =Creekside!S59 -> 33.27887 | E75: =Creekside!T59 -> 29.18986 | F75: =Creekside!U59 -> 31.389266 | G75: =Creekside!V59 -> 30.906082
B76: Basis C | C76: =Creekside!R60 -> 33 | D76: =Creekside!S60 -> 36.377394 | E76: =Creekside!T60 -> 34.870888 | F76: =Creekside!U60 -> 33.426772 | G76: =Creekside!V60 -> 32.042461
B78: Crest View
B79: Resident Estimate
B80: Basis A | C80: ='Crest View'!R45 -> 115 | D80: ='Crest View'!S45 -> 115.05761 | E80: ='Crest View'!T45 -> 120.31408 | F80: ='Crest View'!U45 -> 106.87613 | G80: ='Crest View'!V45 -> 107.9237
B81: Basis B | C81: ='Crest View'!R46 -> 115 | D81: ='Crest View'!S46 -> 104.66459 | E81: ='Crest View'!T46 -> 109.44625 | F81: ='Crest View'!U46 -> 97.222128 | G81: ='Crest View'!V46 -> 100.04103
B82: Basis C | C82: ='Crest View'!R47 -> 115 | D82: ='Crest View'!S47 -> 113.39856 | E82: ='Crest View'!T47 -> 111.81941 | F82: ='Crest View'!U47 -> 110.26226 | G82: ='Crest View'!V47 -> 108.7268
B83: Enrolled Estimate
B84: Basis A | C84: ='Crest View'!R58 -> 49 | D84: ='Crest View'!S58 -> 63.257613 | E84: ='Crest View'!T58 -> 68.514079 | F84: ='Crest View'!U58 -> 55.076127 | G84: ='Crest View'!V58 -> 56.123699
B85: Basis B | C85: ='Crest View'!R59 -> 49 | D85: ='Crest View'!S59 -> 52.86459 | E85: ='Crest View'!T59 -> 57.646245 | F85: ='Crest View'!U59 -> 45.422128 | G85: ='Crest View'!V59 -> 48.24103
B86: Basis C | C86: ='Crest View'!R60 -> 49 | D86: ='Crest View'!S60 -> 61.598557 | E86: ='Crest View'!T60 -> 60.019415 | F86: ='Crest View'!U60 -> 58.462263 | G86: ='Crest View'!V60 -> 56.926796
B88: Douglass
B89: Resident Estimate
B90: Basis A | C90: =Douglass!R45 -> 40 | D90: =Douglass!S45 -> 37.183937 | E90: =Douglass!T45 -> 41.59608 | F90: =Douglass!U45 -> 46.134963 | G90: =Douglass!V45 -> 46.746406
B91: Basis B | C91: =Douglass!R46 -> 40 | D91: =Douglass!S46 -> 34.230721 | E91: =Douglass!T46 -> 38.292443 | F91: =Douglass!U46 -> 42.47084 | G91: =Douglass!V46 -> 41.116933
B92: Basis C | C92: =Douglass!R47 -> 40 | D92: =Douglass!S47 -> 41.339301 | E92: =Douglass!T47 -> 42.723445 | F92: =Douglass!U47 -> 44.153934 | G92: =Douglass!V47 -> 45.63232
B93: Enrolled Estimate
B94: Basis A | C94: =Douglass!R58 -> 44 | D94: =Douglass!S58 -> 41.183937 | E94: =Douglass!T58 -> 45.59608 | F94: =Douglass!U58 -> 50.134963 | G94: =Douglass!V58 -> 50.746406
B95: Basis B | C95: =Douglass!R59 -> 44 | D95: =Douglass!S59 -> 38.230721 | E95: =Douglass!T59 -> 42.292443 | F95: =Douglass!U59 -> 46.47084 | G95: =Douglass!V59 -> 45.116933
B96: Basis C | C96: =Douglass!R60 -> 44 | D96: =Douglass!S60 -> 45.339301 | E96: =Douglass!T60 -> 46.723445 | F96: =Douglass!U60 -> 48.153934 | G96: =Douglass!V60 -> 49.63232
B98: Eisenhower
B99: Resident Estimate
B100: Basis A | C100: =Eisenhower!R45 -> 51 | D100: =Eisenhower!S45 -> 62.797955 | E100: =Eisenhower!T45 -> 57.047522 | F100: =Eisenhower!U45 -> 56.312832 | G100: =Eisenhower!V45 -> 56.661326
B101: Basis B | C101: =Eisenhower!R46 -> 51 | D101: =Eisenhower!S46 -> 58.866489 | E101: =Eisenhower!T46 -> 53.476061 | F101: =Eisenhower!U46 -> 52.787367 | G101: =Eisenhower!V46 -> 54.823164
B102: Basis C | C102: =Eisenhower!R47 -> 51 | D102: =Eisenhower!S47 -> 52.696669 | E102: =Eisenhower!T47 -> 54.449782 | F102: =Eisenhower!U47 -> 56.261218 | G102: =Eisenhower!V47 -> 58.132917
B103: Enrolled Estimate
B104: Basis A | C104: =Eisenhower!R58 -> 41 | D104: =Eisenhower!S58 -> 48.017165 | E104: =Eisenhower!T58 -> 43.620214 | F104: =Eisenhower!U58 -> 43.058449 | G104: =Eisenhower!V58 -> 43.324918
B105: Basis B | C105: =Eisenhower!R59 -> 41 | D105: =Eisenhower!S59 -> 45.01105 | E105: =Eisenhower!T59 -> 40.88937 | F105: =Eisenhower!U59 -> 40.362775 | G105: =Eisenhower!V59 -> 41.919405
B106: Basis C | C106: =Eisenhower!R60 -> 41 | D106: =Eisenhower!S60 -> 40.293424 | E106: =Eisenhower!T60 -> 41.633906 | F106: =Eisenhower!U60 -> 43.018983 | G106: =Eisenhower!V60 -> 44.450139
B108: Eldorado (K-5)
B109: Resident Estimate
B110: Basis A | C110: =Eldorado!R45 -> 34 | D110: =Eldorado!S45 -> 46.528139 | E110: =Eldorado!T45 -> 41.342925 | F110: =Eldorado!U45 -> 31.549747 | G110: =Eldorado!V45 -> 33.220898
B111: Basis B | C111: =Eldorado!R46 -> 34 | D111: =Eldorado!S46 -> 44.027855 | E111: =Eldorado!T46 -> 39.121278 | F111: =Eldorado!U46 -> 29.854357 | G111: =Eldorado!V46 -> 33.10587
B112: Basis C | C112: =Eldorado!R47 -> 34 | D112: =Eldorado!S47 -> 34.621555 | E112: =Eldorado!T47 -> 35.254473 | F112: =Eldorado!U47 -> 35.898961 | G112: =Eldorado!V47 -> 36.555232
...

Sheet BVSD Trend
A1: BVSD Birth Trends | C1: (source: Colorado Department of Health and Environment)
A2: Total Fertility Rate 2010/2020: 1.4/1.0
A3: Birth by Age of Mother (%) | D3: 15-19 | E3: 20-24 | F3: 25-29 | G3: 30-34 | H3: 35-39 | I3: 40-44 | J3: 45+ | N3: 15-19 | O3: 20-24 | P3: 25-29 | Q3: 30-34 | R3: 35-39 | S3: 40-44 | T3: 45+
C4: 2000 | D4: 0.05 | E4: 0.12 | F4: 0.22 | G4: 0.33 | H4: 0.22 | I4: 0.06 | J4: 0
C5: 2010 | D5: 0.03 | E5: 0.09 | F5: 0.21 | G5: 0.36 | H5: 0.24 | I5: 0.06 | J5: 0.005
C6: 2022 | D6: 0.018412698 | E6: 0.062857143 | F6: 0.15047619 | G6: 0.37396825 | H6: 0.31492063 | I6: 0.074285714 | J6: 0.0050793651 | M6: 2022 | N6: 29 | O6: 99 | P6: 237 | Q6: 589 | R6: 496 | S6: 117 | T6: 8 | U6: =SUM(N6:T6) -> 1575
N7: =N6/1575 -> 0.018412698 | O7: =O6/1575 -> 0.062857143 | P7: =P6/1575 -> 0.15047619 | Q7: =Q6/1575 -> 0.37396825 | R7: =R6/1575 -> 0.31492063 | S7: =S6/1575 -> 0.074285714 | T7: =T6/1575 -> 0.0050793651
A25: Community Birth Trends
A26: Total Fertility Rate 2010: 1.8 (East)/1.2 (Boulder) | N26: 2021
A27: Birth by Age of Mother (%) | D27: 15-19 | E27: 20-24 | F27: 25-29 | G27: 30-34 | H27: 35-39 | I27: 40-44 | J27: 45-49 | N27: 15-19 | O27: 20-24 | P27: 25-29 | Q27: 30-34 | R27: 35-39 | S27: 40-44* | T27: 45-49
C28: Boulder 2022 | D28: 0.023608769 | E28: 0.064080944 | F28: 0.1079258 | G28: 0.36424958 | H28: 0.33895447 | I28: 0.091062395 | J28: 0.010118044 | M28: Boulder | N28: 14 | O28: 38 | P28: 64 | Q28: 216 | R28: 201 | S28: 54 | T28: 6 | U28: 593
C29: Eastern Communities 2022 | D29: 0.015274949 | E29: 0.062118126 | F29: 0.17617108 | G29: 0.37983707 | H29: 0.30040733 | I29: 0.064154786 | J29: 0.0020366599 | M29: East | N29: =N6-N28 -> 15 | O29: =O6-O28 -> 61 | P29: =P6-P28 -> 173 | Q29: =Q6-Q28 -> 373 | R29: =R6-R28 -> 295 | S29: =S6-S28 -> 63 | T29: =T6-T28 -> 2 | U29: =SUM(N29:T29) -> 982
N30: =N28/593 -> 0.023608769 | O30: =O28/593 -> 0.064080944 | P30: =P28/593 -> 0.1079258 | Q30: =Q28/593 -> 0.36424958 | R30: =R28/593 -> 0.33895447 | S30: =S28/593 -> 0.091062395 | T30: =T28/593 -> 0.010118044 | U30: =SUM(U28:U29) -> 1575 | V30: >no mountains
N31: =N29/982 -> 0.015274949 | O31: =O29/982 -> 0.062118126 | P31: =P29/982 -> 0.17617108 | Q31: =Q29/982 -> 0.37983707 | R31: =R29/982 -> 0.30040733 | S31: =S29/982 -> 0.064154786 | T31: =T29/982 -> 0.0020366599

Sheet BVSD Birth to K
B1: BVSD Birth/Kindergarten Population Correlation Worksheet
B2: updated 11/21/2025
B5: INPUT 1: KINDERGARTEN RESIDENT STUDENTS (entry formula from "Res K-1 Load Sheet" tab) | R5: Current Year
B6: Grade | C6: ='LOAD-K and 1 by Elm '!B4 -> 2010/11 | D6: ='LOAD-K and 1 by Elm '!C4 -> 2011/12 | E6: ='LOAD-K and 1 by Elm '!D4 -> 2012/13 | F6: ='LOAD-K and 1 by Elm '!E4 -> 2013/14 | G6: ='LOAD-K and 1 by Elm '!F4 -> 2014/15 | H6: ='LOAD-K and 1 by Elm '!G4 -> 2015/16 | I6: ='LOAD-K and 1 by Elm '!H4 -> 2016/17 | J6: ='LOAD-K and 1 by Elm '!I4 -> 2017/18 | ... R6: ='LOAD-K and 1 by Elm '!Q4 -> 2025/26 | S6: 2026/27 | T6: 2027/28 | U6: 2028/29 | V6: 2029/30
B7: K (resident) | C7: ='LOAD-K and 1 by Elm '!B35 -> 1938 | D7: ='LOAD-K and 1 by Elm '!C35 -> 1987 | E7: ='LOAD-K and 1 by Elm '!D35 -> 1923 | F7: ='LOAD-K and 1 by Elm '!E35 -> 1906 | G7: ='LOAD-K and 1 by Elm '!F35 -> 1868 | H7: ='LOAD-K and 1 by Elm '!G35 -> 1853 | I7: ='LOAD-K and 1 by Elm '!H35 -> 1854 | J7: ='LOAD-K and 1 by Elm '!I35 -> 1822 | ... Q7: ='LOAD-K and 1 by Elm '!P35 -> 1482 | R7: 1470
B8: K (enrolled) | C8: ='LOAD-K and 1 by Elm '!B119 -> 0 | D8: 2060 | E8: 2029 | F8: 2113 | G8: 2017 | H8: 2021 | I8: 1969 | J8: 1964 | K8: ='LOAD-K and 1 by Elm '!J119 -> 1860 | L8: ='LOAD-K and 1 by Elm '!K119 -> 1894 | M8: ='LOAD-K and 1 by Elm '!L119 -> 1523 | N8: ='LOAD-K and 1 by Elm '!M119 -> 1729 | O8: ='LOAD-K and 1 by Elm '!N119 -> 1658 | P8: ='LOAD-K and 1 by Elm '!O119 -> 1461 | Q8: ='LOAD-K and 1 by Elm '!P119 -> 1609 | R8: 1626
B9: 1st (resident) | C9: ='LOAD-K and 1 by Elm '!B73 -> 2015 | D9: ='LOAD-K and 1 by Elm '!C73 -> 2041 | E9: ='LOAD-K and 1 by Elm '!D73 -> 2021 | F9: ='LOAD-K and 1 by Elm '!E73 -> 2041 | G9: ='LOAD-K and 1 by Elm '!F73 -> 2089 | H9: ='LOAD-K and 1 by Elm '!G73 -> 2008 | I9: ='LOAD-K and 1 by Elm '!H73 -> 1976 | J9: ='LOAD-K and 1 by Elm '!I73 -> 1997 | ... Q9: ='LOAD-K and 1 by Elm '!P73 -> 1484 | R9: 1457
B10: K Change | D10: =D7-C7 -> 49 | E10: =E7-D7 -> -64 | F10: =F7-E7 -> -17 | G10: =G7-F7 -> -38 | H10: =H7-G7 -> -15 | I10: =I7-H7 -> 1 | J10: =J7-I7 -> -32 | K10: =K7-J7 -> -65 | ... R10: =R7-Q7 -> -12
B11: % K change | D11: =D10/C7 -> 0.025283798 | E11: =E10/D7 -> -0.032209361 | F11: =F10/E7 -> -0.0088403536 | G11: =G10/F7 -> -0.019937041 | H11: =H10/G7 -> -0.0080299786 | I11: =I10/H7 -> 0.00053966541 | J11: =J10/I7 -> -0.017259978 | K11: =K10/J7 -> -0.035675082 | ... R11: =R10/Q7 -> -0.008097166
C12: 2019 | D12: 2001 | E12: 2033 | F12: 2015 | G12: 2041 | H12: 2021 | I12: 2041 | J12: 2089 | K12: 2008 | L12: 1976 | M12: 1997 | N12: 1957 | O12: 1858 | P12: 1725 | Q12: 1642 | R12: 1693
B13: INPUT 2: BIRTH COHORT FOR EACH KINDERGAREN CLASS (born 5 and 6 prior - (entry formula from "Births by Elem. (Load)" tab)
B14: Births 5 Years Prior
B15: Birth Year | C15: ='LOAD-Births by Elem'!C4 -> 2005 | D15: ='LOAD-Births by Elem'!D4 -> 2006 | E15: ='LOAD-Births by Elem'!E4 -> 2007 | F15: ='LOAD-Births by Elem'!F4 -> 2008 | G15: ='LOAD-Births by Elem'!G4 -> 2009 | H15: ='LOAD-Births by Elem'!H4 -> 2010 | I15: ='LOAD-Births by Elem'!I4 -> 2011 | J15: ='LOAD-Births by Elem'!J4 -> 2012 | ... V15: ='LOAD-Births by Elem'!V4 -> 2024
B16: No. of Births | C16: ='LOAD-Births by Elem'!C36 -> 2109 | D16: ='LOAD-Births by Elem'!D36 -> 2105 | E16: ='LOAD-Births by Elem'!E36 -> 2058 | F16: ='LOAD-Births by Elem'!F36 -> 2036 | G16: ='LOAD-Births by Elem'!G36 -> 2012 | H16: ='LOAD-Births by Elem'!H36 -> 1891 | I16: ='LOAD-Births by Elem'!I36 -> 1829 | J16: ='LOAD-Births by Elem'!J36 -> 1956 | ... V16: ='LOAD-Births by Elem'!V36 -> 1587
B17: Births to K % | C17: =C7/C16 -> 0.91891892 | D17: =D7/D16 -> 0.94394299 | E17: =E7/E16 -> 0.93440233 | F17: =F7/F16 -> 0.93614931 | G17: =G7/G16 -> 0.92842942 | H17: =H7/H16 -> 0.97990481 | I17: =I7/I16 -> 1.0136687 | J17: =J7/J16 -> 0.93149284 | ... R17: =R7/R16 -> 0.92686003
B18: Births 6 Years Prior
B19: Birth Year | C19: ='LOAD-Births by Elem'!B4 -> 2004 | D19: ='LOAD-Births by Elem'!C4 -> 2005 | E19: ='LOAD-Births by Elem'!D4 -> 2006 | F19: ='LOAD-Births by Elem'!E4 -> 2007 | G19: ='LOAD-Births by Elem'!F4 -> 2008 | H19: ='LOAD-Births by Elem'!G4 -> 2009 | I19: ='LOAD-Births by Elem'!H4 -> 2010 | J19: ='LOAD-Births by Elem'!I4 -> 2011 | ... V19: ='LOAD-Births by Elem'!U4 -> 2023
B20: No. of Births | C20: ='LOAD-Births by Elem'!B36 -> 2113 | D20: ='LOAD-Births by Elem'!C36 -> 2109 | E20: ='LOAD-Births by Elem'!D36 -> 2105 | F20: ='LOAD-Births by Elem'!E36 -> 2058 | G20: ='LOAD-Births by Elem'!F36 -> 2036 | H20: ='LOAD-Births by Elem'!G36 -> 2012 | I20: ='LOAD-Births by Elem'!H36 -> 1891 | J20: ='LOAD-Births by Elem'!I36 -> 1829 | ... V20: ='LOAD-Births by Elem'!U36 -> 1524
B21: Births to K % | C21: =C7/C20 -> 0.91717937 | D21: =D7/D20 -> 0.94215268 | E21: =E7/E20 -> 0.91353919 | F21: =F7/F20 -> 0.92614189 | G21: =G7/G20 -> 0.91748527 | H21: =H7/H20 -> 0.92097416 | I21: =I7/I20 -> 0.98043363 | J21: =J7/J20 -> 0.99617277 | ... Q21: =Q7/Q20 -> 0.92394015 | R21: 0.72727273
B23: INPUT 3: PROPORTION OF KINDERGARTENERS BORN 5 and 6 YEARS PRIOR (Hand entered - based on D.O.B. in student file) -MANUALLY SHIFT ONE YEAR TO THE LEFT EACH YEAR
B24: adj. Yr. Manually> | C24: 2010/11 | D24: 2011/12 | E24: 2012/13 | F24: 2013/14 | G24: 2014/15 | H24: 2015/16 | I24: 2016/17 | J24: 2017/18 | K24: 2018/19 | L24: 2019/20 | M24: 2020/21 | N24: 2021/22 | O24: 2022/23 | P24: 2023/24 | Q24: 2024/25 | R24: 2025/26 | S24: 2026/27 | T24: 2027/28 | U24: 2028/29 | V24: 2029/30
B25: DOB 5-Yr Prior | C25: 1356 | D25: 1376 | E25: 1322 | F25: 1292 | G25: 1353 | H25: 1246 | I25: 1269 | J25: 1245 | K25: 1179 | L25: 1175 | M25: 945 | N25: 1147 | O25: 1041 | P25: 943 | Q25: 1020 | R25: 0
B26: % of Res. K | C26: =C25/C7 -> 0.6996904 | D26: =D25/D7 -> 0.69250126 | E26: =E25/E7 -> 0.6874675 | F26: =F25/F7 -> 0.67785939 | G26: =G25/G7 -> 0.72430407 | H26: =H25/H7 -> 0.6724231 | I26: =I25/I7 -> 0.68446602 | J26: =J25/J7 -> 0.68331504 | ... Q26: =Q25/Q7 -> 0.68825911 | R26: =AVERAGE(M26:Q26) -> 0.67255448 | S26: =AVERAGE(N26:R26) -> 0.67654051 | T26: =S26 -> 0.67654051 | U26: =T26 -> 0.67654051 | V26: =U26 -> 0.67654051
B27: DOB 6-Yr Prior | C27: 629 | D27: 618 | E27: 604 | F27: 605 | G27: 516 | H27: 607 | I27: 583 | J27: 578 | K27: 577 | L27: 614 | M27: 478 | N27: 507 | O27: 521 | P27: 490 | Q27: 459 | R27: 0
B28: % of Res. K | C28: =C27/C7 -> 0.3245614 | D28: =D27/D7 -> 0.31102164 | E28: =E27/E7 -> 0.31409256 | F28: =F27/F7 -> 0.31741868 | G28: =G27/G7 -> 0.27623126 | H28: =H27/H7 -> 0.3275769 | I28: =I27/I7 -> 0.31445523 | J28: =J27/J7 -> 0.31723381 | ... Q28: =Q27/Q7 -> 0.3097166 | R28: =AVERAGE(M28:Q28) -> 0.32473536 | S28: =AVERAGE(N28:R28) -> 0.32366033 | T28: =S28 -> 0.32366033 | U28: =T28 -> 0.32366033 | V28: =U28 -> 0.32366033
B30: CALCULATION: ADJUSTED BIRTH CLASS (based on proportion of birth 5 & 6 years prior to K class)
B31: Birth Year Range: | C31: =C19&" "&"to"&" "&C15 -> 2004 to 2005 | D31: =D19&" "&"to"&" "&D15 -> 2005 to 2006 | E31: =E19&" "&"to"&" "&E15 -> 2006 to 2007 | F31: =F19&" "&"to"&" "&F15 -> 2007 to 2008 | G31: =G19&" "&"to"&" "&G15 -> 2008 to 2009 | H31: =H19&" "&"to"&" "&H15 -> 2009 to 2010 | I31: =I19&" "&"to"&" "&I15 -> 2010 to 2011 | J31: =J19&" "&"to"&" "&J15 -> 2011 to 2012 | ... V31: =V19&" "&"to"&" "&V15 -> 2023 to 2024
B32: Adjusted Births | C32: =(C26*C16)+(C28*C20) -> 2161.4453 | D32: =(D26*D16)+(D28*D20) -> 2113.6598 | E32: =(E26*E16)+(E28*E20) -> 2075.973 | F32: =(F26*F16)+(F28*F20) -> 2033.3694 | G32: =(G26*G16)+(G28*G20) -> 2019.7066 | H32: =(H26*H16)+(H28*H20) -> 1930.6368 | I32: =(I26*I16)+(I28*I20) -> 1846.5232 | J32: =(J26*J16)+(J28*J20) -> 1916.7849 | ... V32: =(V26*V16)+(V28*V20) -> 1566.9281
B33: Change | D33: =D32-C32 -> -47.785516 | E33: =E32-D32 -> -37.68683 | F33: =F32-E32 -> -42.603599 | G33: =G32-F32 -> -13.662722 | H33: =H32-G32 -> -89.069833 | I33: =I32-H32 -> -84.113612 | J33: =J32-I32 -> 70.261659 | K33: =K32-J32 -> 8.5765597 | ... V33: =V32-U32 -> 26.115375
B34: % Change | D34: =D33/C32 -> -0.022108131 | E34: =E33/D32 -> -0.01783013 | F34: =F33/E32 -> -0.020522232 | G34: =G33/F32 -> -0.0067192523 | H34: =H33/G32 -> -0.044100381 | I34: =I33/H32 -> -0.043567807 | J34: =J33/I32 -> 0.038050786 | K34: =K33/J32 -> 0.0044744509 | ... U34: =U33/T32 -> -0.035770195 | V34: =AVERAGE(Q34:U34) -> -0.013558059
B35: Births to K% | C35: =C7/C32 -> 0.89662227 | D35: =D7/D32 -> 0.9400756 | E35: =E7/E32 -> 0.92631264 | F35: =F7/F32 -> 0.93736044 | G35: =G7/G32 -> 0.9248868 | H35: =H7/H32 -> 0.95978694 | I35: =I7/I32 -> 1.0040491 | J35: =J7/J32 -> 0.95055008 | ... R35: =R7/R32 -> 0.92995157
B36: Births to K | C36: =C7-C32 -> -223.4453 | D36: =D7-D32 -> -126.65979 | E36: =E7-E32 -> -152.97296 | F36: =F7-F32 -> -127.36936 | G36: =G7-G32 -> -151.70664 | H36: =H7-H32 -> -77.636805 | I36: =I7-I32 -> 7.4768069 | J36: =J7-J32 -> -94.784852 | ... R36: =R7-R32 -> -110.72748
O38: PROJECTED RESIDENT KINDERGARTENER CALCULATOR
R40: 2025/26 | S40: 2026/27 | T40: 2027/28 | U40: 2028/29 | V40: 2029/30
O41: A, B, C, Basis Calculations
O42: A) | P42: Annual % Birth change | R42: =R34 -> -0.003512651 | S42: =S34 -> 0.028788614 | T42: =T34 -> -0.017378722 | U42: =U34 -> -0.035770195 | V42: =V34 -> -0.013558059
O43: B) | P43: Ave B to K % | R43: =AVERAGE(O35:R35) -> 0.90586127 | S43: =R43 -> 0.90586127 | T43: =S43 -> 0.90586127 | U43: =T43 -> 0.90586127 | V43: =U43 -> 0.90586127
O44: C) | P44: Ave B % Change | R44: =AVERAGE(R34:V34) -> -0.0082862026 | S44: =R44 -> -0.0082862026 | T44: =S44 -> -0.0082862026 | U44: =T44 -> -0.0082862026 | V44: =U44 -> -0.0082862026
O45: Estimated Kindergarten Students
P46: Basis-A (B % change) | R46: =R7 -> 1470 | S46: =R46+(R46*S42) -> 1512.3193 | T46: =S46+(S46*T42) -> 1486.0371 | U46: =T46+(T46*U42) -> 1432.8812 | V46: =U46+(U46*V42) -> 1413.4542
P47: Basis-B (av. B to K%) | R47: =R46 -> 1470 | S47: =S43*S32 -> 1473.1428 | T47: =T43*T32 -> 1447.5415 | U47: =U43*U32 -> 1395.7626 | V47: =V43*V32 -> 1419.4195
P48: Basis-C (av. % change) | R48: =R47 -> 1470 | S48: =R48*(1+S44) -> 1457.8193 | T48: =S48*(1+T44) -> 1445.7395 | U48: =T48*(1+U44) -> 1433.7598 | V48: =U48*(1+V44) -> 1421.8794
O50: PROJECTED ENROLLED KINDERGARTENER CALCULATOR
O52: Ave. Diff. between Resident and Enrolled K: | S52: =ROUND(((R8-R7)+(Q8-Q7)+(P8-P7)+(O8-O7)+(N8-N7))/5,0) -> 98 | T52: =S52 -> 98 | U52: =T52 -> 98 | V52: =U52 -> 98
R53: 2025/26 | S53: 2026/27 | T53: 2027/28 | U53: 2028/29 | V53: 2029/30
O54: A, B, C, Basis Calculations
P55: Annual % Birth change | R55: =R42 -> -0.003512651 | S55: =S42 -> 0.028788614 | T55: =T42 -> -0.017378722 | U55: =U42 -> -0.035770195 | V55: =V42 -> -0.013558059
P56: Ave B to K % | R56: =R43 -> 0.90586127 | S56: =S43 -> 0.90586127 | T56: =T43 -> 0.90586127 | U56: =U43 -> 0.90586127 | V56: =V43 -> 0.90586127
P57: Ave B % Change | R57: =R44 -> -0.0082862026 | S57: =S44 -> -0.0082862026 | T57: =T44 -> -0.0082862026 | U57: =U44 -> -0.0082862026 | V57: =V44 -> -0.0082862026
O58: Estimated Kindergarten Students
P59: Basis-A (% change) | R59: =R8 -> 1626 | S59: =S46+S52 -> 1610.3193 | T59: =T46+T52 -> 1584.0371 | U59: =U46+U52 -> 1530.8812 | V59: =V46+V52 -> 1511.4542
P60: Basis-B (av. B to K%) | R60: =R59 -> 1626 | S60: =S47+S52 -> 1571.1428 | T60: =T47+T52 -> 1545.5415 | U60: =U47+U52 -> 1493.7626 | V60: =V47+V52 -> 1517.4195
P61: Basis-C (av. % change) | R61: =R60 -> 1626 | S61: =S48+S52 -> 1555.8193 | T61: =T48+T52 -> 1543.7395 | U61: =U48+U52 -> 1531.7598 | V61: =V48+V52 -> 1519.8794

Sheet Aspen Crk
B1: Aspen Creek K-5 Birth/Kindergarten Population Correlation Worksheet
B2: ='BVSD Birth to K'!B2 -> updated 11/21/2025
K4: =K8-K7 -> 5 | L4: =L8-L7 -> 3 | M4: =M8-M7 -> 4 | N4: =N8-N7 -> 3 | O4: =O8-O7 -> 9 | P4: =P8-P7 -> 15 | Q4: =Q8-Q7 -> 18 | R4: =R8-R7 -> 18
B5: INPUT 1: KINDERGARTEN RESIDENT STUDENTS (entry formula from "Res K-1 Load Sheet" tab) | R5: Current Year
B6: Grade | C6: ='LOAD-K and 1 by Elm '!B79 -> 2010/11 | D6: ='LOAD-K and 1 by Elm '!C79 -> 2011/12 | E6: ='LOAD-K and 1 by Elm '!D79 -> 2012/13 | F6: ='LOAD-K and 1 by Elm '!E79 -> 2013/14 | G6: ='LOAD-K and 1 by Elm '!F79 -> 2014/15 | H6: ='LOAD-K and 1 by Elm '!G79 -> 2015/16 | I6: ='LOAD-K and 1 by Elm '!H79 -> 2016/17 | J6: ='LOAD-K and 1 by Elm '!I79 -> 2017/18 | ... V6: ='LOAD-K and 1 by Elm '!U79 -> 2030/31
B7: K (resident) | C7: ='LOAD-K and 1 by Elm '!B5 -> 71 | D7: ='LOAD-K and 1 by Elm '!C5 -> 84 | E7: ='LOAD-K and 1 by Elm '!D5 -> 78 | F7: ='LOAD-K and 1 by Elm '!E5 -> 53 | G7: ='LOAD-K and 1 by Elm '!F5 -> 69 | H7: ='LOAD-K and 1 by Elm '!G5 -> 55 | I7: ='LOAD-K and 1 by Elm '!H5 -> 66 | J7: ='LOAD-K and 1 by Elm '!I5 -> 67 | ... R7: ='LOAD-K and 1 by Elm '!Q5 -> 49
B8: K (enrolled) | C8: ='LOAD-K and 1 by Elm '!B80 -> 0 | D8: ='LOAD-K and 1 by Elm '!C80 -> 0 | E8: ='LOAD-K and 1 by Elm '!D80 -> 0 | F8: ='LOAD-K and 1 by Elm '!E80 -> 0 | G8: ='LOAD-K and 1 by Elm '!F80 -> 0 | H8: ='LOAD-K and 1 by Elm '!G80 -> 0 | I8: ='LOAD-K and 1 by Elm '!H80 -> 62 | J8: ='LOAD-K and 1 by Elm '!I80 -> 64 | ... R8: ='LOAD-K and 1 by Elm '!Q80 -> 67
B9: 1st (resident) | C9: ='LOAD-K and 1 by Elm '!B43 -> 76 | D9: ='LOAD-K and 1 by Elm '!C43 -> 72 | E9: ='LOAD-K and 1 by Elm '!D43 -> 90 | F9: ='LOAD-K and 1 by Elm '!E43 -> 79 | G9: ='LOAD-K and 1 by Elm '!F43 -> 59 | H9: ='LOAD-K and 1 by Elm '!G43 -> 76 | I9: ='LOAD-K and 1 by Elm '!H43 -> 60 | J9: ='LOAD-K and 1 by Elm '!I43 -> 80 | ... R9: ='LOAD-K and 1 by Elm '!Q43 -> 52
B10: K Change | D10: =D7-C7 -> 13 | E10: =E7-D7 -> -6 | F10: =F7-E7 -> -25 | G10: =G7-F7 -> 16 | H10: =H7-G7 -> -14 | I10: =I7-H7 -> 11 | J10: =J7-I7 -> 1 | K10: =K7-J7 -> -19 | ... R10: =R7-Q7 -> -3
B11: % K change | D11: =D10/C7 -> 0.18309859 | E11: =E10/D7 -> -0.071428571 | F11: =F10/E7 -> -0.32051282 | G11: =G10/F7 -> 0.30188679 | H11: =H10/G7 -> -0.20289855 | I11: =I10/H7 -> 0.2 | J11: =J10/I7 -> 0.015151515 | K11: =K10/J7 -> -0.28358209 | ... R11: =R10/Q7 -> -0.057692308
B13: INPUT 2: BIRTH COHORT FOR EACH KINDERGAREN CLASS (born 5 and 6 prior - (entry formula from "Births by Elem. (Load)" tab)
B14: Births 5 Years Prior
B15: Birth Year | C15: ='LOAD-Births by Elem'!C4 -> 2005 | D15: ='LOAD-Births by Elem'!D4 -> 2006 | E15: ='LOAD-Births by Elem'!E4 -> 2007 | F15: ='LOAD-Births by Elem'!F4 -> 2008 | G15: ='LOAD-Births by Elem'!G4 -> 2009 | H15: ='LOAD-Births by Elem'!H4 -> 2010 | I15: ='LOAD-Births by Elem'!I4 -> 2011 | J15: ='LOAD-Births by Elem'!J4 -> 2012 | ... V15: ='LOAD-Births by Elem'!V4 -> 2024
B16: No. of Births | C16: ='LOAD-Births by Elem'!C5 -> 53 | D16: ='LOAD-Births by Elem'!D5 -> 62 | E16: ='LOAD-Births by Elem'!E5 -> 52 | F16: ='LOAD-Births by Elem'!F5 -> 56 | G16: ='LOAD-Births by Elem'!G5 -> 65 | H16: ='LOAD-Births by Elem'!H5 -> 56 | I16: ='LOAD-Births by Elem'!I5 -> 51 | J16: ='LOAD-Births by Elem'!J5 -> 61 | ... V16: ='LOAD-Births by Elem'!V5 -> 64
B17: Births to K % | C17: =C7/C16 -> 1.3396226 | D17: =D7/D16 -> 1.3548387 | E17: =E7/E16 -> 1.5 | F17: =F7/F16 -> 0.94642857 | G17: =G7/G16 -> 1.0615385 | H17: =H7/H16 -> 0.98214286 | I17: =I7/I16 -> 1.2941176 | J17: =J7/J16 -> 1.0983607 | ... R17: =R7/R16 -> 0.75384615
B18: Births 6 Years Prior
B19: Birth Year | C19: ='LOAD-Births by Elem'!B4 -> 2004 | D19: ='LOAD-Births by Elem'!C4 -> 2005 | E19: ='LOAD-Births by Elem'!D4 -> 2006 | F19: ='LOAD-Births by Elem'!E4 -> 2007 | G19: ='LOAD-Births by Elem'!F4 -> 2008 | H19: ='LOAD-Births by Elem'!G4 -> 2009 | I19: ='LOAD-Births by Elem'!H4 -> 2010 | J19: ='LOAD-Births by Elem'!I4 -> 2011 | ... V19: ='LOAD-Births by Elem'!U4 -> 2023
B20: No. of Births | C20: ='LOAD-Births by Elem'!B5 -> 57 | D20: ='LOAD-Births by Elem'!C5 -> 53 | E20: ='LOAD-Births by Elem'!D5 -> 62 | F20: ='LOAD-Births by Elem'!E5 -> 52 | G20: ='LOAD-Births by Elem'!F5 -> 56 | H20: ='LOAD-Births by Elem'!G5 -> 65 | I20: ='LOAD-Births by Elem'!H5 -> 56 | J20: ='LOAD-Births by Elem'!I5 -> 51 | ... V20: ='LOAD-Births by Elem'!U5 -> 66
B21: Births to K % | C21: =C7/C20 -> 1.245614 | D21: =D7/D20 -> 1.5849057 | E21: =E7/E20 -> 1.2580645 | F21: =F7/F20 -> 1.0192308 | G21: =G7/G20 -> 1.2321429 | H21: =H7/H20 -> 0.84615385 | I21: =I7/I20 -> 1.1785714 | J21: =J7/J20 -> 1.3137255 | ... Q21: =Q7/Q20 -> 0.78787879 | R21: 0.72727273
B23: INPUT 3: PROPORTION OF KINDERGARTENERS BORN 5 and 6 YEARS PRIOR (entry formula based on "BVSD Births to K" tab)
B24: DOB 5-Yr Prior | C24: District-wide Proportion Used
B25: % of Res. K | C25: ='BVSD Birth to K'!C26 -> 0.6996904 | D25: ='BVSD Birth to K'!D26 -> 0.69250126 | E25: ='BVSD Birth to K'!E26 -> 0.6874675 | F25: ='BVSD Birth to K'!F26 -> 0.67785939 | G25: ='BVSD Birth to K'!G26 -> 0.72430407 | H25: ='BVSD Birth to K'!H26 -> 0.6724231 | I25: ='BVSD Birth to K'!I26 -> 0.68446602 | J25: ='BVSD Birth to K'!J26 -> 0.68331504 | ... R25: ='BVSD Birth to K'!R26 -> 0.67255448 | S25: =AVERAGE(N25:R25) -> 0.67654051 | T25: =S25 -> 0.67654051 | U25: =T25 -> 0.67654051 | V25: =U25 -> 0.67654051
B26: DOB 6-Yr Prior | C26: District-wide Proportion Used
B27: % of Res. K | C27: ='BVSD Birth to K'!C28 -> 0.3245614 | D27: ='BVSD Birth to K'!D28 -> 0.31102164 | E27: ='BVSD Birth to K'!E28 -> 0.31409256 | F27: ='BVSD Birth to K'!F28 -> 0.31741868 | G27: ='BVSD Birth to K'!G28 -> 0.27623126 | H27: ='BVSD Birth to K'!H28 -> 0.3275769 | I27: ='BVSD Birth to K'!I28 -> 0.31445523 | J27: ='BVSD Birth to K'!J28 -> 0.31723381 | ... R27: ='BVSD Birth to K'!R28 -> 0.32473536 | S27: =AVERAGE(N27:R27) -> 0.32366033 | T27: =S27 -> 0.32366033 | U27: =T27 -> 0.32366033 | V27: =U27 -> 0.32366033
B29: CALCULATION: ADJUSTED BIRTH CLASS (based on proportion of birth 5 & 6 years prior to K class)
B30: Birth Year Range: | C30: =C19&" "&"to"&" "&C15 -> 2004 to 2005 | D30: =D19&" "&"to"&" "&D15 -> 2005 to 2006 | E30: =E19&" "&"to"&" "&E15 -> 2006 to 2007 | F30: =F19&" "&"to"&" "&F15 -> 2007 to 2008 | G30: =G19&" "&"to"&" "&G15 -> 2008 to 2009 | H30: =H19&" "&"to"&" "&H15 -> 2009 to 2010 | I30: =I19&" "&"to"&" "&I15 -> 2010 to 2011 | J30: =J19&" "&"to"&" "&J15 -> 2011 to 2012 | ... V30: =V19&" "&"to"&" "&V15 -> 2023 to 2024
B31: Adjusted Births | C31: =(C25*C16)+(C27*C20) -> 55.583591 | D31: =(D25*D16)+(D27*D20) -> 59.419225 | E31: =(E25*E16)+(E27*E20) -> 55.222049 | F31: =(F25*F16)+(F27*F20) -> 54.465897 | G31: =(G25*G16)+(G27*G20) -> 62.548715 | H31: =(H25*H16)+(H27*H20) -> 58.948192 | I31: =(I25*I16)+(I27*I20) -> 52.51726 | J31: =(J25*J16)+(J27*J20) -> 57.861142 | ... V31: =(V25*V16)+(V27*V20) -> 64.660175
B32: Change | D32: =D31-C31 -> 3.8356336 | E32: =E31-D31 -> -4.1971761 | F32: =F31-E31 -> -0.75615172 | G32: =G31-F31 -> 8.082818 | H32: =H31-G31 -> -3.6005231 | I32: =I31-H31 -> -6.4309321 | J32: =J31-I31 -> 5.3438816 | K32: =K31-J31 -> 7.1303211 | ... V32: =V31-U31 -> 1.8835223
B33: % Change | D33: =D32/C31 -> 0.069006582 | E33: =E32/D31 -> -0.070636668 | F33: =F32/E31 -> -0.013692931 | G33: =G32/F31 -> 0.14840145 | H33: =H32/G31 -> -0.057563502 | I33: =I32/H31 -> -0.10909465 | J33: =J32/I31 -> 0.10175477 | K33: =K32/J31 -> 0.1232316 | ... U33: =U32/T31 -> 0.1143473 | V33: =AVERAGE(Q33:U33) -> -0.0035850822
B34: Births to K% | C34: =C7/C31 -> 1.2773554 | D34: =D7/D31 -> 1.4136839 | E34: =E7/E31 -> 1.4124793 | F34: =F7/F31 -> 0.97308596 | G34: =G7/G31 -> 1.1031402 | H34: =H7/H31 -> 0.93302268 | I34: =I7/I31 -> 1.2567297 | J34: =J7/J31 -> 1.1579447 | ... R34: =R7/R31 -> 0.8262604
B35: Births to K | C35: =C7-C31 -> 15.416409 | D35: =D7-D31 -> 24.580775 | E35: =E7-E31 -> 22.777951 | F35: =F7-F31 -> -1.4658972 | G35: =G7-G31 -> 6.4512848 | H35: =H7-H31 -> -3.9481921 | I35: =I7-I31 -> 13.48274 | J35: =J7-J31 -> 9.1388584 | ... R35: =R7-R31 -> -10.303338
O37: PROJECTED RESIDENT KINDERGARTENER CALCULATOR
R39: =R6 -> 2025/26 | S39: =S6 -> 2027/28 | T39: =T6 -> 2028/29 | U39: =U6 -> 2029/30 | V39: =V6 -> 2030/31
O40: A, B, C, Basis Calculations
O41: A) | P41: Annual % Birth change | R41: =R33 -> 0.10893516 | S41: =S33 -> 0.0050147677 | T41: =T33 -> -0.054795019 | U41: =U33 -> 0.1143473 | V41: =V33 -> -0.0035850822
O42: B) | P42: Ave B to K % | R42: =AVERAGE(L34:R34) -> 0.79561532 | S42: =R42 -> 0.79561532 | T42: =S42 -> 0.79561532 | U42: =T42 -> 0.79561532 | V42: =U42 -> 0.79561532
O43: C) | P43: Ave B % Change | R43: =AVERAGE(S33:V33) -> 0.015245492 | S43: =R43 -> 0.015245492 | T43: =S43 -> 0.015245492 | U43: =T43 -> 0.015245492 | V43: =U43 -> 0.015245492
O44: Estimated Kindergarten Students
P45: Basis-A (B % change) | R45: =R7 -> 49 | S45: =R45+(R45*S41) -> 49.245724 | T45: =S45+(S45*T41) -> 46.547303 | U45: =T45+(T45*U41) -> 51.869862 | V45: =U45+(U45*V41) -> 51.683904
P46: Basis-B (av. B to K%) | R46: =R45 -> 49 | S46: =S42*S31 -> 47.419255 | T46: =T42*T31 -> 44.820916 | U46: =U42*U31 -> 49.946067 | V46: =V42*V31 -> 51.444626
P47: Basis-C (av. % change) | R47: =R46 -> 49 | S47: =R47*(1+S43) -> 49.747029 | T47: =S47*(1+T43) -> 50.505447 | U47: =T47*(1+U43) -> 51.275428 | V47: =U47*(1+V43) -> 52.057147
O49: PROJECTED ENROLLED KINDERGARTENER CALCULATOR
O51: Ave. Diff. between Resident and Enrolled K: | S51: =AVERAGE(N4:R4) -> 12.6 | T51: =S51 -> 12.6 | U51: =T51 -> 12.6 | V51: =U51 -> 12.6
R52: =R39 -> 2025/26 | S52: =S39 -> 2027/28 | T52: =T39 -> 2028/29 | U52: =U39 -> 2029/30 | V52: =V39 -> 2030/31
O53: A, B, C, Basis Calculations
P54: Annual % Birth change | R54: =R41 -> 0.10893516 | S54: =S41 -> 0.0050147677 | T54: =T41 -> -0.054795019 | U54: =U41 -> 0.1143473 | V54: =V41 -> -0.0035850822
P55: Ave B to K % | R55: =R42 -> 0.79561532 | S55: =S42 -> 0.79561532 | T55: =T42 -> 0.79561532 | U55: =U42 -> 0.79561532 | V55: =V42 -> 0.79561532
P56: Ave B % Change | R56: =R43 -> 0.015245492 | S56: =S43 -> 0.015245492 | T56: =T43 -> 0.015245492 | U56: =U43 -> 0.015245492 | V56: =V43 -> 0.015245492
O57: Estimated Kindergarten Students
P58: Basis-A (% change) | R58: =R8 -> 67 | S58: =S45+S51 -> 61.845724 | T58: =T45+T51 -> 59.147303 | U58: =U45+U51 -> 64.469862 | V58: =V45+V51 -> 64.283904
P59: Basis-B (av. B to K%) | R59: =R58 -> 67 | S59: =S46+S51 -> 60.019255 | T59: =T46+T51 -> 57.420916 | U59: =U46+U51 -> 62.546067 | V59: =V46+V51 -> 64.044626
P60: Basis-C (av. % change) | R60: =R59 -> 67 | S60: =S47+S51 -> 62.347029 | T60: =T47+T51 -> 63.105447 | U60: =U47+U51 -> 63.875428 | V60: =V47+V51 -> 64.657147

Sheet Bear Creek
B1: Bear Creek El. Birth/Kindergarten Population Correlation Worksheet
B2: ='BVSD Birth to K'!B2 -> updated 11/21/2025
B3: note: Bear Creek current and historic resident K and births include births/students from the previous Bear Creek-Creekside dual area, which was absorbed into Bear Creek in 2025)
I4: =I8-I7 -> 23 | J4: =J8-J7 -> 25 | K4: =K8-K7 -> 14 | L4: =L8-L7 -> -6 | M4: =M8-M7 -> -8 | N4: =N8-N7 -> 2 | O4: =O8-O7 -> -2 | P4: =P8-P7 -> 3 | ... R4: =R8-R7 -> 10
B5: INPUT 1: KINDERGARTEN RESIDENT STUDENTS (entry formula from "Res K-1 Load Sheet" tab) | R5: Current Year
B6: Grade | C6: ='LOAD-K and 1 by Elm '!B4 -> 2010/11 | D6: ='LOAD-K and 1 by Elm '!C4 -> 2011/12 | E6: ='LOAD-K and 1 by Elm '!D4 -> 2012/13 | F6: ='LOAD-K and 1 by Elm '!E4 -> 2013/14 | G6: ='LOAD-K and 1 by Elm '!F4 -> 2014/15 | H6: ='LOAD-K and 1 by Elm '!G4 -> 2015/16 | I6: ='LOAD-K and 1 by Elm '!H4 -> 2016/17 | J6: ='LOAD-K and 1 by Elm '!I4 -> 2017/18 | ... V6: ='LOAD-K and 1 by Elm '!U4 -> 2029/30 | X6: not adjusted for BC-Mesa
B7: K (resident) | C7: ='LOAD-K and 1 by Elm '!B6+'LOAD-K and 1 by Elm '!B8 -> 43 | D7: ='LOAD-K and 1 by Elm '!C6+'LOAD-K and 1 by Elm '!C8 -> 37 | E7: ='LOAD-K and 1 by Elm '!D6+'LOAD-K and 1 by Elm '!D8 -> 44 | F7: ='LOAD-K and 1 by Elm '!E6+'LOAD-K and 1 by Elm '!E8 -> 50 | G7: ='LOAD-K and 1 by Elm '!F6+'LOAD-K and 1 by Elm '!F8 -> 33 | H7: ='LOAD-K and 1 by Elm '!G6+'LOAD-K and 1 by Elm '!G8 -> 47 | I7: ='LOAD-K and 1 by Elm '!H6+'LOAD-K and 1 by Elm '!H8 -> 37 | J7: ='LOAD-K and 1 by Elm '!I6+'LOAD-K and 1 by Elm '!I8 -> 45 | K7: ='LOAD-K and 1 by Elm '!J6+'LOAD-K and 1 by Elm '!J8 -> 34 | L7: ='LOAD-K and 1 by Elm '!K6+'LOAD-K and 1 by Elm '!K8+'LOAD-K and 1 by Elm '!W8+'LOAD-K and 1 by Elm '!AF8 -> 49 | M7: ='LOAD-K and 1 by Elm '!L6+'LOAD-K and 1 by Elm '!L8+'LOAD-K and 1 by Elm '!X8+'LOAD-K and 1 by Elm '!AG8 -> 37 | N7: ='LOAD-K and 1 by Elm '!M6+'LOAD-K and 1 by Elm '!M8+'LOAD-K and 1 by Elm '!Y8+'LOAD-K and 1 by Elm '!AH8 -> 46 | O7: ='LOAD-K and 1 by Elm '!N6+'LOAD-K and 1 by Elm '!N8+'LOAD-K and 1 by Elm '!Z8+'LOAD-K and 1 by Elm '!AI8 -> 52 | P7: ='LOAD-K and 1 by Elm '!O6+'LOAD-K and 1 by Elm '!O8+'LOAD-K and 1 by Elm '!AA8+'LOAD-K and 1 by Elm '!AJ8 -> 29 | Q7: ='LOAD-K and 1 by Elm '!P6+'LOAD-K and 1 by Elm '!P8+'LOAD-K and 1 by Elm '!AB8+'LOAD-K and 1 by Elm '!AK8 -> 42 | R7: ='LOAD-K and 1 by Elm '!Q6+'LOAD-K and 1 by Elm '!Q8+'LOAD-K and 1 by Elm '!AC8+'LOAD-K and 1 by Elm '!AL8 -> 38 | W7: >adjusted to include BC-Creekside and BC-Mesa
B8: K (enrolled) | C8: ='LOAD-K and 1 by Elm '!B83 -> 0 | D8: ='LOAD-K and 1 by Elm '!C83 -> 0 | E8: ='LOAD-K and 1 by Elm '!D83 -> 0 | F8: ='LOAD-K and 1 by Elm '!E83 -> 0 | G8: ='LOAD-K and 1 by Elm '!F83 -> 0 | H8: ='LOAD-K and 1 by Elm '!G83 -> 0 | I8: ='LOAD-K and 1 by Elm '!H83 -> 60 | J8: ='LOAD-K and 1 by Elm '!I83 -> 70 | ... R8: ='LOAD-K and 1 by Elm '!Q83 -> 48 | W8: >adjusted to include BC-Creekside
B9: 1st (resident) | C9: ='LOAD-K and 1 by Elm '!B44+'LOAD-K and 1 by Elm '!B46 -> 35 | D9: ='LOAD-K and 1 by Elm '!C44+'LOAD-K and 1 by Elm '!C46 -> 48 | E9: ='LOAD-K and 1 by Elm '!D44+'LOAD-K and 1 by Elm '!D46 -> 43 | F9: ='LOAD-K and 1 by Elm '!E44+'LOAD-K and 1 by Elm '!E46 -> 43 | G9: ='LOAD-K and 1 by Elm '!F44+'LOAD-K and 1 by Elm '!F46 -> 53 | H9: ='LOAD-K and 1 by Elm '!G44+'LOAD-K and 1 by Elm '!G46 -> 34 | I9: ='LOAD-K and 1 by Elm '!H44+'LOAD-K and 1 by Elm '!H46 -> 49 | J9: ='LOAD-K and 1 by Elm '!I44+'LOAD-K and 1 by Elm '!I46 -> 43 | ... R9: ='LOAD-K and 1 by Elm '!Q44+'LOAD-K and 1 by Elm '!Q46 -> 27 | W9: >adjusted to include BC-Creekside
B10: K Change | D10: =D7-C7 -> -6 | E10: =E7-D7 -> 7 | F10: =F7-E7 -> 6 | G10: =G7-F7 -> -17 | H10: =H7-G7 -> 14 | I10: =I7-H7 -> -10 | J10: =J7-I7 -> 8 | K10: =K7-J7 -> -11 | ... R10: =R7-Q7 -> -4
B11: % K change | D11: =D10/C7 -> -0.13953488 | E11: =E10/D7 -> 0.18918919 | F11: =F10/E7 -> 0.13636364 | G11: =G10/F7 -> -0.34 | H11: =H10/G7 -> 0.42424242 | I11: =I10/H7 -> -0.21276596 | J11: =J10/I7 -> 0.21621622 | K11: =K10/J7 -> -0.24444444 | ... R11: =R10/Q7 -> -0.095238095
B13: INPUT 2: BIRTH COHORT FOR EACH KINDERGAREN CLASS (born 5 and 6 prior - (entry formula from "Births by Elem. (Load)" tab)
B14: Births 5 Years Prior
B15: Birth Year | C15: ='LOAD-Births by Elem'!C4 -> 2005 | D15: ='LOAD-Births by Elem'!D4 -> 2006 | E15: ='LOAD-Births by Elem'!E4 -> 2007 | F15: ='LOAD-Births by Elem'!F4 -> 2008 | G15: ='LOAD-Births by Elem'!G4 -> 2009 | H15: ='LOAD-Births by Elem'!H4 -> 2010 | I15: ='LOAD-Births by Elem'!I4 -> 2011 | J15: ='LOAD-Births by Elem'!J4 -> 2012 | ... V15: ='LOAD-Births by Elem'!V4 -> 2024
B16: No. of Births | C16: ='LOAD-Births by Elem'!C6+'LOAD-Births by Elem'!C8+('LOAD-Births by Elem'!C7*('LOAD-K and 1 by Elm '!AD9+'LOAD-K and 1 by Elm '!AM9)) -> 47.737982 | D16: ='LOAD-Births by Elem'!D6+'LOAD-Births by Elem'!D8+('LOAD-Births by Elem'!D7*('LOAD-K and 1 by Elm '!AD9+'LOAD-K and 1 by Elm '!AM9)) -> 32.711447 | E16: ='LOAD-Births by Elem'!E6+'LOAD-Births by Elem'!E8+('LOAD-Births by Elem'!E7*('LOAD-K and 1 by Elm '!AD9+'LOAD-K and 1 by Elm '!AM9)) -> 41.316754 | F16: ='LOAD-Births by Elem'!F6+'LOAD-Births by Elem'!F8+('LOAD-Births by Elem'!F7*('LOAD-K and 1 by Elm '!AD9+'LOAD-K and 1 by Elm '!AM9)) -> 40.343289 | G16: ='LOAD-Births by Elem'!G6+'LOAD-Births by Elem'!G8+('LOAD-Births by Elem'!G7*('LOAD-K and 1 by Elm '!AD9+'LOAD-K and 1 by Elm '!AM9)) -> 42.132675 | H16: ='LOAD-Births by Elem'!H6+'LOAD-Births by Elem'!H8+('LOAD-Births by Elem'!H7*('LOAD-K and 1 by Elm '!AD9+'LOAD-K and 1 by Elm '!AM9)) -> 51.764518 | I16: ='LOAD-Births by Elem'!I6+'LOAD-Births by Elem'!I8+('LOAD-Births by Elem'!I7*('LOAD-K and 1 by Elm '!AD9+'LOAD-K and 1 by Elm '!AM9)) -> 36.527368 | J16: ='LOAD-Births by Elem'!J6+'LOAD-Births by Elem'!J8+('LOAD-Births by Elem'!J7*('LOAD-K and 1 by Elm '!AD9+'LOAD-K and 1 by Elm '!AM9)) -> 42.737982 | K16: ='LOAD-Births by Elem'!K6+'LOAD-Births by Elem'!K8+('LOAD-Births by Elem'!K7*('LOAD-K and 1 by Elm '!AD9+'LOAD-K and 1 by Elm '!AM9)) -> 41.922061 | L16: ='LOAD-Births by Elem'!L6+'LOAD-Births by Elem'!L8+('LOAD-Births by Elem'!L7*('LOAD-K and 1 by Elm '!AD9+'LOAD-K and 1 by Elm '!AM9)) -> 40.132675 | M16: ='LOAD-Births by Elem'!M6+'LOAD-Births by Elem'!M8+('LOAD-Births by Elem'!M7*('LOAD-K and 1 by Elm '!AD9+'LOAD-K and 1 by Elm '!AM9)) -> 27.290219 | N16: ='LOAD-Births by Elem'!N6+'LOAD-Births by Elem'!N8+('LOAD-Births by Elem'!N7*('LOAD-K and 1 by Elm '!AD9+'LOAD-K and 1 by Elm '!AM9)) -> 23.290219 | O16: ='LOAD-Births by Elem'!O6+'LOAD-Births by Elem'!O8+('LOAD-Births by Elem'!O7*('LOAD-K and 1 by Elm '!AD9+'LOAD-K and 1 by Elm '!AM9)) -> 29.684912 | P16: ='LOAD-Births by Elem'!P6+'LOAD-Births by Elem'!P8+('LOAD-Births by Elem'!P7*('LOAD-K and 1 by Elm '!AD9+'LOAD-K and 1 by Elm '!AM9)) -> 27.079605 | Q16: ='LOAD-Births by Elem'!Q6+'LOAD-Births by Elem'!Q8+('LOAD-Births by Elem'!Q7*('LOAD-K and 1 by Elm '!AD9+'LOAD-K and 1 by Elm '!AM9)) -> 17.842456 | R16: ='LOAD-Births by Elem'!R6+'LOAD-Births by Elem'!R8+('LOAD-Births by Elem'!R7*('LOAD-K and 1 by Elm '!AD9+'LOAD-K and 1 by Elm '!BB9)) -> 21.180088 | S16: ='LOAD-Births by Elem'!S6+'LOAD-Births by Elem'!S8+('LOAD-Births by Elem'!S7*('LOAD-K and 1 by Elm '!AT9+'LOAD-K and 1 by Elm '!AM9)) -> 14.419019 | T16: ='LOAD-Births by Elem'!T6+'LOAD-Births by Elem'!T8+('LOAD-Births by Elem'!T7*('LOAD-K and 1 by Elm '!AD9+'LOAD-K and 1 by Elm '!AM9)) -> 28.316754 | U16: ='LOAD-Births by Elem'!U6+'LOAD-Births by Elem'!U8+('LOAD-Births by Elem'!U7*('LOAD-K and 1 by Elm '!AD9+'LOAD-K and 1 by Elm '!AM9)) -> 28.658377 | V16: ='LOAD-Births by Elem'!V6+'LOAD-Births by Elem'!V8+('LOAD-Births by Elem'!V7*('LOAD-K and 1 by Elm '!AD9+'LOAD-K and 1 by Elm '!AM9)) -> 36.948596 | W16: >adjusted to include BC-Creekside and BC-Mesa formula
B17: Births to K % | C17: =C7/C16 -> 0.90075026 | D17: =D7/D16 -> 1.1311025 | E17: =E7/E16 -> 1.0649433 | F17: =F7/F16 -> 1.2393635 | G17: =G7/G16 -> 0.78324008 | H17: =H7/H16 -> 0.90795785 | I17: =I7/I16 -> 1.0129391 | J17: =J7/J16 -> 1.0529276 | ... R17: =R7/R16 -> 1.794138
B18: Births 6 Years Prior
B19: Birth Year | C19: ='LOAD-Births by Elem'!B4 -> 2004 | D19: ='LOAD-Births by Elem'!C4 -> 2005 | E19: ='LOAD-Births by Elem'!D4 -> 2006 | F19: ='LOAD-Births by Elem'!E4 -> 2007 | G19: ='LOAD-Births by Elem'!F4 -> 2008 | H19: ='LOAD-Births by Elem'!G4 -> 2009 | I19: ='LOAD-Births by Elem'!H4 -> 2010 | J19: ='LOAD-Births by Elem'!I4 -> 2011 | ... V19: ='LOAD-Births by Elem'!U4 -> 2023
B20: No. of Births | C20: ='LOAD-Births by Elem'!B6+'LOAD-Births by Elem'!B8 -> 21 | D20: =C16 -> 47.737982 | E20: =D16 -> 32.711447 | F20: =E16 -> 41.316754 | G20: =F16 -> 40.343289 | H20: =G16 -> 42.132675 | I20: =H16 -> 51.764518 | J20: =I16 -> 36.527368 | K20: =J16 -> 42.737982 | ... V20: =U16 -> 28.658377
B21: Births to K % | C21: =C20/C7 -> 0.48837209 | D21: =D20/D7 -> 1.2902157 | E21: =E20/E7 -> 0.74344199 | F21: =F20/F7 -> 0.82633509 | G21: =G20/G7 -> 1.2225239 | H21: =H20/H7 -> 0.8964399 | I21: =I20/I7 -> 1.399041 | J21: =J20/J7 -> 0.8117193 | ... R21: =R20/R7 -> 0.46953832
B23: INPUT 3: PROPORTION OF KINDERGARTENERS BORN 5 and 6 YEARS PRIOR (based on D.O.B. in student file)
B24: DOB 5-Yr Prior | C24: District-wide Proportion Used
B25: % of Res. K | C25: ='BVSD Birth to K'!C26 -> 0.6996904 | D25: ='BVSD Birth to K'!D26 -> 0.69250126 | E25: ='BVSD Birth to K'!E26 -> 0.6874675 | F25: ='BVSD Birth to K'!F26 -> 0.67785939 | G25: ='BVSD Birth to K'!G26 -> 0.72430407 | H25: ='BVSD Birth to K'!H26 -> 0.6724231 | I25: ='BVSD Birth to K'!I26 -> 0.68446602 | J25: ='BVSD Birth to K'!J26 -> 0.68331504 | ... R25: ='BVSD Birth to K'!R26 -> 0.67255448 | S25: =AVERAGE(N25:R25) -> 0.67654051 | T25: =S25 -> 0.67654051 | U25: =T25 -> 0.67654051 | V25: =U25 -> 0.67654051
B26: DOB 6-Yr Prior | C26: District-wide Proportion Used
B27: % of Res. K | C27: ='BVSD Birth to K'!C28 -> 0.3245614 | D27: ='BVSD Birth to K'!D28 -> 0.31102164 | E27: ='BVSD Birth to K'!E28 -> 0.31409256 | F27: ='BVSD Birth to K'!F28 -> 0.31741868 | G27: ='BVSD Birth to K'!G28 -> 0.27623126 | H27: ='BVSD Birth to K'!H28 -> 0.3275769 | I27: ='BVSD Birth to K'!I28 -> 0.31445523 | J27: ='BVSD Birth to K'!J28 -> 0.31723381 | ... R27: ='BVSD Birth to K'!R28 -> 0.32473536 | S27: =AVERAGE(N27:R27) -> 0.32366033 | T27: =S27 -> 0.32366033 | U27: =T27 -> 0.32366033 | V27: =U27 -> 0.32366033
B29: CALCULATION: ADJUSTED BIRTH CLASS (based on proportion of birth 5 & 6 years prior to K class)
B30: Birth Year Range: | C30: =C19&" "&"to"&" "&C15 -> 2004 to 2005 | D30: =D19&" "&"to"&" "&D15 -> 2005 to 2006 | E30: =E19&" "&"to"&" "&E15 -> 2006 to 2007 | F30: =F19&" "&"to"&" "&F15 -> 2007 to 2008 | G30: =G19&" "&"to"&" "&G15 -> 2008 to 2009 | H30: =H19&" "&"to"&" "&H15 -> 2009 to 2010 | I30: =I19&" "&"to"&" "&I15 -> 2010 to 2011 | J30: =J19&" "&"to"&" "&J15 -> 2011 to 2012 | ... V30: =V19&" "&"to"&" "&V15 -> 2023 to 2024
B31: Adjusted Births | C31: =(C25*C16)+(C27*C20) -> 40.217598 | D31: =(D25*D16)+(D27*D20) -> 37.500264 | E31: =(E25*E16)+(E27*E20) -> 38.678348 | F31: =(F25*F16)+(F27*F20) -> 40.461787 | G31: =(G25*G16)+(G27*G20) -> 41.660946 | H31: =(H25*H16)+(H27*H20) -> 48.609349 | I31: =(I25*I16)+(I27*I20) -> 41.279366 | J31: =(J25*J16)+(J27*J20) -> 40.791222 | ... V31: =(V25*V16)+(V27*V20) -> 34.272802
B32: Change | D32: =D31-C31 -> -2.7173335 | E32: =E31-D31 -> 1.1780841 | F32: =F31-E31 -> 1.783439 | G32: =G31-F31 -> 1.1991589 | H32: =H31-G31 -> 6.9484025 | I32: =I31-H31 -> -7.3299827 | J32: =J31-I31 -> -0.48814349 | K32: =K31-J31 -> 1.3749281 | ... V32: =V31-U31 -> 5.719239
B33: % Change | D33: =D32/C31 -> -0.067565785 | E33: =E32/D31 -> 0.031415354 | F33: =F32/E31 -> 0.046109493 | G33: =G32/F31 -> 0.029636824 | H33: =H32/G31 -> 0.16678456 | I33: =I32/H31 -> -0.15079368 | J33: =J32/I31 -> -0.011825363 | K33: =K32/J31 -> 0.033706469 | ... V33: =V32/U31 -> 0.20029861
B34: Births to K% | D34: =D7/D31 -> 0.98665972 | E34: =E7/E31 -> 1.1375874 | F34: =F7/F31 -> 1.2357338 | G34: =G7/G31 -> 0.79210875 | H34: =H7/H31 -> 0.9668922 | I34: =I7/I31 -> 0.8963316 | J34: =J7/J31 -> 1.1031785 | K34: =K7/K31 -> 0.80633398 | ... R34: =R7/R31 -> 1.8963174
B35: Births to K | C35: =C7-C31 -> 2.7824024 | D35: =D7-D31 -> -0.50026408 | E35: =E7-E31 -> 5.3216518 | F35: =F7-F31 -> 9.5382128 | G35: =G7-G31 -> -8.6609461 | H35: =H7-H31 -> -1.6093485 | I35: =I7-I31 -> -4.2793658 | J35: =J7-J31 -> 4.2087777 | ... R35: =R7-R31 -> 17.961161
O37: PROJECTED KINDERGARTENER CALCULATOR
R39: =R6 -> 2025/26 | S39: =S6 -> 2026/27 | T39: =T6 -> 2027/28 | U39: =U6 -> 2028/29 | V39: =V6 -> 2029/30
O40: A, B, C, Basis Calculations
P41: Annual % Birth change | R41: =R33 -> -0.030405466 | S41: =S33 -> -0.17109945 | T41: =T33 -> 0.43431681 | U41: =U33 -> 0.19850607 | V41: =V33 -> 0.20029861
P42: Ave B to K % | R42: =AVERAGE(L34:R34) -> 1.5878836 | S42: =R42 -> 1.5878836 | T42: =S42 -> 1.5878836 | U42: =T42 -> 1.5878836 | V42: =U42 -> 1.5878836
P43: Ave B % Change | R43: =AVERAGE(Q33:V33) -> 0.061494115 | S43: =R43 -> 0.061494115 | T43: =S43 -> 0.061494115 | U43: =T43 -> 0.061494115 | V43: =U43 -> 0.061494115
O44: Estimated Kindergarten Students
P45: Basis-A (% change) | R45: =R7 -> 38 | S45: =R45+(R45*S41) -> 31.498221 | T45: =S45+(S45*T41) -> 45.178428 | U45: =T45+(T45*U41) -> 54.14662 | V45: =U45+(U45*V41) -> 64.992112
P46: Basis-B (av. B to K%) | R46: =R45 -> 38 | S46: =S42*S31 -> 26.375072 | T46: =T42*T31 -> 37.83021 | U46: =U42*U31 -> 45.339736 | V46: =V42*V31 -> 54.421222
P47: Basis-C (av. % change) | R47: =R46 -> 38 | S47: =R47*(1+S43) -> 40.336776 | T47: =S47*(1+T43) -> 42.817251 | U47: =T47*(1+U43) -> 45.45026 | V47: =U47*(1+V43) -> 48.245183
O49: PROJECTED ENROLLED KINDERGARTENER CALCULATOR
O51: Ave. Diff. between Resident and Enrolled K: | S51: =AVERAGE(I4:R4) -> 7 | T51: =S51 -> 7 | U51: =T51 -> 7 | V51: =U51 -> 7
R52: =R39 -> 2025/26 | S52: =S39 -> 2026/27 | T52: =T39 -> 2027/28 | U52: =U39 -> 2028/29 | V52: =V39 -> 2029/30
O53: A, B, C, Basis Calculations
P54: Annual % Birth change | R54: =R41 -> -0.030405466 | S54: =S41 -> -0.17109945 | T54: =T41 -> 0.43431681 | U54: =U41 -> 0.19850607 | V54: =V41 -> 0.20029861
P55: Ave B to K % | R55: =R42 -> 1.5878836 | S55: =S42 -> 1.5878836 | T55: =T42 -> 1.5878836 | U55: =U42 -> 1.5878836 | V55: =V42 -> 1.5878836
P56: Ave B % Change | R56: =R43 -> 0.061494115 | S56: =S43 -> 0.061494115 | T56: =T43 -> 0.061494115 | U56: =U43 -> 0.061494115 | V56: =V43 -> 0.061494115
O57: Estimated Kindergarten Students
P58: Basis-A (% change) | R58: =R8 -> 48 | S58: =S45+S51 -> 38.498221 | T58: =T45+T51 -> 52.178428 | U58: =U45+U51 -> 61.14662 | V58: =V45+V51 -> 71.992112
P59: Basis-B (av. B to K%) | R59: =R58 -> 48 | S59: =S46+S51 -> 33.375072 | T59: =T46+T51 -> 44.83021 | U59: =U46+U51 -> 52.339736 | V59: =V46+V51 -> 61.421222
P60: Basis-C (av. % change) | R60: =R59 -> 48 | S60: =S47+S51 -> 47.336776 | T60: =T47+T51 -> 49.817251 | U60: =U47+U51 -> 52.45026 | V60: =V47+V51 -> 55.245183
Q62: w/ BC/Mesa (formula):
Q63: Basis-A | S63: =S58+'BC-Mesa'!S54 -> 55.250176 | T63: =T58+'BC-Mesa'!T54 -> 74.222488 | U63: =U58+'BC-Mesa'!U54 -> 76.647319 | V63: =V58+'BC-Mesa'!V54 -> 95.945352
Q64: Basis-B | S64: =S59+'BC-Mesa'!S57 -> 47.04431 | T64: =T59+'BC-Mesa'!T57 -> 62.795779 | U64: =U59+'BC-Mesa'!U57 -> 64.972567 | V64: =V59+'BC-Mesa'!V57 -> 80.942743
Q65: Basis-C | S65: =S60+'BC-Mesa'!S60 -> 61.006014 | T65: =T60+'BC-Mesa'!T60 -> 67.378158 | U65: =U60+'BC-Mesa'!U60 -> 75.010806 | V65: =V60+'BC-Mesa'!V60 -> 84.22878

Sheet BC-Mesa
B1: Bear Creek-Mesa Dual Birth/Kindergarten Population Correlation Worksheet
B2: ='BVSD Birth to K'!B2 -> updated 11/21/2025
B5: INPUT 1: KINDERGARTEN RESIDENT STUDENTS (entry formula from "Res K-1 Load Sheet" tab) | R5: Current Year
B6: Grade | C6: ='LOAD-K and 1 by Elm '!B4 -> 2010/11 | D6: ='LOAD-K and 1 by Elm '!C4 -> 2011/12 | E6: ='LOAD-K and 1 by Elm '!D4 -> 2012/13 | F6: ='LOAD-K and 1 by Elm '!E4 -> 2013/14 | G6: ='LOAD-K and 1 by Elm '!F4 -> 2014/15 | H6: ='LOAD-K and 1 by Elm '!G4 -> 2015/16 | I6: ='LOAD-K and 1 by Elm '!H4 -> 2016/17 | J6: ='LOAD-K and 1 by Elm '!I4 -> 2017/18 | ... V6: ='LOAD-K and 1 by Elm '!U4 -> 2029/30
B7: K (resident) | C7: ='LOAD-K and 1 by Elm '!B7 -> 36 | D7: ='LOAD-K and 1 by Elm '!C7 -> 31 | E7: ='LOAD-K and 1 by Elm '!D7 -> 30 | F7: ='LOAD-K and 1 by Elm '!E7 -> 35 | G7: ='LOAD-K and 1 by Elm '!F7 -> 31 | H7: ='LOAD-K and 1 by Elm '!G7 -> 36 | I7: ='LOAD-K and 1 by Elm '!H7 -> 30 | J7: ='LOAD-K and 1 by Elm '!I7 -> 31 | ... R7: ='LOAD-K and 1 by Elm '!Q7 -> 19
B8: K (enrolled) | C8: ='LOAD-K and 1 by Elm '!B82 -> 0 | D8: ='LOAD-K and 1 by Elm '!C82 -> 0 | E8: ='LOAD-K and 1 by Elm '!D82 -> 0 | F8: ='LOAD-K and 1 by Elm '!E82 -> 0 | G8: ='LOAD-K and 1 by Elm '!F82 -> 0 | H8: ='LOAD-K and 1 by Elm '!G82 -> 0 | I8: ='LOAD-K and 1 by Elm '!H82 -> 0 | J8: ='LOAD-K and 1 by Elm '!I82 -> 0 | ... R8: ='LOAD-K and 1 by Elm '!Q82 -> 0
B9: 1st (resident) | C9: ='LOAD-K and 1 by Elm '!B45 -> 26 | D9: ='LOAD-K and 1 by Elm '!C45 -> 34 | E9: ='LOAD-K and 1 by Elm '!D45 -> 38 | F9: ='LOAD-K and 1 by Elm '!E45 -> 31 | G9: ='LOAD-K and 1 by Elm '!F45 -> 38 | H9: ='LOAD-K and 1 by Elm '!G45 -> 36 | I9: ='LOAD-K and 1 by Elm '!H45 -> 31 | J9: ='LOAD-K and 1 by Elm '!I45 -> 32 | ... R9: ='LOAD-K and 1 by Elm '!Q45 -> 20
B10: K Change | D10: =D7-C7 -> -5 | E10: =E7-D7 -> -1 | F10: =F7-E7 -> 5 | G10: =G7-F7 -> -4 | H10: =H7-G7 -> 5 | I10: =I7-H7 -> -6 | J10: =J7-I7 -> 1 | K10: =K7-J7 -> -5 | ... R10: =R7-Q7 -> 0
B11: % K change | D11: =D10/C7 -> -0.13888889 | E11: =E10/D7 -> -0.032258065 | F11: =F10/E7 -> 0.16666667 | G11: =G10/F7 -> -0.11428571 | H11: =H10/G7 -> 0.16129032 | I11: =I10/H7 -> -0.16666667 | J11: =J10/I7 -> 0.033333333 | K11: =K10/J7 -> -0.16129032 | ... R11: =R10/Q7 -> 0
B13: INPUT 2: BIRTH COHORT FOR EACH KINDERGAREN CLASS (born 5 and 6 prior - (entry formula from "Births by Elem. (Load)" tab)
B14: Births 5 Years Prior
B15: Birth Year | C15: ='LOAD-Births by Elem'!C4 -> 2005 | D15: ='LOAD-Births by Elem'!D4 -> 2006 | E15: ='LOAD-Births by Elem'!E4 -> 2007 | F15: ='LOAD-Births by Elem'!F4 -> 2008 | G15: ='LOAD-Births by Elem'!G4 -> 2009 | H15: ='LOAD-Births by Elem'!H4 -> 2010 | I15: ='LOAD-Births by Elem'!I4 -> 2011 | J15: ='LOAD-Births by Elem'!J4 -> 2012 | ... V15: ='LOAD-Births by Elem'!V4 -> 2024
B16: No. of Births | C16: ='LOAD-Births by Elem'!C7 -> 26 | D16: ='LOAD-Births by Elem'!D7 -> 21 | E16: ='LOAD-Births by Elem'!E7 -> 22 | F16: ='LOAD-Births by Elem'!F7 -> 27 | G16: ='LOAD-Births by Elem'!G7 -> 25 | H16: ='LOAD-Births by Elem'!H7 -> 31 | I16: ='LOAD-Births by Elem'!I7 -> 24 | J16: ='LOAD-Births by Elem'!J7 -> 26 | ... V16: ='LOAD-Births by Elem'!V7 -> 28
B17: Births to K % | C17: =C7/C16 -> 1.3846154 | D17: =D7/D16 -> 1.4761905 | E17: =E7/E16 -> 1.3636364 | F17: =F7/F16 -> 1.2962963 | G17: =G7/G16 -> 1.24 | H17: =H7/H16 -> 1.1612903 | I17: =I7/I16 -> 1.25 | J17: =J7/J16 -> 1.1923077 | ... R17: =R7/R16 -> 1.7272727
B18: Births 6 Years Prior
B19: Birth Year | C19: ='LOAD-Births by Elem'!B4 -> 2004 | D19: ='LOAD-Births by Elem'!C4 -> 2005 | E19: ='LOAD-Births by Elem'!D4 -> 2006 | F19: ='LOAD-Births by Elem'!E4 -> 2007 | G19: ='LOAD-Births by Elem'!F4 -> 2008 | H19: ='LOAD-Births by Elem'!G4 -> 2009 | I19: ='LOAD-Births by Elem'!H4 -> 2010 | J19: ='LOAD-Births by Elem'!I4 -> 2011 | ... V19: ='LOAD-Births by Elem'!U4 -> 2023
B20: No. of Births | C20: ='LOAD-Births by Elem'!B7 -> 26 | D20: ='LOAD-Births by Elem'!C7 -> 26 | E20: ='LOAD-Births by Elem'!D7 -> 21 | F20: ='LOAD-Births by Elem'!E7 -> 22 | G20: ='LOAD-Births by Elem'!F7 -> 27 | H20: ='LOAD-Births by Elem'!G7 -> 25 | I20: ='LOAD-Births by Elem'!H7 -> 31 | J20: ='LOAD-Births by Elem'!I7 -> 24 | ... V20: ='LOAD-Births by Elem'!U7 -> 11
B21: Births to K % | C21: =C20/C7 -> 0.72222222 | D21: =D20/D7 -> 0.83870968 | E21: =E20/E7 -> 0.7 | F21: =F20/F7 -> 0.62857143 | G21: =G20/G7 -> 0.87096774 | H21: =H20/H7 -> 0.69444444 | I21: =I20/I7 -> 1.0333333 | J21: =J20/J7 -> 0.77419355 | ... R21: =R20/R7 -> 0.42105263
B23: INPUT 3: PROPORTION OF KINDERGARTENERS BORN 5 and 6 YEARS PRIOR (based on D.O.B. in student file)
B24: DOB 5-Yr Prior | C24: District-wide Proportion Used
B25: % of Res. K | C25: ='BVSD Birth to K'!C26 -> 0.6996904 | D25: ='BVSD Birth to K'!D26 -> 0.69250126 | E25: ='BVSD Birth to K'!E26 -> 0.6874675 | F25: ='BVSD Birth to K'!F26 -> 0.67785939 | G25: ='BVSD Birth to K'!G26 -> 0.72430407 | H25: ='BVSD Birth to K'!H26 -> 0.6724231 | I25: ='BVSD Birth to K'!I26 -> 0.68446602 | J25: ='BVSD Birth to K'!J26 -> 0.68331504 | ... R25: ='BVSD Birth to K'!R26 -> 0.67255448 | S25: =AVERAGE(N25:R25) -> 0.67654051 | T25: =S25 -> 0.67654051 | U25: =T25 -> 0.67654051 | V25: =U25 -> 0.67654051
B26: DOB 6-Yr Prior | C26: District-wide Proportion Used
B27: % of Res. K | C27: ='BVSD Birth to K'!C28 -> 0.3245614 | D27: ='BVSD Birth to K'!D28 -> 0.31102164 | E27: ='BVSD Birth to K'!E28 -> 0.31409256 | F27: ='BVSD Birth to K'!F28 -> 0.31741868 | G27: ='BVSD Birth to K'!G28 -> 0.27623126 | H27: ='BVSD Birth to K'!H28 -> 0.3275769 | I27: ='BVSD Birth to K'!I28 -> 0.31445523 | J27: ='BVSD Birth to K'!J28 -> 0.31723381 | ... R27: ='BVSD Birth to K'!R28 -> 0.32473536 | S27: =AVERAGE(N27:R27) -> 0.32366033 | T27: =S27 -> 0.32366033 | U27: =T27 -> 0.32366033 | V27: =U27 -> 0.32366033
B29: CALCULATION: ADJUSTED BIRTH CLASS (based on proportion of birth 5 & 6 years prior to K class)
B30: Birth Year Range: | C30: =C19&" "&"to"&" "&C15 -> 2004 to 2005 | D30: =D19&" "&"to"&" "&D15 -> 2005 to 2006 | E30: =E19&" "&"to"&" "&E15 -> 2006 to 2007 | F30: =F19&" "&"to"&" "&F15 -> 2007 to 2008 | G30: =G19&" "&"to"&" "&G15 -> 2008 to 2009 | H30: =H19&" "&"to"&" "&H15 -> 2009 to 2010 | I30: =I19&" "&"to"&" "&I15 -> 2010 to 2011 | J30: =J19&" "&"to"&" "&J15 -> 2011 to 2012 | ... V30: =V19&" "&"to"&" "&V15 -> 2023 to 2024
B31: Adjusted Births | C31: =(C25*C16)+(C27*C20) -> 26.630547 | D31: =(D25*D16)+(D27*D20) -> 22.629089 | E31: =(E25*E16)+(E27*E20) -> 21.720229 | F31: =(F25*F16)+(F27*F20) -> 25.285414 | G31: =(G25*G16)+(G27*G20) -> 25.565846 | H31: =(H25*H16)+(H27*H20) -> 29.034539 | I31: =(I25*I16)+(I27*I20) -> 26.175297 | J31: =(J25*J16)+(J27*J20) -> 25.379802 | ... V31: =(V25*V16)+(V27*V20) -> 22.503398
B32: Change | D32: =D31-C31 -> -4.0014579 | E32: =E31-D31 -> -0.90886027 | F32: =F31-E31 -> 3.5651857 | G32: =G31-F31 -> 0.28043134 | H32: =H31-G31 -> 3.4686928 | I32: =I31-H31 -> -2.8592419 | J32: =J31-I31 -> -0.79549424 | K32: =K31-J31 -> -1.4076909 | ... V32: =V31-U31 -> 7.940925
B33: % Change | D33: =D32/C31 -> -0.15025819 | E33: =E32/D31 -> -0.040163361 | F33: =F32/E31 -> 0.16414126 | G33: =G32/F31 -> 0.011090637 | H33: =H32/G31 -> 0.13567682 | I33: =I32/H31 -> -0.098477264 | J33: =J32/I31 -> -0.030391031 | K33: =K32/J31 -> -0.055465005 | ... V33: =V32/U31 -> 0.54530058
B34: Births to K% | D34: =D7/D31 -> 1.3699182 | E34: =E7/E31 -> 1.3812009 | F34: =F7/F31 -> 1.3841972 | G34: =G7/G31 -> 1.2125552 | H34: =H7/H31 -> 1.2399026 | I34: =I7/I31 -> 1.1461188 | J34: =J7/J31 -> 1.2214437 | K34: =K7/K31 -> 1.0845937 | ... R34: =R7/R31 -> 1.9007637
B35: Births to K | C35: =C7-C31 -> 9.369453 | D35: =D7-D31 -> 8.3709109 | E35: =E7-E31 -> 8.2797712 | F35: =F7-F31 -> 9.7145855 | G35: =G7-G31 -> 5.4341542 | H35: =H7-H31 -> 6.9654614 | I35: =I7-I31 -> 3.8247033 | J35: =J7-J31 -> 5.6201976 | ... R35: =R7-R31 -> 9.0040179
O37: PROJECTED KINDERGARTENER CALCULATOR
R39: =R6 -> 2025/26 | S39: =S6 -> 2026/27 | T39: =T6 -> 2027/28 | U39: =U6 -> 2028/29 | V39: =V6 -> 2029/30
O40: A, B, C, Basis Calculations
P41: Annual % Birth change | R41: =R33 -> -0.015350911 | S41: =S33 -> 0.57443187 | T41: =T33 -> 0.31590969 | U41: =U33 -> -0.29683102 | V41: =V33 -> 0.54530058
P42: Ave B to K % | R42: =AVERAGE(N34:R34) -> 1.5490932 | S42: =R42 -> 1.5490932 | T42: =S42 -> 1.5490932 | U42: =T42 -> 1.5490932 | V42: =U42 -> 1.5490932
P43: Ave B % Change | R43: =AVERAGE(S33:V33) -> 0.28470278 | S43: =R43 -> 0.28470278 | T43: =S43 -> 0.28470278 | U43: =T43 -> 0.28470278 | V43: =U43 -> 0.28470278
O44: Estimated Kindergarten Students
P45: Basis-A (% change) | R45: =R7 -> 19 | S45: =R45+(R45*S41) -> 29.914206 | T45: =S45+(S45*T41) -> 39.364393 | U45: =T45+(T45*U41) -> 27.67982 | V45: =U45+(U45*V41) -> 42.773642
P46: Basis-B (av. B to K%) | R46: =R45 -> 19 | S46: =S42*S31 -> 24.379617 | T46: =T42*T31 -> 32.081374 | U46: =U42*U31 -> 22.558627 | V46: =V42*V31 -> 34.85986
P47: Basis-C (av. % change) | R47: =R46 -> 19 | S47: =R47*(1+S43) -> 24.409353 | T47: =S47*(1+T43) -> 31.358763 | U47: =T47*(1+U43) -> 40.286691 | V47: =U47*(1+V43) -> 51.756423
O49: DUAL AREA WORKSHEET (Add to schools)
R52: =R39 -> 2025/26 | S52: =S39 -> 2026/27 | T52: =T39 -> 2027/28 | U52: =U39 -> 2028/29 | V52: =V39 -> 2029/30
O53: Basis A Ave % Attending*:
O54: Bear Creek | Q54: 0.56 | R54: =R45*Q54 -> 10.64 | S54: =S45*Q54 -> 16.751955 | T54: =T45*Q54 -> 22.04406 | U54: =U45*Q54 -> 15.500699 | V54: =V45*Q54 -> 23.95324
O55: Mesa | Q55: 0.23 | R55: =R45*Q55 -> 4.37 | S55: =S45*Q55 -> 6.8802673 | T55: =T45*Q55 -> 9.0538104 | U55: =U45*Q55 -> 6.3663586 | V55: =V45*Q55 -> 9.8379377
O56: Basis B Ave % Attending*:
O57: Bear Creek | Q57: 0.56 | R57: =R46*Q57 -> 10.64 | S57: =S47*Q57 -> 13.669238 | T57: =T46*Q57 -> 17.965569 | U57: =U46*Q57 -> 12.632831 | V57: =V46*Q57 -> 19.521521
O58: Mesa | Q58: 0.23 | R58: =R46*Q58 -> 4.37 | S58: =S46*Q58 -> 5.6073119 | T58: =T46*Q58 -> 7.378716 | U58: =U46*Q58 -> 5.1884842 | V58: =V46*Q58 -> 8.0177677
O59: Basis C Ave % Attending*:
O60: Bear Creek | Q60: 0.56 | R60: =R47*Q60 -> 10.64 | S60: =S47*Q60 -> 13.669238 | T60: =T47*Q60 -> 17.560908 | U60: =U47*Q60 -> 22.560547 | V60: =V47*Q60 -> 28.983597 | W60: X
O61: Mesa | Q61: 0.23 | R61: =R47*Q61 -> 4.37 | S61: =S47*Q61 -> 5.6141512 | T61: =T47*Q61 -> 7.2125156 | U61: =U47*Q61 -> 9.2659388 | V61: =V47*Q61 -> 11.903977
O62: *from School-level Resident El Projection 2023/tab: Dual Area worksheet

Sheet Birch
B1: Birch El. Birth/Kindergarten Population Correlation Worksheet
B2: ='BVSD Birth to K'!B2 -> updated 11/21/2025
I4: =I8-I7 -> 5 | J4: =J8-J7 -> 11 | K4: =K8-K7 -> 2 | L4: =L8-L7 -> 4 | M4: =M8-M7 -> 2 | N4: =N8-N7 -> 2 | O4: =O8-O7 -> 0 | P4: =P8-P7 -> 3 | ... R4: =R8-R7 -> 3
B5: INPUT 1: KINDERGARTEN RESIDENT STUDENTS (entry formula from "Res K-1 Load Sheet" tab) | R5: Current Year
B6: Grade | C6: ='LOAD-K and 1 by Elm '!B4 -> 2010/11 | D6: ='LOAD-K and 1 by Elm '!C4 -> 2011/12 | E6: ='LOAD-K and 1 by Elm '!D4 -> 2012/13 | F6: ='LOAD-K and 1 by Elm '!E4 -> 2013/14 | G6: ='LOAD-K and 1 by Elm '!F4 -> 2014/15 | H6: ='LOAD-K and 1 by Elm '!G4 -> 2015/16 | I6: ='LOAD-K and 1 by Elm '!H4 -> 2016/17 | J6: ='LOAD-K and 1 by Elm '!I4 -> 2017/18 | ... V6: ='LOAD-K and 1 by Elm '!U4 -> 2029/30
B7: K (resident) | C7: ='LOAD-K and 1 by Elm '!B9 -> 56 | D7: ='LOAD-K and 1 by Elm '!C9 -> 56 | E7: ='LOAD-K and 1 by Elm '!D9 -> 46 | F7: ='LOAD-K and 1 by Elm '!E9 -> 54 | G7: ='LOAD-K and 1 by Elm '!F9 -> 54 | H7: ='LOAD-K and 1 by Elm '!G9 -> 53 | I7: ='LOAD-K and 1 by Elm '!H9 -> 58 | J7: ='LOAD-K and 1 by Elm '!I9 -> 59 | ... R7: ='LOAD-K and 1 by Elm '!Q9 -> 35
B8: K (enrolled) | C8: ='LOAD-K and 1 by Elm '!B84 -> 0 | D8: ='LOAD-K and 1 by Elm '!C84 -> 0 | E8: ='LOAD-K and 1 by Elm '!D84 -> 0 | F8: ='LOAD-K and 1 by Elm '!E84 -> 0 | G8: ='LOAD-K and 1 by Elm '!F84 -> 0 | H8: ='LOAD-K and 1 by Elm '!G84 -> 0 | I8: ='LOAD-K and 1 by Elm '!H84 -> 63 | J8: ='LOAD-K and 1 by Elm '!I84 -> 70 | ... R8: ='LOAD-K and 1 by Elm '!Q84 -> 38
B9: 1st (resident) | C9: ='LOAD-K and 1 by Elm '!B47 -> 59 | D9: ='LOAD-K and 1 by Elm '!C47 -> 53 | E9: ='LOAD-K and 1 by Elm '!D47 -> 54 | F9: ='LOAD-K and 1 by Elm '!E47 -> 49 | G9: ='LOAD-K and 1 by Elm '!F47 -> 60 | H9: ='LOAD-K and 1 by Elm '!G47 -> 55 | I9: ='LOAD-K and 1 by Elm '!H47 -> 63 | J9: ='LOAD-K and 1 by Elm '!I47 -> 59 | ... R9: ='LOAD-K and 1 by Elm '!Q47 -> 45
B10: K Change | D10: =D7-C7 -> 0 | E10: =E7-D7 -> -10 | F10: =F7-E7 -> 8 | G10: =G7-F7 -> 0 | H10: =H7-G7 -> -1 | I10: =I7-H7 -> 5 | J10: =J7-I7 -> 1 | K10: =K7-J7 -> 2 | ... R10: =R7-Q7 -> -16
B11: % K change | D11: =D10/C7 -> 0 | E11: =E10/D7 -> -0.17857143 | F11: =F10/E7 -> 0.17391304 | G11: =G10/F7 -> 0 | H11: =H10/G7 -> -0.018518519 | I11: =I10/H7 -> 0.094339623 | J11: =J10/I7 -> 0.017241379 | K11: =K10/J7 -> 0.033898305 | ... R11: =R10/Q7 -> -0.31372549
B13: INPUT 2: BIRTH COHORT FOR EACH KINDERGAREN CLASS (born 5 and 6 prior - (entry formula from "Births by Elem. (Load)" tab)
B14: Births 5 Years Prior
B15: Birth Year | C15: ='LOAD-Births by Elem'!C4 -> 2005 | D15: ='LOAD-Births by Elem'!D4 -> 2006 | E15: ='LOAD-Births by Elem'!E4 -> 2007 | F15: ='LOAD-Births by Elem'!F4 -> 2008 | G15: ='LOAD-Births by Elem'!G4 -> 2009 | H15: ='LOAD-Births by Elem'!H4 -> 2010 | I15: ='LOAD-Births by Elem'!I4 -> 2011 | J15: ='LOAD-Births by Elem'!J4 -> 2012 | ... V15: ='LOAD-Births by Elem'!V4 -> 2024
B16: No. of Births | C16: ='LOAD-Births by Elem'!C9 -> 60 | D16: ='LOAD-Births by Elem'!D9 -> 64 | E16: ='LOAD-Births by Elem'!E9 -> 52 | F16: ='LOAD-Births by Elem'!F9 -> 60 | G16: ='LOAD-Births by Elem'!G9 -> 46 | H16: ='LOAD-Births by Elem'!H9 -> 56 | I16: ='LOAD-Births by Elem'!I9 -> 49 | J16: ='LOAD-Births by Elem'!J9 -> 43 | ... V16: ='LOAD-Births by Elem'!V9 -> 40
B17: Births to K % | C17: =C7/C16 -> 0.93333333 | D17: =D7/D16 -> 0.875 | E17: =E7/E16 -> 0.88461538 | F17: =F7/F16 -> 0.9 | G17: =G7/G16 -> 1.173913 | H17: =H7/H16 -> 0.94642857 | I17: =I7/I16 -> 1.1836735 | J17: =J7/J16 -> 1.372093 | ... R17: =R7/R16 -> 1.0606061
B18: Births 6 Years Prior
B19: Birth Year | C19: ='LOAD-Births by Elem'!B4 -> 2004 | D19: ='LOAD-Births by Elem'!C4 -> 2005 | E19: ='LOAD-Births by Elem'!D4 -> 2006 | F19: ='LOAD-Births by Elem'!E4 -> 2007 | G19: ='LOAD-Births by Elem'!F4 -> 2008 | H19: ='LOAD-Births by Elem'!G4 -> 2009 | I19: ='LOAD-Births by Elem'!H4 -> 2010 | J19: ='LOAD-Births by Elem'!I4 -> 2011 | ... V19: ='LOAD-Births by Elem'!U4 -> 2023
B20: No. of Births | C20: ='LOAD-Births by Elem'!B9 -> 58 | D20: ='LOAD-Births by Elem'!C9 -> 60 | E20: ='LOAD-Births by Elem'!D9 -> 64 | F20: ='LOAD-Births by Elem'!E9 -> 52 | G20: ='LOAD-Births by Elem'!F9 -> 60 | H20: ='LOAD-Births by Elem'!G9 -> 46 | I20: ='LOAD-Births by Elem'!H9 -> 56 | J20: ='LOAD-Births by Elem'!I9 -> 49 | ... V20: ='LOAD-Births by Elem'!U9 -> 37
B21: Births to K % | C21: =C20/C7 -> 1.0357143 | D21: =D20/D7 -> 1.0714286 | E21: =E20/E7 -> 1.3913043 | F21: =F20/F7 -> 0.96296296 | G21: =G20/G7 -> 1.1111111 | H21: =H20/H7 -> 0.86792453 | I21: =I20/I7 -> 0.96551724 | J21: =J20/J7 -> 0.83050847 | ... R21: =R20/R7 -> 1.3714286
B23: INPUT 3: PROPORTION OF KINDERGARTENERS BORN 5 and 6 YEARS PRIOR (based on D.O.B. in student file)
B24: DOB 5-Yr Prior | C24: District-wide Proportion Used
B25: % of Res. K | C25: ='BVSD Birth to K'!C26 -> 0.6996904 | D25: ='BVSD Birth to K'!D26 -> 0.69250126 | E25: ='BVSD Birth to K'!E26 -> 0.6874675 | F25: ='BVSD Birth to K'!F26 -> 0.67785939 | G25: ='BVSD Birth to K'!G26 -> 0.72430407 | H25: ='BVSD Birth to K'!H26 -> 0.6724231 | I25: ='BVSD Birth to K'!I26 -> 0.68446602 | J25: ='BVSD Birth to K'!J26 -> 0.68331504 | ... R25: ='BVSD Birth to K'!R26 -> 0.67255448 | S25: =AVERAGE(N25:R25) -> 0.67654051 | T25: =S25 -> 0.67654051 | U25: =T25 -> 0.67654051 | V25: =U25 -> 0.67654051
B26: DOB 6-Yr Prior | C26: District-wide Proportion Used
B27: % of Res. K | C27: ='BVSD Birth to K'!C28 -> 0.3245614 | D27: ='BVSD Birth to K'!D28 -> 0.31102164 | E27: ='BVSD Birth to K'!E28 -> 0.31409256 | F27: ='BVSD Birth to K'!F28 -> 0.31741868 | G27: ='BVSD Birth to K'!G28 -> 0.27623126 | H27: ='BVSD Birth to K'!H28 -> 0.3275769 | I27: ='BVSD Birth to K'!I28 -> 0.31445523 | J27: ='BVSD Birth to K'!J28 -> 0.31723381 | ... R27: ='BVSD Birth to K'!R28 -> 0.32473536 | S27: =AVERAGE(N27:R27) -> 0.32366033 | T27: =S27 -> 0.32366033 | U27: =T27 -> 0.32366033 | V27: =U27 -> 0.32366033
B29: CALCULATION: ADJUSTED BIRTH CLASS (based on proportion of birth 5 & 6 years prior to K class)
B30: Birth Year Range: | C30: =C19&" "&"to"&" "&C15 -> 2004 to 2005 | D30: =D19&" "&"to"&" "&D15 -> 2005 to 2006 | E30: =E19&" "&"to"&" "&E15 -> 2006 to 2007 | F30: =F19&" "&"to"&" "&F15 -> 2007 to 2008 | G30: =G19&" "&"to"&" "&G15 -> 2008 to 2009 | H30: =H19&" "&"to"&" "&H15 -> 2009 to 2010 | I30: =I19&" "&"to"&" "&I15 -> 2010 to 2011 | J30: =J19&" "&"to"&" "&J15 -> 2011 to 2012 | ... V30: =V19&" "&"to"&" "&V15 -> 2023 to 2024
B31: Adjusted Births | C31: =(C25*C16)+(C27*C20) -> 60.805986 | D31: =(D25*D16)+(D27*D20) -> 62.981379 | E31: =(E25*E16)+(E27*E20) -> 55.850234 | F31: =(F25*F16)+(F27*F20) -> 57.177335 | G31: =(G25*G16)+(G27*G20) -> 49.891863 | H31: =(H25*H16)+(H27*H20) -> 52.724231 | I31: =(I25*I16)+(I27*I20) -> 51.148328 | J31: =(J25*J16)+(J27*J20) -> 44.927003 | ... V31: =(V25*V16)+(V27*V20) -> 39.037053
B32: Change | D32: =D31-C31 -> 2.1753934 | E32: =E31-D31 -> -7.131145 | F32: =F31-E31 -> 1.3271007 | G32: =G31-F31 -> -7.2854718 | H32: =H31-G31 -> 2.832368 | I32: =I31-H31 -> -1.575903 | J32: =J31-I31 -> -6.2213246 | K32: =K31-J31 -> 12.811187 | ... V32: =V31-U31 -> 1.7059612
B33: % Change | D33: =D32/C31 -> 0.035775975 | E33: =E32/D31 -> -0.11322624 | F33: =F32/E31 -> 0.023761776 | G33: =G32/F31 -> -0.12741888 | H33: =H32/G31 -> 0.05677014 | I33: =I32/H31 -> -0.029889541 | J33: =J32/I31 -> -0.121633 | K33: =K32/J31 -> 0.2851556 | ... U33: =U32/T31 -> 0.016836025 | V33: =AVERAGE(Q33:U33) -> -0.0087116871
B34: Births to K% | D34: =D7/D31 -> 0.8891517 | E34: =E7/E31 -> 0.82363128 | F34: =F7/F31 -> 0.94443017 | G34: =G7/G31 -> 1.0823408 | H34: =H7/H31 -> 1.0052304 | I34: =I7/I31 -> 1.1339569 | J34: =J7/J31 -> 1.3132414 | K34: =K7/K31 -> 1.0564931 | ... R34: =R7/R31 -> 0.92637698
B35: Births to K | C35: =C7-C31 -> -4.8059856 | D35: =D7-D31 -> -6.981379 | E35: =E7-E31 -> -9.850234 | F35: =F7-F31 -> -3.1773347 | G35: =G7-G31 -> 4.108137 | H35: =H7-H31 -> 0.27576902 | I35: =I7-I31 -> 6.8516721 | J35: =J7-J31 -> 14.072997 | ... R35: =R7-R31 -> -2.7815951
O37: PROJECTED KINDERGARTENER CALCULATOR
R39: =R6 -> 2025/26 | S39: =S6 -> 2026/27 | T39: =T6 -> 2027/28 | U39: =U6 -> 2028/29 | V39: =V6 -> 2029/30
O40: A, B, C, Basis Calculations
P41: Annual % Birth change | R41: =R33 -> -0.17389864 | S41: =S33 -> -0.1084768 | T41: =T33 -> 0.089950635 | U41: =U33 -> 0.016836025 | V41: =V33 -> -0.0087116871
P42: Ave B to K % | R42: =AVERAGE(O34:R34) -> 0.98523552 | S42: =R42 -> 0.98523552 | T42: =S42 -> 0.98523552 | U42: =T42 -> 0.98523552 | V42: =U42 -> 0.98523552
P43: Ave B % Change | R43: =AVERAGE(S33:V33) -> -0.0026004579 | S43: =R43 -> -0.0026004579 | T43: =S43 -> -0.0026004579 | U43: =T43 -> -0.0026004579 | V43: =U43 -> -0.0026004579
O44: Estimated Kindergarten Students
P45: Basis-A (% change) | R45: =R7 -> 35 | S45: =R45+(R45*S41) -> 31.203312 | T45: =S45+(S45*T41) -> 34.01007 | U45: =T45+(T45*U41) -> 34.582664 | V45: =U45+(U45*V41) -> 34.281391
P46: Basis-B (av. B to K%) | R46: =R45 -> 35 | S46: =S42*S31 -> 33.185854 | T46: =T42*T31 -> 36.170942 | U46: =U42*U31 -> 36.779917 | V46: =V42*V31 -> 38.460691
P47: Basis-C (av. % change) | R47: =R46 -> 35 | S47: =R47*(1+S43) -> 34.908984 | T47: =S47*(1+T43) -> 34.818205 | U47: =T47*(1+U43) -> 34.727661 | V47: =U47*(1+V43) -> 34.637354
O49: PROJECTED ENROLLED KINDERGARTENER CALCULATOR
O51: Ave. Diff. between Resident and Enrolled K: | S51: =AVERAGE(I4:R4) -> 3 | T51: =S51 -> 3 | U51: =T51 -> 3 | V51: =U51 -> 3
R52: =R39 -> 2025/26 | S52: =S39 -> 2026/27 | T52: =T39 -> 2027/28 | U52: =U39 -> 2028/29 | V52: =V39 -> 2029/30
O53: A, B, C, Basis Calculations
P54: Annual % Birth change | R54: =R41 -> -0.17389864 | S54: =S41 -> -0.1084768 | T54: =T41 -> 0.089950635 | U54: =U41 -> 0.016836025 | V54: =V41 -> -0.0087116871
P55: Ave B to K % | R55: =R42 -> 0.98523552 | S55: =S42 -> 0.98523552 | T55: =T42 -> 0.98523552 | U55: =U42 -> 0.98523552 | V55: =V42 -> 0.98523552
P56: Ave B % Change | R56: =R43 -> -0.0026004579 | S56: =S43 -> -0.0026004579 | T56: =T43 -> -0.0026004579 | U56: =U43 -> -0.0026004579 | V56: =V43 -> -0.0026004579
O57: Estimated Kindergarten Students
P58: Basis-A (% change) | R58: =R8 -> 38 | S58: =S45+S51 -> 34.203312 | T58: =T45+T51 -> 37.01007 | U58: =U45+U51 -> 37.582664 | V58: =V45+V51 -> 37.281391
P59: Basis-B (av. B to K%) | R59: =R58 -> 38 | S59: =S46+S51 -> 36.185854 | T59: =T46+T51 -> 39.170942 | U59: =U46+U51 -> 39.779917 | V59: =V46+V51 -> 41.460691
P60: Basis-C (av. % change) | R60: =R59 -> 38 | S60: =S47+S51 -> 37.908984 | T60: =T47+T51 -> 37.818205 | U60: =U47+U51 -> 37.727661 | V60: =V47+V51 -> 37.637354

Sheet Coal Creek
B1: Coal Creek El. Birth/Kindergarten Population Correlation Worksheet
B2: ='BVSD Birth to K'!B2 -> updated 11/21/2025
I4: =I8-I7 -> -10 | J4: =J8-J7 -> -10 | K4: =K8-K7 -> -17 | L4: =L8-L7 -> -4 | M4: =M8-M7 -> -9 | N4: =N8-N7 -> -16 | O4: =O8-O7 -> -6 | P4: =P8-P7 -> -3 | ... R4: =R8-R7 -> -1
B5: INPUT 1: KINDERGARTEN RESIDENT STUDENTS (entry formula from "Res K-1 Load Sheet" tab) | R5: Current Year
B6: Grade | C6: ='LOAD-K and 1 by Elm '!B4 -> 2010/11 | D6: ='LOAD-K and 1 by Elm '!C4 -> 2011/12 | E6: ='LOAD-K and 1 by Elm '!D4 -> 2012/13 | F6: ='LOAD-K and 1 by Elm '!E4 -> 2013/14 | G6: ='LOAD-K and 1 by Elm '!F4 -> 2014/15 | H6: ='LOAD-K and 1 by Elm '!G4 -> 2015/16 | I6: ='LOAD-K and 1 by Elm '!H4 -> 2016/17 | J6: ='LOAD-K and 1 by Elm '!I4 -> 2017/18 | ... V6: ='LOAD-K and 1 by Elm '!U4 -> 2029/30
B7: K (resident) | C7: ='LOAD-K and 1 by Elm '!B10 -> 74 | D7: ='LOAD-K and 1 by Elm '!C10 -> 70 | E7: ='LOAD-K and 1 by Elm '!D10 -> 77 | F7: ='LOAD-K and 1 by Elm '!E10 -> 62 | G7: ='LOAD-K and 1 by Elm '!F10 -> 62 | H7: ='LOAD-K and 1 by Elm '!G10 -> 68 | I7: ='LOAD-K and 1 by Elm '!H10 -> 72 | J7: ='LOAD-K and 1 by Elm '!I10 -> 58 | ... R7: ='LOAD-K and 1 by Elm '!Q10 -> 40
B8: K (enrolled) | C8: ='LOAD-K and 1 by Elm '!B85 -> 0 | D8: ='LOAD-K and 1 by Elm '!C85 -> 0 | E8: ='LOAD-K and 1 by Elm '!D85 -> 0 | F8: ='LOAD-K and 1 by Elm '!E85 -> 0 | G8: ='LOAD-K and 1 by Elm '!F85 -> 0 | H8: ='LOAD-K and 1 by Elm '!G85 -> 0 | I8: ='LOAD-K and 1 by Elm '!H85 -> 62 | J8: ='LOAD-K and 1 by Elm '!I85 -> 48 | ... R8: ='LOAD-K and 1 by Elm '!Q85 -> 39
B9: 1st (resident) | C9: ='LOAD-K and 1 by Elm '!B48 -> 72 | D9: ='LOAD-K and 1 by Elm '!C48 -> 86 | E9: ='LOAD-K and 1 by Elm '!D48 -> 75 | F9: ='LOAD-K and 1 by Elm '!E48 -> 82 | G9: ='LOAD-K and 1 by Elm '!F48 -> 66 | H9: ='LOAD-K and 1 by Elm '!G48 -> 68 | I9: ='LOAD-K and 1 by Elm '!H48 -> 80 | J9: ='LOAD-K and 1 by Elm '!I48 -> 84 | ... R9: ='LOAD-K and 1 by Elm '!Q48 -> 47
B10: K Change | D10: =D7-C7 -> -4 | E10: =E7-D7 -> 7 | F10: =F7-E7 -> -15 | G10: =G7-F7 -> 0 | H10: =H7-G7 -> 6 | I10: =I7-H7 -> 4 | J10: =J7-I7 -> -14 | K10: =K7-J7 -> 17 | ... R10: =R7-Q7 -> -7
B11: % K change | D11: =D10/C7 -> -0.054054054 | E11: =E10/D7 -> 0.1 | F11: =F10/E7 -> -0.19480519 | G11: =G10/F7 -> 0 | H11: =H10/G7 -> 0.096774194 | I11: =I10/H7 -> 0.058823529 | J11: =J10/I7 -> -0.19444444 | K11: =K10/J7 -> 0.29310345 | ... R11: =R10/Q7 -> -0.14893617
B13: INPUT 2: BIRTH COHORT FOR EACH KINDERGAREN CLASS (born 5 and 6 prior - (entry formula from "Births by Elem. (Load)" tab)
B14: Births 5 Years Prior
B15: Birth Year | C15: ='LOAD-Births by Elem'!C4 -> 2005 | D15: ='LOAD-Births by Elem'!D4 -> 2006 | E15: ='LOAD-Births by Elem'!E4 -> 2007 | F15: ='LOAD-Births by Elem'!F4 -> 2008 | G15: ='LOAD-Births by Elem'!G4 -> 2009 | H15: ='LOAD-Births by Elem'!H4 -> 2010 | I15: ='LOAD-Births by Elem'!I4 -> 2011 | J15: ='LOAD-Births by Elem'!J4 -> 2012 | ... V15: ='LOAD-Births by Elem'!V4 -> 2024
B16: No. of Births | C16: ='LOAD-Births by Elem'!C10 -> 51 | D16: ='LOAD-Births by Elem'!D10 -> 72 | E16: ='LOAD-Births by Elem'!E10 -> 55 | F16: ='LOAD-Births by Elem'!F10 -> 54 | G16: ='LOAD-Births by Elem'!G10 -> 68 | H16: ='LOAD-Births by Elem'!H10 -> 68 | I16: ='LOAD-Births by Elem'!I10 -> 51 | J16: ='LOAD-Births by Elem'!J10 -> 66 | ... V16: ='LOAD-Births by Elem'!V10 -> 40
B17: Births to K % | C17: =C7/C16 -> 1.4509804 | D17: =D7/D16 -> 0.97222222 | E17: =E7/E16 -> 1.4 | F17: =F7/F16 -> 1.1481481 | G17: =G7/G16 -> 0.91176471 | H17: =H7/H16 -> 1 | I17: =I7/I16 -> 1.4117647 | J17: =J7/J16 -> 0.87878788 | ... R17: =R7/R16 -> 1.0810811
B18: Births 6 Years Prior
B19: Birth Year | C19: ='LOAD-Births by Elem'!B4 -> 2004 | D19: ='LOAD-Births by Elem'!C4 -> 2005 | E19: ='LOAD-Births by Elem'!D4 -> 2006 | F19: ='LOAD-Births by Elem'!E4 -> 2007 | G19: ='LOAD-Births by Elem'!F4 -> 2008 | H19: ='LOAD-Births by Elem'!G4 -> 2009 | I19: ='LOAD-Births by Elem'!H4 -> 2010 | J19: ='LOAD-Births by Elem'!I4 -> 2011 | ... V19: ='LOAD-Births by Elem'!U4 -> 2023
B20: No. of Births | C20: ='LOAD-Births by Elem'!B10 -> 49 | D20: ='LOAD-Births by Elem'!C10 -> 51 | E20: ='LOAD-Births by Elem'!D10 -> 72 | F20: ='LOAD-Births by Elem'!E10 -> 55 | G20: ='LOAD-Births by Elem'!F10 -> 54 | H20: ='LOAD-Births by Elem'!G10 -> 68 | I20: ='LOAD-Births by Elem'!H10 -> 68 | J20: ='LOAD-Births by Elem'!I10 -> 51 | ... V20: ='LOAD-Births by Elem'!U10 -> 20
B21: Births to K % | C21: =C20/C7 -> 0.66216216 | D21: =D20/D7 -> 0.72857143 | E21: =E20/E7 -> 0.93506494 | F21: =F20/F7 -> 0.88709677 | G21: =G20/G7 -> 0.87096774 | H21: =H20/H7 -> 1 | I21: =I20/I7 -> 0.94444444 | J21: =J20/J7 -> 0.87931034 | ... R21: =R20/R7 -> 0.95
B23: INPUT 3: PROPORTION OF KINDERGARTENERS BORN 5 and 6 YEARS PRIOR (based on D.O.B. in student file)
B24: DOB 5-Yr Prior | C24: District-wide Proportion Used
B25: % of Res. K | C25: ='BVSD Birth to K'!C26 -> 0.6996904 | D25: ='BVSD Birth to K'!D26 -> 0.69250126 | E25: ='BVSD Birth to K'!E26 -> 0.6874675 | F25: ='BVSD Birth to K'!F26 -> 0.67785939 | G25: ='BVSD Birth to K'!G26 -> 0.72430407 | H25: ='BVSD Birth to K'!H26 -> 0.6724231 | I25: ='BVSD Birth to K'!I26 -> 0.68446602 | J25: ='BVSD Birth to K'!J26 -> 0.68331504 | ... R25: ='BVSD Birth to K'!R26 -> 0.67255448 | S25: =AVERAGE(N25:R25) -> 0.67654051 | T25: =S25 -> 0.67654051 | U25: =T25 -> 0.67654051 | V25: =U25 -> 0.67654051
B26: DOB 6-Yr Prior | C26: District-wide Proportion Used
B27: % of Res. K | C27: ='BVSD Birth to K'!C28 -> 0.3245614 | D27: ='BVSD Birth to K'!D28 -> 0.31102164 | E27: ='BVSD Birth to K'!E28 -> 0.31409256 | F27: ='BVSD Birth to K'!F28 -> 0.31741868 | G27: ='BVSD Birth to K'!G28 -> 0.27623126 | H27: ='BVSD Birth to K'!H28 -> 0.3275769 | I27: ='BVSD Birth to K'!I28 -> 0.31445523 | J27: ='BVSD Birth to K'!J28 -> 0.31723381 | ... R27: ='BVSD Birth to K'!R28 -> 0.32473536 | S27: =AVERAGE(N27:R27) -> 0.32366033 | T27: =S27 -> 0.32366033 | U27: =T27 -> 0.32366033 | V27: =U27 -> 0.32366033
B29: CALCULATION: ADJUSTED BIRTH CLASS (based on proportion of birth 5 & 6 years prior to K class)
B30: Birth Year Range: | C30: =C19&" "&"to"&" "&C15 -> 2004 to 2005 | D30: =D19&" "&"to"&" "&D15 -> 2005 to 2006 | E30: =E19&" "&"to"&" "&E15 -> 2006 to 2007 | F30: =F19&" "&"to"&" "&F15 -> 2007 to 2008 | G30: =G19&" "&"to"&" "&G15 -> 2008 to 2009 | H30: =H19&" "&"to"&" "&H15 -> 2009 to 2010 | I30: =I19&" "&"to"&" "&I15 -> 2010 to 2011 | J30: =J19&" "&"to"&" "&J15 -> 2011 to 2012 | ... V30: =V19&" "&"to"&" "&V15 -> 2023 to 2024
B31: Adjusted Births | C31: =(C25*C16)+(C27*C20) -> 51.587719 | D31: =(D25*D16)+(D27*D20) -> 65.722194 | E31: =(E25*E16)+(E27*E20) -> 60.425377 | F31: =(F25*F16)+(F27*F20) -> 54.062434 | G31: =(G25*G16)+(G27*G20) -> 64.169165 | H31: =(H25*H16)+(H27*H20) -> 68 | I31: =(I25*I16)+(I27*I20) -> 56.290723 | J31: =(J25*J16)+(J27*J20) -> 61.277717 | ... V31: =(V25*V16)+(V27*V20) -> 33.534827
B32: Change | D32: =D31-C31 -> 14.134475 | E32: =E31-D31 -> -5.2968172 | F32: =F31-E31 -> -6.3629426 | G32: =G31-F31 -> 10.10673 | H32: =H31-G31 -> 3.8308351 | I32: =I31-H31 -> -11.709277 | J32: =J31-I31 -> 4.986994 | K32: =K31-J31 -> 0.65853819 | ... V32: =V31-U31 -> 3.1736795
B33: % Change | D33: =D32/C31 -> 0.27398914 | E33: =E32/D31 -> -0.080594041 | F33: =F32/E31 -> -0.10530249 | G33: =G32/F31 -> 0.18694553 | H33: =H32/G31 -> 0.059699002 | I33: =I32/H31 -> -0.17219525 | J33: =J32/I31 -> 0.088593534 | K33: =K32/J31 -> 0.010746781 | ... U33: =U32/T31 -> -0.41985923 | V33: =AVERAGE(Q33:U33) -> -0.045996735
B34: Births to K% | D34: =D7/D31 -> 1.0650892 | E34: =E7/E31 -> 1.274299 | F34: =F7/F31 -> 1.1468222 | G34: =G7/G31 -> 0.96619615 | H34: =H7/H31 -> 1 | I34: =I7/I31 -> 1.279074 | J34: =J7/J31 -> 0.94651046 | K34: =K7/K31 -> 1.2109224 | ... R34: =R7/R31 -> 1.0745623
B35: Births to K | C35: =C7-C31 -> 22.412281 | D35: =D7-D31 -> 4.2778057 | E35: =E7-E31 -> 16.574623 | F35: =F7-F31 -> 7.9375656 | G35: =G7-G31 -> -2.1691649 | H35: =H7-H31 -> 0 | I35: =I7-I31 -> 15.709277 | J35: =J7-J31 -> -3.2777168 | ... R35: =R7-R31 -> 2.7755406
O37: PROJECTED KINDERGARTENER CALCULATOR
R39: =R6 -> 2025/26 | S39: =S6 -> 2026/27 | T39: =T6 -> 2027/28 | U39: =U6 -> 2028/29 | V39: =V6 -> 2029/30
O40: A, B, C, Basis Calculations
P41: Annual % Birth change | R41: =R33 -> -0.056932 | S41: =S33 -> 0.28496371 | T41: =T33 -> 0.094121453 | U41: =U33 -> -0.41985923 | V41: =V33 -> -0.045996735
P42: Ave B to K % | R42: =AVERAGE(O34:R34) -> 1.0161454 | S42: =R42 -> 1.0161454 | T42: =S42 -> 1.0161454 | U42: =T42 -> 1.0161454 | V42: =U42 -> 1.0161454
P43: Ave B % Change | R43: =AVERAGE(S33:V33) -> -0.0216927 | S43: =R43 -> -0.0216927 | T43: =S43 -> -0.0216927 | U43: =T43 -> -0.0216927 | V43: =U43 -> -0.0216927
O44: Estimated Kindergarten Students
P45: Basis-A (% change) | R45: =R7 -> 40 | S45: =R45+(R45*S41) -> 51.398548 | T45: =S45+(S45*T41) -> 56.236254 | U45: =T45+(T45*U41) -> 32.624944 | V45: =U45+(U45*V41) -> 31.124303
P46: Basis-B (av. B to K%) | R46: =R45 -> 40 | S46: =S42*S31 -> 48.604346 | T46: =T42*T31 -> 53.179058 | U46: =U42*U31 -> 30.851339 | V46: =V42*V31 -> 34.076259
P47: Basis-C (av. % change) | R47: =R46 -> 40 | S47: =R47*(1+S43) -> 39.132292 | T47: =S47*(1+T43) -> 38.283407 | U47: =T47*(1+U43) -> 37.452936 | V47: =U47*(1+V43) -> 36.640481
O49: PROJECTED ENROLLED KINDERGARTENER CALCULATOR
O51: Ave. Diff. between Resident and Enrolled K: | S51: =AVERAGE(N4:R4) -> -6.8 | T51: =S51 -> -6.8 | U51: =T51 -> -6.8 | V51: =U51 -> -6.8
R52: =R39 -> 2025/26 | S52: =S39 -> 2026/27 | T52: =T39 -> 2027/28 | U52: =U39 -> 2028/29 | V52: =V39 -> 2029/30
O53: A, B, C, Basis Calculations
P54: Annual % Birth change | R54: =R41 -> -0.056932 | S54: =S41 -> 0.28496371 | T54: =T41 -> 0.094121453 | U54: =U41 -> -0.41985923 | V54: =V41 -> -0.045996735
P55: Ave B to K % | R55: =R42 -> 1.0161454 | S55: =S42 -> 1.0161454 | T55: =T42 -> 1.0161454 | U55: =U42 -> 1.0161454 | V55: =V42 -> 1.0161454
P56: Ave B % Change | R56: =R43 -> -0.0216927 | S56: =S43 -> -0.0216927 | T56: =T43 -> -0.0216927 | U56: =U43 -> -0.0216927 | V56: =V43 -> -0.0216927
O57: Estimated Kindergarten Students
P58: Basis-A (% change) | R58: =R8 -> 39 | S58: =S45+S51 -> 44.598548 | T58: =T45+T51 -> 49.436254 | U58: =U45+U51 -> 25.824944 | V58: =V45+V51 -> 24.324303
P59: Basis-B (av. B to K%) | R59: =R58 -> 39 | S59: =S46+S51 -> 41.804346 | T59: =T46+T51 -> 46.379058 | U59: =U46+U51 -> 24.051339 | V59: =V46+V51 -> 27.276259
P60: Basis-C (av. % change) | R60: =R59 -> 39 | S60: =S47+S51 -> 32.332292 | T60: =T47+T51 -> 31.483407 | U60: =U47+U51 -> 30.652936 | V60: =V47+V51 -> 29.840481

Sheet Columbine
B1: Columbine El. Birth/Kindergarten Population Correlation Worksheet
B2: ='BVSD Birth to K'!B2 -> updated 11/21/2025
I4: =I8-I7 -> -23 | J4: =J8-J7 -> -23 | K4: =K8-K7 -> -17 | L4: =L8-L7 -> -29 | M4: =M8-M7 -> -52 | N4: =N8-N7 -> -35 | O4: =O8-O7 -> -38 | P4: =P8-P7 -> -34 | ... R4: =R8-R7 -> -24
B5: INPUT 1: KINDERGARTEN RESIDENT STUDENTS (entry formula from "Res K-1 Load Sheet" tab) | R5: Current Year
B6: Grade | C6: ='LOAD-K and 1 by Elm '!B4 -> 2010/11 | D6: ='LOAD-K and 1 by Elm '!C4 -> 2011/12 | E6: ='LOAD-K and 1 by Elm '!D4 -> 2012/13 | F6: ='LOAD-K and 1 by Elm '!E4 -> 2013/14 | G6: ='LOAD-K and 1 by Elm '!F4 -> 2014/15 | H6: ='LOAD-K and 1 by Elm '!G4 -> 2015/16 | I6: ='LOAD-K and 1 by Elm '!H4 -> 2016/17 | J6: ='LOAD-K and 1 by Elm '!I4 -> 2017/18 | ... V6: ='LOAD-K and 1 by Elm '!U4 -> 2029/30
B7: K (resident) | C7: ='LOAD-K and 1 by Elm '!B11 -> 110 | D7: ='LOAD-K and 1 by Elm '!C11 -> 124 | E7: ='LOAD-K and 1 by Elm '!D11 -> 111 | F7: ='LOAD-K and 1 by Elm '!E11 -> 120 | G7: ='LOAD-K and 1 by Elm '!F11 -> 103 | H7: ='LOAD-K and 1 by Elm '!G11 -> 122 | I7: ='LOAD-K and 1 by Elm '!H11 -> 105 | J7: ='LOAD-K and 1 by Elm '!I11 -> 103 | ... R7: ='LOAD-K and 1 by Elm '!Q11 -> 79
B8: K (enrolled) | C8: ='LOAD-K and 1 by Elm '!B86 -> 0 | D8: ='LOAD-K and 1 by Elm '!C86 -> 0 | E8: ='LOAD-K and 1 by Elm '!D86 -> 0 | F8: ='LOAD-K and 1 by Elm '!E86 -> 0 | G8: ='LOAD-K and 1 by Elm '!F86 -> 0 | H8: ='LOAD-K and 1 by Elm '!G86 -> 0 | I8: ='LOAD-K and 1 by Elm '!H86 -> 82 | J8: ='LOAD-K and 1 by Elm '!I86 -> 80 | ... R8: ='LOAD-K and 1 by Elm '!Q86 -> 55
B9: 1st (resident) | C9: ='LOAD-K and 1 by Elm '!B49 -> 98 | D9: ='LOAD-K and 1 by Elm '!C49 -> 107 | E9: ='LOAD-K and 1 by Elm '!D49 -> 119 | F9: ='LOAD-K and 1 by Elm '!E49 -> 106 | G9: ='LOAD-K and 1 by Elm '!F49 -> 131 | H9: ='LOAD-K and 1 by Elm '!G49 -> 106 | I9: ='LOAD-K and 1 by Elm '!H49 -> 113 | J9: ='LOAD-K and 1 by Elm '!I49 -> 108 | ... R9: ='LOAD-K and 1 by Elm '!Q49 -> 77
B10: K Change | D10: =D7-C7 -> 14 | E10: =E7-D7 -> -13 | F10: =F7-E7 -> 9 | G10: =G7-F7 -> -17 | H10: =H7-G7 -> 19 | I10: =I7-H7 -> -17 | J10: =J7-I7 -> -2 | K10: =K7-J7 -> -16 | ... R10: =R7-Q7 -> -7
B11: % K change | D11: =D10/C7 -> 0.12727273 | E11: =E10/D7 -> -0.10483871 | F11: =F10/E7 -> 0.081081081 | G11: =G10/F7 -> -0.14166667 | H11: =H10/G7 -> 0.18446602 | I11: =I10/H7 -> -0.13934426 | J11: =J10/I7 -> -0.019047619 | K11: =K10/J7 -> -0.15533981 | ... R11: =R10/Q7 -> -0.081395349
B13: INPUT 2: BIRTH COHORT FOR EACH KINDERGAREN CLASS (born 5 and 6 prior - (entry formula from "Births by Elem. (Load)" tab)
B14: Births 5 Years Prior
B15: Birth Year | C15: ='LOAD-Births by Elem'!C4 -> 2005 | D15: ='LOAD-Births by Elem'!D4 -> 2006 | E15: ='LOAD-Births by Elem'!E4 -> 2007 | F15: ='LOAD-Births by Elem'!F4 -> 2008 | G15: ='LOAD-Births by Elem'!G4 -> 2009 | H15: ='LOAD-Births by Elem'!H4 -> 2010 | I15: ='LOAD-Births by Elem'!I4 -> 2011 | J15: ='LOAD-Births by Elem'!J4 -> 2012 | ... V15: ='LOAD-Births by Elem'!V4 -> 2024
B16: No. of Births | C16: ='LOAD-Births by Elem'!C11 -> 163 | D16: ='LOAD-Births by Elem'!D11 -> 168 | E16: ='LOAD-Births by Elem'!E11 -> 157 | F16: ='LOAD-Births by Elem'!F11 -> 155 | G16: ='LOAD-Births by Elem'!G11 -> 153 | H16: ='LOAD-Births by Elem'!H11 -> 135 | I16: ='LOAD-Births by Elem'!I11 -> 155 | J16: ='LOAD-Births by Elem'!J11 -> 132 | ... V16: ='LOAD-Births by Elem'!V11 -> 99
B17: Births to K % | C17: =C7/C16 -> 0.67484663 | D17: =D7/D16 -> 0.73809524 | E17: =E7/E16 -> 0.70700637 | F17: =F7/F16 -> 0.77419355 | G17: =G7/G16 -> 0.67320261 | H17: =H7/H16 -> 0.9037037 | I17: =I7/I16 -> 0.67741935 | J17: =J7/J16 -> 0.78030303 | ... R17: =R7/R16 -> 0.73148148
B18: Births 6 Years Prior
B19: Birth Year | C19: ='LOAD-Births by Elem'!B4 -> 2004 | D19: ='LOAD-Births by Elem'!C4 -> 2005 | E19: ='LOAD-Births by Elem'!D4 -> 2006 | F19: ='LOAD-Births by Elem'!E4 -> 2007 | G19: ='LOAD-Births by Elem'!F4 -> 2008 | H19: ='LOAD-Births by Elem'!G4 -> 2009 | I19: ='LOAD-Births by Elem'!H4 -> 2010 | J19: ='LOAD-Births by Elem'!I4 -> 2011 | ... V19: ='LOAD-Births by Elem'!U4 -> 2023
B20: No. of Births | C20: ='LOAD-Births by Elem'!B11 -> 175 | D20: ='LOAD-Births by Elem'!C11 -> 163 | E20: ='LOAD-Births by Elem'!D11 -> 168 | F20: ='LOAD-Births by Elem'!E11 -> 157 | G20: ='LOAD-Births by Elem'!F11 -> 155 | H20: ='LOAD-Births by Elem'!G11 -> 153 | I20: ='LOAD-Births by Elem'!H11 -> 135 | J20: ='LOAD-Births by Elem'!I11 -> 155 | ... V20: ='LOAD-Births by Elem'!U11 -> 98
B21: Births to K % | C21: =C20/C7 -> 1.5909091 | D21: =D20/D7 -> 1.3145161 | E21: =E20/E7 -> 1.5135135 | F21: =F20/F7 -> 1.3083333 | G21: =G20/G7 -> 1.5048544 | H21: =H20/H7 -> 1.2540984 | I21: =I20/I7 -> 1.2857143 | J21: =J20/J7 -> 1.5048544 | ... R21: =R20/R7 -> 1.164557
B23: INPUT 3: PROPORTION OF KINDERGARTENERS BORN 5 and 6 YEARS PRIOR (based on D.O.B. in student file)
B24: DOB 5-Yr Prior | C24: District-wide Proportion Used
B25: % of Res. K | C25: ='BVSD Birth to K'!C26 -> 0.6996904 | D25: ='BVSD Birth to K'!D26 -> 0.69250126 | E25: ='BVSD Birth to K'!E26 -> 0.6874675 | F25: ='BVSD Birth to K'!F26 -> 0.67785939 | G25: ='BVSD Birth to K'!G26 -> 0.72430407 | H25: ='BVSD Birth to K'!H26 -> 0.6724231 | I25: ='BVSD Birth to K'!I26 -> 0.68446602 | J25: ='BVSD Birth to K'!J26 -> 0.68331504 | ... R25: ='BVSD Birth to K'!R26 -> 0.67255448 | S25: =AVERAGE(N25:R25) -> 0.67654051 | T25: =S25 -> 0.67654051 | U25: =T25 -> 0.67654051 | V25: =U25 -> 0.67654051
B26: DOB 6-Yr Prior | C26: District-wide Proportion Used
B27: % of Res. K | C27: ='BVSD Birth to K'!C28 -> 0.3245614 | D27: ='BVSD Birth to K'!D28 -> 0.31102164 | E27: ='BVSD Birth to K'!E28 -> 0.31409256 | F27: ='BVSD Birth to K'!F28 -> 0.31741868 | G27: ='BVSD Birth to K'!G28 -> 0.27623126 | H27: ='BVSD Birth to K'!H28 -> 0.3275769 | I27: ='BVSD Birth to K'!I28 -> 0.31445523 | J27: ='BVSD Birth to K'!J28 -> 0.31723381 | ... R27: ='BVSD Birth to K'!R28 -> 0.32473536 | S27: =AVERAGE(N27:R27) -> 0.32366033 | T27: =S27 -> 0.32366033 | U27: =T27 -> 0.32366033 | V27: =U27 -> 0.32366033
B29: CALCULATION: ADJUSTED BIRTH CLASS (based on proportion of birth 5 & 6 years prior to K class)
B30: Birth Year Range: | C30: =C19&" "&"to"&" "&C15 -> 2004 to 2005 | D30: =D19&" "&"to"&" "&D15 -> 2005 to 2006 | E30: =E19&" "&"to"&" "&E15 -> 2006 to 2007 | F30: =F19&" "&"to"&" "&F15 -> 2007 to 2008 | G30: =G19&" "&"to"&" "&G15 -> 2008 to 2009 | H30: =H19&" "&"to"&" "&H15 -> 2009 to 2010 | I30: =I19&" "&"to"&" "&I15 -> 2010 to 2011 | J30: =J19&" "&"to"&" "&J15 -> 2011 to 2012 | ... V30: =V19&" "&"to"&" "&V15 -> 2023 to 2024
B31: Adjusted Births | C31: =(C25*C16)+(C27*C20) -> 170.84778 | D31: =(D25*D16)+(D27*D20) -> 167.03674 | E31: =(E25*E16)+(E27*E20) -> 160.69995 | F31: =(F25*F16)+(F27*F20) -> 154.90294 | G31: =(G25*G16)+(G27*G20) -> 153.63437 | H31: =(H25*H16)+(H27*H20) -> 140.89638 | I31: =(I25*I16)+(I27*I20) -> 148.54369 | J31: =(J25*J16)+(J27*J20) -> 139.36883 | ... V31: =(V25*V16)+(V27*V20) -> 98.696223
B32: Change | D32: =D31-C31 -> -3.8110424 | E32: =E31-D31 -> -6.3367908 | F32: =F31-E31 -> -5.7970099 | G32: =G31-F31 -> -1.2685698 | H32: =H31-G31 -> -12.737984 | I32: =I31-H31 -> 7.6473051 | J32: =J31-I31 -> -9.1748639 | K32: =K31-J31 -> -9.457044 | ... V32: =V31-U31 -> 4.8841249
B33: % Change | D33: =D32/C31 -> -0.022306654 | E33: =E32/D31 -> -0.037936509 | F33: =F32/E31 -> -0.036073502 | G33: =G32/F31 -> -0.0081894495 | H33: =H32/G31 -> -0.082911032 | I33: =I32/H31 -> 0.054276092 | J33: =J32/I31 -> -0.061765423 | K33: =K32/J31 -> -0.067856237 | ... V33: =V32/U31 -> 0.052062846
B34: Births to K% | D34: =D7/D31 -> 0.74235166 | E34: =E7/E31 -> 0.69072829 | F34: =F7/F31 -> 0.77467866 | G34: =G7/G31 -> 0.67042291 | H34: =H7/H31 -> 0.86588453 | I34: =I7/I31 -> 0.70686275 | J34: =J7/J31 -> 0.73904619 | K34: =K7/K31 -> 0.66968522 | ... R34: =R7/R31 -> 0.77064497
B35: Births to K | C35: =C7-C31 -> -60.847781 | D35: =D7-D31 -> -43.036739 | E35: =E7-E31 -> -49.699948 | F35: =F7-F31 -> -34.902938 | G35: =G7-G31 -> -50.634368 | H35: =H7-H31 -> -18.896384 | I35: =I7-I31 -> -43.543689 | J35: =J7-J31 -> -36.368825 | ... R35: =R7-R31 -> -23.511537
O37: PROJECTED KINDERGARTENER CALCULATOR
R39: =R6 -> 2025/26 | S39: =S6 -> 2026/27 | T39: =T6 -> 2027/28 | U39: =U6 -> 2028/29 | V39: =V6 -> 2029/30
O40: A, B, C, Basis Calculations
P41: Annual % Birth change | R41: =R33 -> 0.083617555 | S41: =S33 -> 0.033952597 | T41: =T33 -> -0.13681959 | U41: =U33 -> 0.025377778 | V41: =V33 -> 0.052062846
P42: Ave B to K % | R42: =AVERAGE(O34:R34) -> 0.80341439 | S42: =R42 -> 0.80341439 | T42: =S42 -> 0.80341439 | U42: =T42 -> 0.80341439 | V42: =U42 -> 0.80341439
P43: Ave B % Change | R43: =AVERAGE(S33:V33) -> -0.0063565914 | S43: =R43 -> -0.0063565914 | T43: =S43 -> -0.0063565914 | U43: =T43 -> -0.0063565914 | V43: =U43 -> -0.0063565914
O44: Estimated Kindergarten Students
P45: Basis-A (% change) | R45: =R7 -> 79 | S45: =R45+(R45*S41) -> 81.682255 | T45: =S45+(S45*T41) -> 70.506523 | U45: =T45+(T45*U41) -> 72.295822 | V45: =U45+(U45*V41) -> 76.059748
P46: Basis-B (av. B to K%) | R46: =R45 -> 79 | S46: =S42*S31 -> 85.155554 | T46: =T42*T31 -> 73.504606 | U46: =U42*U31 -> 75.36999 | V46: =V42*V31 -> 79.293966
P47: Basis-C (av. % change) | R47: =R46 -> 79 | S47: =R47*(1+S43) -> 78.497829 | T47: =S47*(1+T43) -> 77.998851 | U47: =T47*(1+U43) -> 77.503044 | V47: =U47*(1+V43) -> 77.010389
O49: PROJECTED ENROLLED KINDERGARTENER CALCULATOR
O51: Ave. Diff. between Resident and Enrolled K: | S51: =AVERAGE(P4:R4,N4) -> -31.75 | T51: =S51 -> -31.75 | U51: =T51 -> -31.75 | V51: =U51 -> -31.75
R52: =R39 -> 2025/26 | S52: =S39 -> 2026/27 | T52: =T39 -> 2027/28 | U52: =U39 -> 2028/29 | V52: =V39 -> 2029/30
O53: A, B, C, Basis Calculations
P54: Annual % Birth change | R54: =R41 -> 0.083617555 | S54: =S41 -> 0.033952597 | T54: =T41 -> -0.13681959 | U54: =U41 -> 0.025377778 | V54: =V41 -> 0.052062846
P55: Ave B to K % | R55: =R42 -> 0.80341439 | S55: =S42 -> 0.80341439 | T55: =T42 -> 0.80341439 | U55: =U42 -> 0.80341439 | V55: =V42 -> 0.80341439
P56: Ave B % Change | R56: =R43 -> -0.0063565914 | S56: =S43 -> -0.0063565914 | T56: =T43 -> -0.0063565914 | U56: =U43 -> -0.0063565914 | V56: =V43 -> -0.0063565914
O57: Estimated Kindergarten Students
P58: Basis-A (% change) | R58: =R8 -> 55 | S58: =S45+S51 -> 49.932255 | T58: =T45+T51 -> 38.756523 | U58: =U45+U51 -> 40.545822 | V58: =V45+V51 -> 44.309748
P59: Basis-B (av. B to K%) | R59: =R58 -> 55 | S59: =S46+S51 -> 53.405554 | T59: =T46+T51 -> 41.754606 | U59: =U46+U51 -> 43.61999 | V59: =V46+V51 -> 47.543966
P60: Basis-C (av. % change) | R60: =R59 -> 55 | S60: =S47+S51 -> 46.747829 | T60: =T47+T51 -> 46.248851 | U60: =U47+U51 -> 45.753044 | V60: =V47+V51 -> 45.260389

Sheet Creekside
B1: Creekside El. Birth/Kindergarten Population Correlation Worksheet
B2: ='BVSD Birth to K'!B2 -> updated 11/21/2025
I3: =I4/I7 -> -0.4787234 | J3: =J4/J7 -> -0.30864198 | K3: =K4/K7 -> -0.31182796 | L3: =L4/L7 -> -0.27722772 | M3: =M4/M7 -> -0.4375 | N3: =N4/N7 -> -0.25675676 | O3: =O4/O7 -> -0.31707317 | P3: =P4/P7 -> -0.37681159 | ... R3: =R4/R7 -> -0.44067797 | S3: =AVERAGE(P3:R3,N3) -> -0.35679687 | T3: -0.30696731 | U3: -0.30696731 | V3: -0.30696731
I4: =I8-I7 -> -45 | J4: =J8-J7 -> -25 | K4: =K8-K7 -> -29 | L4: =L8-L7 -> -28 | M4: =M8-M7 -> -35 | N4: =N8-N7 -> -19 | O4: =O8-O7 -> -26 | P4: =P8-P7 -> -26 | ... R4: =R8-R7 -> -26
B5: INPUT 1: KINDERGARTEN RESIDENT STUDENTS (entry formula from "Res K-1 Load Sheet" tab) | R5: Current Year
B6: Grade | C6: ='LOAD-K and 1 by Elm '!B4 -> 2010/11 | D6: ='LOAD-K and 1 by Elm '!C4 -> 2011/12 | E6: ='LOAD-K and 1 by Elm '!D4 -> 2012/13 | F6: ='LOAD-K and 1 by Elm '!E4 -> 2013/14 | G6: ='LOAD-K and 1 by Elm '!F4 -> 2014/15 | H6: ='LOAD-K and 1 by Elm '!G4 -> 2015/16 | I6: ='LOAD-K and 1 by Elm '!H4 -> 2016/17 | J6: ='LOAD-K and 1 by Elm '!I4 -> 2017/18 | ... V6: ='LOAD-K and 1 by Elm '!U4 -> 2029/30
B7: K (resident) | C7: ='LOAD-K and 1 by Elm '!B12 -> 95 | D7: ='LOAD-K and 1 by Elm '!C12 -> 97 | E7: ='LOAD-K and 1 by Elm '!D12 -> 91 | F7: ='LOAD-K and 1 by Elm '!E12 -> 98 | G7: ='LOAD-K and 1 by Elm '!F12 -> 93 | H7: ='LOAD-K and 1 by Elm '!G12 -> 91 | I7: ='LOAD-K and 1 by Elm '!H12 -> 94 | J7: ='LOAD-K and 1 by Elm '!I12 -> 81 | ... R7: ='LOAD-K and 1 by Elm '!Q12 -> 59
B8: K (enrolled) | C8: ='LOAD-K and 1 by Elm '!B87 -> 0 | D8: ='LOAD-K and 1 by Elm '!C87 -> 0 | E8: ='LOAD-K and 1 by Elm '!D87 -> 0 | F8: ='LOAD-K and 1 by Elm '!E87 -> 0 | G8: ='LOAD-K and 1 by Elm '!F87 -> 0 | H8: ='LOAD-K and 1 by Elm '!G87 -> 0 | I8: ='LOAD-K and 1 by Elm '!H87 -> 49 | J8: ='LOAD-K and 1 by Elm '!I87 -> 56 | ... R8: ='LOAD-K and 1 by Elm '!Q87 -> 33
B9: 1st (resident) | C9: ='LOAD-K and 1 by Elm '!B50 -> 90 | D9: ='LOAD-K and 1 by Elm '!C50 -> 88 | E9: ='LOAD-K and 1 by Elm '!D50 -> 88 | F9: ='LOAD-K and 1 by Elm '!E50 -> 90 | G9: ='LOAD-K and 1 by Elm '!F50 -> 95 | H9: ='LOAD-K and 1 by Elm '!G50 -> 77 | I9: ='LOAD-K and 1 by Elm '!H50 -> 88 | J9: ='LOAD-K and 1 by Elm '!I50 -> 92 | ... R9: ='LOAD-K and 1 by Elm '!Q50 -> 62
B10: K Change | D10: =D7-C7 -> 2 | E10: =E7-D7 -> -6 | F10: =F7-E7 -> 7 | G10: =G7-F7 -> -5 | H10: =H7-G7 -> -2 | I10: =I7-H7 -> 3 | J10: =J7-I7 -> -13 | K10: =K7-J7 -> 12 | ... R10: =R7-Q7 -> -9
B11: % K change | D11: =D10/C7 -> 0.021052632 | E11: =E10/D7 -> -0.06185567 | F11: =F10/E7 -> 0.076923077 | G11: =G10/F7 -> -0.051020408 | H11: =H10/G7 -> -0.021505376 | I11: =I10/H7 -> 0.032967033 | J11: =J10/I7 -> -0.13829787 | K11: =K10/J7 -> 0.14814815 | ... R11: =R10/Q7 -> -0.13235294
B13: INPUT 2: BIRTH COHORT FOR EACH KINDERGAREN CLASS (born 5 and 6 prior - (entry formula from "Births by Elem. (Load)" tab)
B14: Births 5 Years Prior
B15: Birth Year | C15: ='LOAD-Births by Elem'!C4 -> 2005 | D15: ='LOAD-Births by Elem'!D4 -> 2006 | E15: ='LOAD-Births by Elem'!E4 -> 2007 | F15: ='LOAD-Births by Elem'!F4 -> 2008 | G15: ='LOAD-Births by Elem'!G4 -> 2009 | H15: ='LOAD-Births by Elem'!H4 -> 2010 | I15: ='LOAD-Births by Elem'!I4 -> 2011 | J15: ='LOAD-Births by Elem'!J4 -> 2012 | ... V15: ='LOAD-Births by Elem'!V4 -> 2024
B16: No. of Births | C16: ='LOAD-Births by Elem'!C12 -> 166 | D16: ='LOAD-Births by Elem'!D12 -> 145 | E16: ='LOAD-Births by Elem'!E12 -> 156 | F16: ='LOAD-Births by Elem'!F12 -> 176 | G16: ='LOAD-Births by Elem'!G12 -> 159 | H16: ='LOAD-Births by Elem'!H12 -> 150 | I16: ='LOAD-Births by Elem'!I12 -> 130 | J16: ='LOAD-Births by Elem'!J12 -> 157 | ... V16: ='LOAD-Births by Elem'!V12 -> 76
B17: Births to K % | C17: =C7/C16 -> 0.57228916 | D17: =D7/D16 -> 0.66896552 | E17: =E7/E16 -> 0.58333333 | F17: =F7/F16 -> 0.55681818 | G17: =G7/G16 -> 0.58490566 | H17: =H7/H16 -> 0.60666667 | I17: =I7/I16 -> 0.72307692 | J17: =J7/J16 -> 0.51592357 | ... R17: =R7/R16 -> 0.67816092
B18: Births 6 Years Prior
B19: Birth Year | C19: ='LOAD-Births by Elem'!B4 -> 2004 | D19: ='LOAD-Births by Elem'!C4 -> 2005 | E19: ='LOAD-Births by Elem'!D4 -> 2006 | F19: ='LOAD-Births by Elem'!E4 -> 2007 | G19: ='LOAD-Births by Elem'!F4 -> 2008 | H19: ='LOAD-Births by Elem'!G4 -> 2009 | I19: ='LOAD-Births by Elem'!H4 -> 2010 | J19: ='LOAD-Births by Elem'!I4 -> 2011 | ... V19: ='LOAD-Births by Elem'!U4 -> 2023
B20: No. of Births | C20: ='LOAD-Births by Elem'!B12 -> 145 | D20: ='LOAD-Births by Elem'!C12 -> 166 | E20: ='LOAD-Births by Elem'!D12 -> 145 | F20: ='LOAD-Births by Elem'!E12 -> 156 | G20: ='LOAD-Births by Elem'!F12 -> 176 | H20: ='LOAD-Births by Elem'!G12 -> 159 | I20: ='LOAD-Births by Elem'!H12 -> 150 | J20: ='LOAD-Births by Elem'!I12 -> 130 | ... V20: ='LOAD-Births by Elem'!U12 -> 85
B21: Births to K % | C21: =C20/C7 -> 1.5263158 | D21: =D20/D7 -> 1.7113402 | E21: =E20/E7 -> 1.5934066 | F21: =F20/F7 -> 1.5918367 | G21: =G20/G7 -> 1.8924731 | H21: =H20/H7 -> 1.7472527 | I21: =I20/I7 -> 1.5957447 | J21: =J20/J7 -> 1.6049383 | ... R21: =R20/R7 -> 1.6101695
B23: INPUT 3: PROPORTION OF KINDERGARTENERS BORN 5 and 6 YEARS PRIOR (based on D.O.B. in student file)
B24: DOB 5-Yr Prior | C24: District-wide Proportion Used
B25: % of Res. K | C25: ='BVSD Birth to K'!C26 -> 0.6996904 | D25: ='BVSD Birth to K'!D26 -> 0.69250126 | E25: ='BVSD Birth to K'!E26 -> 0.6874675 | F25: ='BVSD Birth to K'!F26 -> 0.67785939 | G25: ='BVSD Birth to K'!G26 -> 0.72430407 | H25: ='BVSD Birth to K'!H26 -> 0.6724231 | I25: ='BVSD Birth to K'!I26 -> 0.68446602 | J25: ='BVSD Birth to K'!J26 -> 0.68331504 | ... R25: ='BVSD Birth to K'!R26 -> 0.67255448 | S25: =AVERAGE(N25:R25) -> 0.67654051 | T25: =S25 -> 0.67654051 | U25: =T25 -> 0.67654051 | V25: =U25 -> 0.67654051
B26: DOB 6-Yr Prior | C26: District-wide Proportion Used
B27: % of Res. K | C27: ='BVSD Birth to K'!C28 -> 0.3245614 | D27: ='BVSD Birth to K'!D28 -> 0.31102164 | E27: ='BVSD Birth to K'!E28 -> 0.31409256 | F27: ='BVSD Birth to K'!F28 -> 0.31741868 | G27: ='BVSD Birth to K'!G28 -> 0.27623126 | H27: ='BVSD Birth to K'!H28 -> 0.3275769 | I27: ='BVSD Birth to K'!I28 -> 0.31445523 | J27: ='BVSD Birth to K'!J28 -> 0.31723381 | ... R27: ='BVSD Birth to K'!R28 -> 0.32473536 | S27: =AVERAGE(N27:R27) -> 0.32366033 | T27: =S27 -> 0.32366033 | U27: =T27 -> 0.32366033 | V27: =U27 -> 0.32366033
B29: CALCULATION: ADJUSTED BIRTH CLASS (based on proportion of birth 5 & 6 years prior to K class)
B30: Birth Year Range: | C30: =C19&" "&"to"&" "&C15 -> 2004 to 2005 | D30: =D19&" "&"to"&" "&D15 -> 2005 to 2006 | E30: =E19&" "&"to"&" "&E15 -> 2006 to 2007 | F30: =F19&" "&"to"&" "&F15 -> 2007 to 2008 | G30: =G19&" "&"to"&" "&G15 -> 2008 to 2009 | H30: =H19&" "&"to"&" "&H15 -> 2009 to 2010 | I30: =I19&" "&"to"&" "&I15 -> 2010 to 2011 | J30: =J19&" "&"to"&" "&J15 -> 2011 to 2012 | ... V30: =V19&" "&"to"&" "&V15 -> 2023 to 2024
B31: Adjusted Births | C31: =(C25*C16)+(C27*C20) -> 163.21001 | D31: =(D25*D16)+(D27*D20) -> 152.04227 | E31: =(E25*E16)+(E27*E20) -> 152.78835 | F31: =(F25*F16)+(F27*F20) -> 168.82057 | G31: =(G25*G16)+(G27*G20) -> 163.78105 | H31: =(H25*H16)+(H27*H20) -> 152.94819 | I31: =(I25*I16)+(I27*I20) -> 136.14887 | J31: =(J25*J16)+(J27*J20) -> 148.52086 | ... V31: =(V25*V16)+(V27*V20) -> 78.928207
B32: Change | D32: =D31-C31 -> -11.167736 | E32: =E31-D31 -> 0.74607675 | F32: =F31-E31 -> 16.032215 | G32: =G31-F31 -> -5.0395174 | H32: =H31-G31 -> -10.832857 | I32: =I31-H31 -> -16.799325 | J32: =J31-I31 -> 12.371989 | K32: =K31-J31 -> 8.3897869 | ... V32: =V31-U31 -> -1.2339596
B33: % Change | D33: =D32/C31 -> -0.068425555 | E33: =E32/D31 -> 0.0049070349 | F33: =F32/E31 -> 0.10493087 | G33: =G32/F31 -> -0.029851324 | H33: =H32/G31 -> -0.066142311 | I33: =I32/H31 -> -0.1098367 | J33: =J32/I31 -> 0.090871038 | K33: =K32/J31 -> 0.056488948 | ... U33: =U32/T31 -> 0.075348315 | V33: =AVERAGE(Q33:U33) -> -0.069180525
B34: Births to K% | D34: =D7/D31 -> 0.63798046 | E34: =E7/E31 -> 0.59559514 | F34: =F7/F31 -> 0.58049799 | G34: =G7/G31 -> 0.56783126 | H34: =H7/H31 -> 0.59497271 | I34: =I7/I31 -> 0.69042073 | J34: =J7/J31 -> 0.54537795 | K34: =K7/K31 -> 0.59269402 | ... R34: =R7/R31 -> 0.66023516
B35: Births to K | C35: =C7-C31 -> -68.21001 | D35: =D7-D31 -> -55.042275 | E35: =E7-E31 -> -61.788352 | F35: =F7-F31 -> -70.820567 | G35: =G7-G31 -> -70.781049 | H35: =H7-H31 -> -61.948192 | I35: =I7-I31 -> -42.148867 | J35: =J7-J31 -> -67.520856 | ... R35: =R7-R31 -> -30.362099
O37: PROJECTED KINDERGARTENER CALCULATOR
R39: =R6 -> 2025/26 | S39: =S6 -> 2026/27 | T39: =T6 -> 2027/28 | U39: =U6 -> 2028/29 | V39: =V6 -> 2029/30
O40: A, B, C, Basis Calculations
P41: Annual % Birth change | R41: =R33 -> -0.10702976 | S41: =S33 -> -0.048949688 | T41: =T33 -> -0.12287107 | U41: =U33 -> 0.075348315 | V41: =V33 -> -0.069180525
P42: Ave B to K % | R42: =AVERAGE(M34:R34) -> 0.60878448 | S42: =R42 -> 0.60878448 | T42: =S42 -> 0.60878448 | U42: =T42 -> 0.60878448 | V42: =U42 -> 0.60878448
P43: Ave B % Change | R43: =AVERAGE(S33:V33) -> -0.041413242 | S43: =R43 -> -0.041413242 | T43: =S43 -> -0.041413242 | U43: =T43 -> -0.041413242 | V43: =U43 -> -0.041413242
O44: Estimated Kindergarten Students
P45: Basis-A (% change) | R45: =R7 -> 59 | S45: =R45+(R45*S41) -> 56.111968 | T45: =S45+(S45*T41) -> 49.217431 | U45: =T45+(T45*U41) -> 52.925881 | V45: =U45+(U45*V41) -> 49.264441
P46: Basis-B (av. B to K%) | R46: =R45 -> 59 | S46: =S42*S31 -> 51.739285 | T46: =T42*T31 -> 45.382024 | U46: =U42*U31 -> 48.801483 | V46: =V42*V31 -> 48.050267
P47: Basis-C (av. % change) | R47: =R46 -> 59 | S47: =R47*(1+S43) -> 56.556619 | T47: =S47*(1+T43) -> 54.214426 | U47: =T47*(1+U43) -> 51.969231 | V47: =U47*(1+V43) -> 49.817016
O49: PROJECTED ENROLLED KINDERGARTENER CALCULATOR
O51: Ave. Diff. between Resident and Enrolled K: | S51: =AVERAGE(P3:R3,N3) -> -0.35679687 | T51: =S51 -> -0.35679687 | U51: =T51 -> -0.35679687 | V51: =U51 -> -0.35679687
R52: =R39 -> 2025/26 | S52: =S39 -> 2026/27 | T52: =T39 -> 2027/28 | U52: =U39 -> 2028/29 | V52: =V39 -> 2029/30
O53: A, B, C, Basis Calculations
P54: Annual % Birth change | R54: =R41 -> -0.10702976 | S54: =S41 -> -0.048949688 | T54: =T41 -> -0.12287107 | U54: =U41 -> 0.075348315 | V54: =V41 -> -0.069180525
P55: Ave B to K % | R55: =R42 -> 0.60878448 | S55: =S42 -> 0.60878448 | T55: =T42 -> 0.60878448 | U55: =U42 -> 0.60878448 | V55: =V42 -> 0.60878448
P56: Ave B % Change | R56: =R43 -> -0.041413242 | S56: =S43 -> -0.041413242 | T56: =T43 -> -0.041413242 | U56: =U43 -> -0.041413242 | V56: =V43 -> -0.041413242
O57: Estimated Kindergarten Students
P58: Basis-A (% change) | R58: =R8 -> 33 | S58: =(S45*S51)+S45 -> 36.091394 | T58: =(T45*T51)+T45 -> 31.656805 | U58: =(U45*U51)+U45 -> 34.042092 | V58: =(V45*V51)+V45 -> 31.687043
P59: Basis-B (av. B to K%) | R59: =R58 -> 33 | S59: =(S46*S51)+S46 -> 33.27887 | T59: =(T46*T51)+T46 -> 29.18986 | U59: =(U46*U51)+U46 -> 31.389266 | V59: =(V46*V51)+V46 -> 30.906082
P60: Basis-C (av. % change) | R60: =R59 -> 33 | S60: =(S47*S51)+S47 -> 36.377394 | T60: =(T47*T51)+T47 -> 34.870888 | U60: =(U47*U51)+U47 -> 33.426772 | V60: =(V47*V51)+V47 -> 32.042461
S62: =(S45*S3)+S45 -> 36.091394 | T62: =(T45*T3)+T45 -> 34.109288 | U62: =(U45*U3)+U45 -> 36.679366 | V62: =(V45*V3)+V45 -> 34.141868

Sheet Crest View
B1: Crest View El. Birth/Kindergarten Population Correlation Worksheet
B2: ='Aspen Crk'!B2 -> updated 11/21/2025
B3: Crest View and All school after have not yet been updated to current formulas and format (i.e. Creekside)
I4: =I8-I7 -> -46 | J4: =J8-J7 -> -43 | K4: =K8-K7 -> -55 | L4: =L8-L7 -> -38 | M4: =M8-M7 -> -38 | N4: =N8-N7 -> -52 | O4: =O8-O7 -> -58 | P4: =P8-P7 -> -37 | ... R4: =R8-R7 -> -66
B5: INPUT 1: KINDERGARTEN RESIDENT STUDENTS (entry from Load tab) | R5: Current Year
B6: Grade | C6: ='LOAD-K and 1 by Elm '!B4 -> 2010/11 | D6: ='LOAD-K and 1 by Elm '!C4 -> 2011/12 | E6: ='LOAD-K and 1 by Elm '!D4 -> 2012/13 | F6: ='LOAD-K and 1 by Elm '!E4 -> 2013/14 | G6: ='LOAD-K and 1 by Elm '!F4 -> 2014/15 | H6: ='LOAD-K and 1 by Elm '!G4 -> 2015/16 | I6: ='LOAD-K and 1 by Elm '!H4 -> 2016/17 | J6: ='LOAD-K and 1 by Elm '!I4 -> 2017/18 | ... V6: ='LOAD-K and 1 by Elm '!U4 -> 2029/30
B7: K (resident) | C7: ='LOAD-K and 1 by Elm '!B13 -> 148 | D7: ='LOAD-K and 1 by Elm '!C13 -> 133 | E7: ='LOAD-K and 1 by Elm '!D13 -> 124 | F7: ='LOAD-K and 1 by Elm '!E13 -> 117 | G7: ='LOAD-K and 1 by Elm '!F13 -> 119 | H7: ='LOAD-K and 1 by Elm '!G13 -> 129 | I7: ='LOAD-K and 1 by Elm '!H13 -> 141 | J7: ='LOAD-K and 1 by Elm '!I13 -> 120 | ... R7: ='LOAD-K and 1 by Elm '!Q13 -> 115
B8: K (enrolled) | C8: ='LOAD-K and 1 by Elm '!B88 -> 0 | D8: ='LOAD-K and 1 by Elm '!C88 -> 0 | E8: ='LOAD-K and 1 by Elm '!D88 -> 0 | F8: ='LOAD-K and 1 by Elm '!E88 -> 0 | G8: ='LOAD-K and 1 by Elm '!F88 -> 0 | H8: ='LOAD-K and 1 by Elm '!G88 -> 0 | I8: ='LOAD-K and 1 by Elm '!H88 -> 95 | J8: ='LOAD-K and 1 by Elm '!I88 -> 77 | ... R8: ='LOAD-K and 1 by Elm '!Q88 -> 49
B9: 1st (resident) | C9: ='LOAD-K and 1 by Elm '!B51 -> 145 | D9: ='LOAD-K and 1 by Elm '!C51 -> 158 | E9: ='LOAD-K and 1 by Elm '!D51 -> 139 | F9: ='LOAD-K and 1 by Elm '!E51 -> 136 | G9: ='LOAD-K and 1 by Elm '!F51 -> 128 | H9: ='LOAD-K and 1 by Elm '!G51 -> 126 | I9: ='LOAD-K and 1 by Elm '!H51 -> 154 | J9: ='LOAD-K and 1 by Elm '!I51 -> 147 | ... R9: ='LOAD-K and 1 by Elm '!Q51 -> 85
B10: K Change | D10: =D7-C7 -> -15 | E10: =E7-D7 -> -9 | F10: =F7-E7 -> -7 | G10: =G7-F7 -> 2 | H10: =H7-G7 -> 10 | I10: =I7-H7 -> 12 | J10: =J7-I7 -> -21 | K10: =K7-J7 -> 12 | ... R10: =R7-Q7 -> 25
B11: % K change | D11: =D10/C7 -> -0.10135135 | E11: =E10/D7 -> -0.067669173 | F11: =F10/E7 -> -0.056451613 | G11: =G10/F7 -> 0.017094017 | H11: =H10/G7 -> 0.084033613 | I11: =I10/H7 -> 0.093023256 | J11: =J10/I7 -> -0.14893617 | K11: =K10/J7 -> 0.1 | ... R11: =R10/Q7 -> 0.27777778
B13: INPUT 2: BIRTH COHORT FOR EACH KINDERGAREN CLASS (born 5 and 6 prior - entry from Births by Elem. tab)
B14: Births 5 Years Prior
B15: Birth Year | C15: ='LOAD-Births by Elem'!C4 -> 2005 | D15: ='LOAD-Births by Elem'!D4 -> 2006 | E15: ='LOAD-Births by Elem'!E4 -> 2007 | F15: ='LOAD-Births by Elem'!F4 -> 2008 | G15: ='LOAD-Births by Elem'!G4 -> 2009 | H15: ='LOAD-Births by Elem'!H4 -> 2010 | I15: ='LOAD-Births by Elem'!I4 -> 2011 | J15: ='LOAD-Births by Elem'!J4 -> 2012 | ... V15: ='LOAD-Births by Elem'!V4 -> 2024
B16: No. of Births | C16: ='LOAD-Births by Elem'!C13 -> 134 | D16: ='LOAD-Births by Elem'!D13 -> 115 | E16: ='LOAD-Births by Elem'!E13 -> 144 | F16: ='LOAD-Births by Elem'!F13 -> 114 | G16: ='LOAD-Births by Elem'!G13 -> 165 | H16: ='LOAD-Births by Elem'!H13 -> 135 | I16: ='LOAD-Births by Elem'!I13 -> 123 | J16: ='LOAD-Births by Elem'!J13 -> 147 | ... V16: ='LOAD-Births by Elem'!V13 -> 115
B17: Births to K % | C17: =C7/C16 -> 1.1044776 | D17: =D7/D16 -> 1.1565217 | E17: =E7/E16 -> 0.86111111 | F17: =F7/F16 -> 1.0263158 | G17: =G7/G16 -> 0.72121212 | H17: =H7/H16 -> 0.95555556 | I17: =I7/I16 -> 1.1463415 | J17: =J7/J16 -> 0.81632653 | ... R17: =R7/R16 -> 0.94262295
B18: Births 6 Years Prior
B19: Birth Year | C19: ='LOAD-Births by Elem'!B4 -> 2004 | D19: ='LOAD-Births by Elem'!C4 -> 2005 | E19: ='LOAD-Births by Elem'!D4 -> 2006 | F19: ='LOAD-Births by Elem'!E4 -> 2007 | G19: ='LOAD-Births by Elem'!F4 -> 2008 | H19: ='LOAD-Births by Elem'!G4 -> 2009 | I19: ='LOAD-Births by Elem'!H4 -> 2010 | J19: ='LOAD-Births by Elem'!I4 -> 2011 | ... V19: ='LOAD-Births by Elem'!U4 -> 2023
B20: No. of Births | C20: ='LOAD-Births by Elem'!B13 -> 150 | D20: ='LOAD-Births by Elem'!C13 -> 134 | E20: ='LOAD-Births by Elem'!D13 -> 115 | F20: ='LOAD-Births by Elem'!E13 -> 144 | G20: ='LOAD-Births by Elem'!F13 -> 114 | H20: ='LOAD-Births by Elem'!G13 -> 165 | I20: ='LOAD-Births by Elem'!H13 -> 135 | J20: ='LOAD-Births by Elem'!I13 -> 123 | ... V20: ='LOAD-Births by Elem'!U13 -> 98
B21: Births to K % | C21: =C20/C7 -> 1.0135135 | D21: =D20/D7 -> 1.0075188 | E21: =E20/E7 -> 0.92741935 | F21: =F20/F7 -> 1.2307692 | G21: =G20/G7 -> 0.95798319 | H21: =H20/H7 -> 1.2790698 | I21: =I20/I7 -> 0.95744681 | J21: =J20/J7 -> 1.025 | ... R21: =R20/R7 -> 0.86956522
B23: INPUT 3: PROPORTION OF KINDERGARTENERS BORN 5 and 6 YEARS PRIOR (based on D.O.B. in student file)
B24: DOB 5-Yr Prior | C24: District-wide Proportion Used
B25: % of Res. K | C25: ='BVSD Birth to K'!C26 -> 0.6996904 | D25: ='BVSD Birth to K'!D26 -> 0.69250126 | E25: ='BVSD Birth to K'!E26 -> 0.6874675 | F25: ='BVSD Birth to K'!F26 -> 0.67785939 | G25: ='BVSD Birth to K'!G26 -> 0.72430407 | H25: ='BVSD Birth to K'!H26 -> 0.6724231 | I25: ='BVSD Birth to K'!I26 -> 0.68446602 | J25: ='BVSD Birth to K'!J26 -> 0.68331504 | ... R25: ='BVSD Birth to K'!R26 -> 0.67255448 | S25: =AVERAGE(N25:R25) -> 0.67654051 | T25: =S25 -> 0.67654051 | U25: =T25 -> 0.67654051 | V25: =U25 -> 0.67654051
B26: DOB 6-Yr Prior | C26: District-wide Proportion Used
B27: % of Res. K | C27: ='BVSD Birth to K'!C28 -> 0.3245614 | D27: ='BVSD Birth to K'!D28 -> 0.31102164 | E27: ='BVSD Birth to K'!E28 -> 0.31409256 | F27: ='BVSD Birth to K'!F28 -> 0.31741868 | G27: ='BVSD Birth to K'!G28 -> 0.27623126 | H27: ='BVSD Birth to K'!H28 -> 0.3275769 | I27: ='BVSD Birth to K'!I28 -> 0.31445523 | J27: ='BVSD Birth to K'!J28 -> 0.31723381 | ... R27: ='BVSD Birth to K'!R28 -> 0.32473536 | S27: =AVERAGE(N27:R27) -> 0.32366033 | T27: =S27 -> 0.32366033 | U27: =T27 -> 0.32366033 | V27: =U27 -> 0.32366033
B29: CALCULATION: ADJUSTED BIRTH CLASS (based on proportion of birth 5 & 6 years prior to K class)
B30: Birth Year Range: | C30: =C19&" "&"to"&" "&C15 -> 2004 to 2005 | D30: =D19&" "&"to"&" "&D15 -> 2005 to 2006 | E30: =E19&" "&"to"&" "&E15 -> 2006 to 2007 | F30: =F19&" "&"to"&" "&F15 -> 2007 to 2008 | G30: =G19&" "&"to"&" "&G15 -> 2008 to 2009 | H30: =H19&" "&"to"&" "&H15 -> 2009 to 2010 | I30: =I19&" "&"to"&" "&I15 -> 2010 to 2011 | J30: =J19&" "&"to"&" "&J15 -> 2011 to 2012 | ... V30: =V19&" "&"to"&" "&V15 -> 2023 to 2024
B31: Adjusted Births | C31: =(C25*C16)+(C27*C20) -> 142.44272 | D31: =(D25*D16)+(D27*D20) -> 121.31454 | E31: =(E25*E16)+(E27*E20) -> 135.11596 | F31: =(F25*F16)+(F27*F20) -> 122.98426 | G31: =(G25*G16)+(G27*G20) -> 151.00054 | H31: =(H25*H16)+(H27*H20) -> 144.82731 | I31: =(I25*I16)+(I27*I20) -> 126.64078 | J31: =(J25*J16)+(J27*J20) -> 139.46707 | ... V31: =(V25*V16)+(V27*V20) -> 109.52087
B32: Change | D32: =D31-C31 -> -21.12818 | E32: =E31-D31 -> 13.80142 | F32: =F31-E31 -> -12.131704 | G32: =G31-F31 -> 28.016275 | H32: =H31-G31 -> -6.1732283 | I32: =I31-H31 -> -18.18653 | J32: =J31-I31 -> 12.826292 | K32: =K31-J31 -> 10.133386 | ... V32: =V31-U31 -> 3.08602
B33: % Change | D33: =D32/C31 -> -0.14832755 | E33: =E32/D31 -> 0.11376558 | F33: =F32/E31 -> -0.08978735 | G33: =G32/F31 -> 0.22780375 | H33: =H32/G31 -> -0.040882161 | I33: =I32/H31 -> -0.1255739 | J33: =J32/I31 -> 0.1012809 | K33: =K32/J31 -> 0.072657913 | ... U33: =U32/T31 -> -0.1116906 | V33: =AVERAGE(Q33:U33) -> 0.0098017366
B34: Births to K% | D34: =D7/D31 -> 1.0963236 | E34: =E7/E31 -> 0.91773019 | F34: =F7/F31 -> 0.95134125 | G34: =G7/G31 -> 0.78807668 | H34: =H7/H31 -> 0.890716 | I34: =I7/I31 -> 1.1133855 | J34: =J7/J31 -> 0.86041817 | K34: =K7/K31 -> 0.88235026 | ... R34: =R7/R31 -> 1.004146
B35: Births to K | C35: =C7-C31 -> 5.5572755 | D35: =D7-D31 -> 11.685455 | E35: =E7-E31 -> -11.115965 | F35: =F7-F31 -> -5.9842602 | G35: =G7-G31 -> -32.000535 | H35: =H7-H31 -> -15.827307 | I35: =I7-I31 -> 14.359223 | J35: =J7-J31 -> -19.467069 | ... R35: =R7-R31 -> 0.47481761
O37: PROJECTED RESIDENT KINDERGARTENER CALCULATOR
R39: =R6 -> 2025/26 | S39: =S6 -> 2026/27 | T39: =T6 -> 2027/28 | U39: =U6 -> 2028/29 | V39: =V6 -> 2029/30
O40: A, B, C, Basis Calculations
O41: A) | P41: Annual % Birth change | R41: =R33 -> 0.1805488 | S41: =S33 -> 0.0005009824 | T41: =T33 -> 0.045685514 | U41: =U33 -> -0.1116906 | V41: =V33 -> 0.0098017366
O42: B) | P42: Ave B to K % | R42: =AVERAGE(P34:R34,O34) -> 0.91344261 | S42: =R42 -> 0.91344261 | T42: =S42 -> 0.91344261 | U42: =T42 -> 0.91344261 | V42: =U42 -> 0.91344261
O43: C) | P43: Ave B % Change | R43: =AVERAGE(S33:V33) -> -0.013925593 | S43: =R43 -> -0.013925593 | T43: =S43 -> -0.013925593 | U43: =T43 -> -0.013925593 | V43: =U43 -> -0.013925593
O44: Estimated Kindergarten Students
P45: Basis-A (% change) | R45: =R7 -> 115 | S45: =R45+(R45*S41) -> 115.05761 | T45: =S45+(S45*T41) -> 120.31408 | U45: =T45+(T45*U41) -> 106.87613 | V45: =U45+(U45*V41) -> 107.9237
P46: Basis-B (av. B to K%) | R46: =R45 -> 115 | S46: =S42*S31 -> 104.66459 | T46: =T42*T31 -> 109.44625 | U46: =U42*U31 -> 97.222128 | V46: =V42*V31 -> 100.04103
P47: Basis-C (av. % change) | R47: =R46 -> 115 | S47: =R47*(1+S43) -> 113.39856 | T47: =S47*(1+T43) -> 111.81941 | U47: =T47*(1+U43) -> 110.26226 | V47: =U47*(1+V43) -> 108.7268
O49: PROJECTED ENROLLED KINDERGARTENER CALCULATOR
O51: Ave. Diff. between Resident and Enrolled K: | S51: =AVERAGE(N4:R4) -> -51.8 | T51: =S51 -> -51.8 | U51: =T51 -> -51.8 | V51: =U51 -> -51.8
R52: =R39 -> 2025/26 | S52: =S39 -> 2026/27 | T52: =T39 -> 2027/28 | U52: =U39 -> 2028/29 | V52: =V39 -> 2029/30
O53: A, B, C, Basis Calculations
P54: Annual % Birth change | R54: =R41 -> 0.1805488 | S54: =S41 -> 0.0005009824 | T54: =T41 -> 0.045685514 | U54: =U41 -> -0.1116906 | V54: =V41 -> 0.0098017366
P55: Ave B to K % | R55: =R42 -> 0.91344261 | S55: =S42 -> 0.91344261 | T55: =T42 -> 0.91344261 | U55: =U42 -> 0.91344261 | V55: =V42 -> 0.91344261
P56: Ave B % Change | R56: =R43 -> -0.013925593 | S56: =S43 -> -0.013925593 | T56: =T43 -> -0.013925593 | U56: =U43 -> -0.013925593 | V56: =V43 -> -0.013925593
O57: Estimated Kindergarten Students
P58: Basis-A (% change) | R58: =R8 -> 49 | S58: =S45+S51 -> 63.257613 | T58: =T45+T51 -> 68.514079 | U58: =U45+U51 -> 55.076127 | V58: =V45+V51 -> 56.123699
P59: Basis-B (av. B to K%) | R59: =R58 -> 49 | S59: =S46+S51 -> 52.86459 | T59: =T46+T51 -> 57.646245 | U59: =U46+U51 -> 45.422128 | V59: =V46+V51 -> 48.24103
P60: Basis-C (av. % change) | R60: =R59 -> 49 | S60: =S47+S51 -> 61.598557 | T60: =T47+T51 -> 60.019415 | U60: =U47+U51 -> 58.462263 | V60: =V47+V51 -> 56.926796

Sheet Douglass
B1: Douglass El. Birth/Kindergarten Population Correlation Worksheet
B2: ='BVSD Birth to K'!B2 -> updated 11/21/2025
I4: =I8-I7 -> 0 | J4: =J8-J7 -> -4 | K4: =K8-K7 -> 2 | L4: =L8-L7 -> -3 | M4: =M8-M7 -> -7 | N4: =N8-N7 -> -5 | O4: =O8-O7 -> 3 | P4: =P8-P7 -> 7 | ... R4: =R8-R7 -> 4
B5: INPUT 1: KINDERGARTEN RESIDENT STUDENTS (entry formula from "Res K-1 Load Sheet" tab) | R5: Current Year
B6: Grade | C6: ='LOAD-K and 1 by Elm '!B4 -> 2010/11 | D6: ='LOAD-K and 1 by Elm '!C4 -> 2011/12 | E6: ='LOAD-K and 1 by Elm '!D4 -> 2012/13 | F6: ='LOAD-K and 1 by Elm '!E4 -> 2013/14 | G6: ='LOAD-K and 1 by Elm '!F4 -> 2014/15 | H6: ='LOAD-K and 1 by Elm '!G4 -> 2015/16 | I6: ='LOAD-K and 1 by Elm '!H4 -> 2016/17 | J6: ='LOAD-K and 1 by Elm '!I4 -> 2017/18 | ... V6: ='LOAD-K and 1 by Elm '!U4 -> 2029/30
B7: K (resident) | C7: ='LOAD-K and 1 by Elm '!B14 -> 59 | D7: ='LOAD-K and 1 by Elm '!C14 -> 55 | E7: ='LOAD-K and 1 by Elm '!D14 -> 69 | F7: ='LOAD-K and 1 by Elm '!E14 -> 66 | G7: ='LOAD-K and 1 by Elm '!F14 -> 61 | H7: ='LOAD-K and 1 by Elm '!G14 -> 66 | I7: ='LOAD-K and 1 by Elm '!H14 -> 43 | J7: ='LOAD-K and 1 by Elm '!I14 -> 59 | ... R7: ='LOAD-K and 1 by Elm '!Q14 -> 40
B8: K (enrolled) | C8: ='LOAD-K and 1 by Elm '!B89 -> 0 | D8: ='LOAD-K and 1 by Elm '!C89 -> 0 | E8: ='LOAD-K and 1 by Elm '!D89 -> 0 | F8: ='LOAD-K and 1 by Elm '!E89 -> 0 | G8: ='LOAD-K and 1 by Elm '!F89 -> 0 | H8: ='LOAD-K and 1 by Elm '!G89 -> 0 | I8: ='LOAD-K and 1 by Elm '!H89 -> 43 | J8: ='LOAD-K and 1 by Elm '!I89 -> 55 | ... R8: ='LOAD-K and 1 by Elm '!Q89 -> 44
B9: 1st (resident) | C9: ='LOAD-K and 1 by Elm '!B52 -> 84 | D9: ='LOAD-K and 1 by Elm '!C52 -> 58 | E9: ='LOAD-K and 1 by Elm '!D52 -> 60 | F9: ='LOAD-K and 1 by Elm '!E52 -> 78 | G9: ='LOAD-K and 1 by Elm '!F52 -> 79 | H9: ='LOAD-K and 1 by Elm '!G52 -> 81 | I9: ='LOAD-K and 1 by Elm '!H52 -> 73 | J9: ='LOAD-K and 1 by Elm '!I52 -> 43 | ... R9: ='LOAD-K and 1 by Elm '!Q52 -> 39
B10: K Change | D10: =D7-C7 -> -4 | E10: =E7-D7 -> 14 | F10: =F7-E7 -> -3 | G10: =G7-F7 -> -5 | H10: =H7-G7 -> 5 | I10: =I7-H7 -> -23 | J10: =J7-I7 -> 16 | K10: =K7-J7 -> -20 | ... R10: =R7-Q7 -> 2
B11: % K change | D11: =D10/C7 -> -0.06779661 | E11: =E10/D7 -> 0.25454545 | F11: =F10/E7 -> -0.043478261 | G11: =G10/F7 -> -0.075757576 | H11: =H10/G7 -> 0.081967213 | I11: =I10/H7 -> -0.34848485 | J11: =J10/I7 -> 0.37209302 | K11: =K10/J7 -> -0.33898305 | ... R11: =R10/Q7 -> 0.052631579
B13: INPUT 2: BIRTH COHORT FOR EACH KINDERGAREN CLASS (born 5 and 6 prior - (entry formula from "Births by Elem. (Load)" tab)
B14: Births 5 Years Prior
B15: Birth Year | C15: ='LOAD-Births by Elem'!C4 -> 2005 | D15: ='LOAD-Births by Elem'!D4 -> 2006 | E15: ='LOAD-Births by Elem'!E4 -> 2007 | F15: ='LOAD-Births by Elem'!F4 -> 2008 | G15: ='LOAD-Births by Elem'!G4 -> 2009 | H15: ='LOAD-Births by Elem'!H4 -> 2010 | I15: ='LOAD-Births by Elem'!I4 -> 2011 | J15: ='LOAD-Births by Elem'!J4 -> 2012 | ... V15: ='LOAD-Births by Elem'!V4 -> 2024
B16: No. of Births | C16: ='LOAD-Births by Elem'!C14 -> 44 | D16: ='LOAD-Births by Elem'!D14 -> 47 | E16: ='LOAD-Births by Elem'!E14 -> 54 | F16: ='LOAD-Births by Elem'!F14 -> 57 | G16: ='LOAD-Births by Elem'!G14 -> 47 | H16: ='LOAD-Births by Elem'!H14 -> 47 | I16: ='LOAD-Births by Elem'!I14 -> 38 | J16: ='LOAD-Births by Elem'!J14 -> 52 | ... V16: ='LOAD-Births by Elem'!V14 -> 41
B17: Births to K % | C17: =C7/C16 -> 1.3409091 | D17: =D7/D16 -> 1.1702128 | E17: =E7/E16 -> 1.2777778 | F17: =F7/F16 -> 1.1578947 | G17: =G7/G16 -> 1.2978723 | H17: =H7/H16 -> 1.4042553 | I17: =I7/I16 -> 1.1315789 | J17: =J7/J16 -> 1.1346154 | ... R17: =R7/R16 -> 1.025641
B18: Births 6 Years Prior
B19: Birth Year | C19: ='LOAD-Births by Elem'!B4 -> 2004 | D19: ='LOAD-Births by Elem'!C4 -> 2005 | E19: ='LOAD-Births by Elem'!D4 -> 2006 | F19: ='LOAD-Births by Elem'!E4 -> 2007 | G19: ='LOAD-Births by Elem'!F4 -> 2008 | H19: ='LOAD-Births by Elem'!G4 -> 2009 | I19: ='LOAD-Births by Elem'!H4 -> 2010 | J19: ='LOAD-Births by Elem'!I4 -> 2011 | ... V19: ='LOAD-Births by Elem'!U4 -> 2023
B20: No. of Births | C20: ='LOAD-Births by Elem'!B14 -> 43 | D20: ='LOAD-Births by Elem'!C14 -> 44 | E20: ='LOAD-Births by Elem'!D14 -> 47 | F20: ='LOAD-Births by Elem'!E14 -> 54 | G20: ='LOAD-Births by Elem'!F14 -> 57 | H20: ='LOAD-Births by Elem'!G14 -> 47 | I20: ='LOAD-Births by Elem'!H14 -> 47 | J20: ='LOAD-Births by Elem'!I14 -> 38 | ... V20: ='LOAD-Births by Elem'!U14 -> 44
B21: Births to K % | C21: =C20/C7 -> 0.72881356 | D21: =D20/D7 -> 0.8 | E21: =E20/E7 -> 0.68115942 | F21: =F20/F7 -> 0.81818182 | G21: =G20/G7 -> 0.93442623 | H21: =H20/H7 -> 0.71212121 | I21: =I20/I7 -> 1.0930233 | J21: =J20/J7 -> 0.6440678 | ... R21: =R20/R7 -> 0.875
B23: INPUT 3: PROPORTION OF KINDERGARTENERS BORN 5 and 6 YEARS PRIOR (based on D.O.B. in student file)
B24: DOB 5-Yr Prior | C24: District-wide Proportion Used
B25: % of Res. K | C25: ='BVSD Birth to K'!C26 -> 0.6996904 | D25: ='BVSD Birth to K'!D26 -> 0.69250126 | E25: ='BVSD Birth to K'!E26 -> 0.6874675 | F25: ='BVSD Birth to K'!F26 -> 0.67785939 | G25: ='BVSD Birth to K'!G26 -> 0.72430407 | H25: ='BVSD Birth to K'!H26 -> 0.6724231 | I25: ='BVSD Birth to K'!I26 -> 0.68446602 | J25: ='BVSD Birth to K'!J26 -> 0.68331504 | ... R25: ='BVSD Birth to K'!R26 -> 0.67255448 | S25: =AVERAGE(N25:R25) -> 0.67654051 | T25: =S25 -> 0.67654051 | U25: =T25 -> 0.67654051 | V25: =U25 -> 0.67654051
B26: DOB 6-Yr Prior | C26: District-wide Proportion Used
B27: % of Res. K | C27: ='BVSD Birth to K'!C28 -> 0.3245614 | D27: ='BVSD Birth to K'!D28 -> 0.31102164 | E27: ='BVSD Birth to K'!E28 -> 0.31409256 | F27: ='BVSD Birth to K'!F28 -> 0.31741868 | G27: ='BVSD Birth to K'!G28 -> 0.27623126 | H27: ='BVSD Birth to K'!H28 -> 0.3275769 | I27: ='BVSD Birth to K'!I28 -> 0.31445523 | J27: ='BVSD Birth to K'!J28 -> 0.31723381 | ... R27: ='BVSD Birth to K'!R28 -> 0.32473536 | S27: =AVERAGE(N27:R27) -> 0.32366033 | T27: =S27 -> 0.32366033 | U27: =T27 -> 0.32366033 | V27: =U27 -> 0.32366033
B29: CALCULATION: ADJUSTED BIRTH CLASS (based on proportion of birth 5 & 6 years prior to K class)
B30: Birth Year Range: | C30: =C19&" "&"to"&" "&C15 -> 2004 to 2005 | D30: =D19&" "&"to"&" "&D15 -> 2005 to 2006 | E30: =E19&" "&"to"&" "&E15 -> 2006 to 2007 | F30: =F19&" "&"to"&" "&F15 -> 2007 to 2008 | G30: =G19&" "&"to"&" "&G15 -> 2008 to 2009 | H30: =H19&" "&"to"&" "&H15 -> 2009 to 2010 | I30: =I19&" "&"to"&" "&I15 -> 2010 to 2011 | J30: =J19&" "&"to"&" "&J15 -> 2011 to 2012 | ... V30: =V19&" "&"to"&" "&V15 -> 2023 to 2024
B31: Adjusted Births | C31: =(C25*C16)+(C27*C20) -> 44.742518 | D31: =(D25*D16)+(D27*D20) -> 46.232511 | E31: =(E25*E16)+(E27*E20) -> 51.885595 | F31: =(F25*F16)+(F27*F20) -> 55.778594 | G31: =(G25*G16)+(G27*G20) -> 49.787473 | H31: =(H25*H16)+(H27*H20) -> 47 | I31: =(I25*I16)+(I27*I20) -> 40.789105 | J31: =(J25*J16)+(J27*J20) -> 47.587267 | ... V31: =(V25*V16)+(V27*V20) -> 41.979216
B32: Change | D32: =D31-C31 -> 1.4899933 | E32: =E31-D31 -> 5.6530841 | F32: =F31-E31 -> 3.8929985 | G32: =G31-F31 -> -5.9911207 | H32: =H31-G31 -> -2.7874732 | I32: =I31-H31 -> -6.2108954 | J32: =J31-I31 -> 6.7981621 | K32: =K31-J31 -> 0.35695637 | ... V32: =V31-U31 -> -1.3823009
B33: % Change | D33: =D32/C31 -> 0.033301507 | E33: =E32/D31 -> 0.12227508 | F33: =F32/E31 -> 0.075030429 | G33: =G32/F31 -> -0.10740896 | H33: =H32/G31 -> -0.055987441 | I33: =I32/H31 -> -0.13214671 | J33: =J32/I31 -> 0.16666613 | K33: =K32/J31 -> 0.0075010899 | ... U33: =U32/T31 -> 0.10911805 | V33: =AVERAGE(Q33:U33) -> 0.013253345
B34: Births to K% | D34: =D7/D31 -> 1.189639 | E34: =E7/E31 -> 1.3298489 | F34: =F7/F31 -> 1.1832496 | G34: =G7/G31 -> 1.2252078 | H34: =H7/H31 -> 1.4042553 | I34: =I7/I31 -> 1.0542031 | J34: =J7/J31 -> 1.2398275 | K34: =K7/K31 -> 0.81344524 | ... R34: =R7/R31 -> 1.063961
B35: Births to K | C35: =C7-C31 -> 14.257482 | D35: =D7-D31 -> 8.7674887 | E35: =E7-E31 -> 17.114405 | F35: =F7-F31 -> 10.221406 | G35: =G7-G31 -> 11.212527 | H35: =H7-H31 -> 19 | I35: =I7-I31 -> 2.2108954 | J35: =J7-J31 -> 11.412733 | ... R35: =R7-R31 -> 2.4046377
O37: PROJECTED KINDERGARTENER CALCULATOR
R39: =R6 -> 2025/26 | S39: =S6 -> 2026/27 | T39: =T6 -> 2027/28 | U39: =U6 -> 2028/29 | V39: =V6 -> 2029/30
O40: A, B, C, Basis Calculations
P41: Annual % Birth change | R41: =R33 -> -0.0032144182 | S41: =S33 -> -0.070401566 | T41: =T33 -> 0.11865722 | U41: =U33 -> 0.10911805 | V41: =V33 -> 0.013253345
P42: Ave B to K % | R42: =AVERAGE(O34:R34) -> 0.97945929 | S42: =R42 -> 0.97945929 | T42: =S42 -> 0.97945929 | U42: =T42 -> 0.97945929 | V42: =U42 -> 0.97945929
P43: Ave B % Change | R43: =AVERAGE(R33:V33) -> 0.033482527 | S43: =R43 -> 0.033482527 | T43: =S43 -> 0.033482527 | U43: =T43 -> 0.033482527 | V43: =U43 -> 0.033482527
O44: Estimated Kindergarten Students
P45: Basis-A (% change) | R45: =R7 -> 40 | S45: =R45+(R45*S41) -> 37.183937 | T45: =S45+(S45*T41) -> 41.59608 | U45: =T45+(T45*U41) -> 46.134963 | V45: =U45+(U45*V41) -> 46.746406
P46: Basis-B (av. B to K%) | R46: =R45 -> 40 | S46: =S42*S31 -> 34.230721 | T46: =T42*T31 -> 38.292443 | U46: =U42*U31 -> 42.47084 | V46: =V42*V31 -> 41.116933
P47: Basis-C (av. % change) | R47: =R46 -> 40 | S47: =R47*(1+S43) -> 41.339301 | T47: =S47*(1+T43) -> 42.723445 | U47: =T47*(1+U43) -> 44.153934 | V47: =U47*(1+V43) -> 45.63232
O49: PROJECTED ENROLLED KINDERGARTENER CALCULATOR
O51: Ave. Diff. between Resident and Enrolled K: | S51: =AVERAGE(P4:R4) -> 4 | T51: =S51 -> 4 | U51: =T51 -> 4 | V51: =U51 -> 4
R52: =R39 -> 2025/26 | S52: =S39 -> 2026/27 | T52: =T39 -> 2027/28 | U52: =U39 -> 2028/29 | V52: =V39 -> 2029/30
O53: A, B, C, Basis Calculations
P54: Annual % Birth change | R54: =R41 -> -0.0032144182 | S54: =S41 -> -0.070401566 | T54: =T41 -> 0.11865722 | U54: =U41 -> 0.10911805 | V54: =V41 -> 0.013253345
P55: Ave B to K % | R55: =R42 -> 0.97945929 | S55: =S42 -> 0.97945929 | T55: =T42 -> 0.97945929 | U55: =U42 -> 0.97945929 | V55: =V42 -> 0.97945929
P56: Ave B % Change | R56: =R43 -> 0.033482527 | S56: =S43 -> 0.033482527 | T56: =T43 -> 0.033482527 | U56: =U43 -> 0.033482527 | V56: =V43 -> 0.033482527
O57: Estimated Kindergarten Students
P58: Basis-A (% change) | R58: =R8 -> 44 | S58: =S45+S51 -> 41.183937 | T58: =T45+T51 -> 45.59608 | U58: =U45+U51 -> 50.134963 | V58: =V45+V51 -> 50.746406
P59: Basis-B (av. B to K%) | R59: =R58 -> 44 | S59: =S46+S51 -> 38.230721 | T59: =T46+T51 -> 42.292443 | U59: =U46+U51 -> 46.47084 | V59: =V46+V51 -> 45.116933
P60: Basis-C (av. % change) | R60: =R59 -> 44 | S60: =S47+S51 -> 45.339301 | T60: =T47+T51 -> 46.723445 | U60: =U47+U51 -> 48.153934 | V60: =V47+V51 -> 49.63232

Sheet Eisenhower
B1: Eisenhower El. Birth/Kindergarten Population Correlation Worksheet
B2: ='BVSD Birth to K'!B2 -> updated 11/21/2025
K3: =(K4/K7) -> -0.24637681 | L3: =(L4/L7) -> -0.18309859 | M3: =(M4/M7) -> -0.18518519 | N3: =(N4/N7) -> -0.19298246 | O3: =(O4/O7) -> -0.19607843 | P3: =(P4/P7) -> -0.21052632 | Q3: =(Q4/Q7) -> -0.43137255 | R3: =(R4/R7) -> -0.19607843
I4: =I8-I7 -> -12 | J4: =J8-J7 -> -15 | K4: =K8-K7 -> -17 | L4: =L8-L7 -> -13 | M4: =M8-M7 -> -10 | N4: =N8-N7 -> -11 | O4: =O8-O7 -> -10 | P4: =P8-P7 -> -12 | ... R4: =R8-R7 -> -10
B5: INPUT 1: KINDERGARTEN RESIDENT STUDENTS (entry formula from "Res K-1 Load Sheet" tab) | R5: Current Year
B6: Grade | C6: ='LOAD-K and 1 by Elm '!B4 -> 2010/11 | D6: ='LOAD-K and 1 by Elm '!C4 -> 2011/12 | E6: ='LOAD-K and 1 by Elm '!D4 -> 2012/13 | F6: ='LOAD-K and 1 by Elm '!E4 -> 2013/14 | G6: ='LOAD-K and 1 by Elm '!F4 -> 2014/15 | H6: ='LOAD-K and 1 by Elm '!G4 -> 2015/16 | I6: ='LOAD-K and 1 by Elm '!H4 -> 2016/17 | J6: ='LOAD-K and 1 by Elm '!I4 -> 2017/18 | ... V6: ='LOAD-K and 1 by Elm '!U4 -> 2029/30
B7: K (resident) | C7: ='LOAD-K and 1 by Elm '!B15 -> 93 | D7: ='LOAD-K and 1 by Elm '!C15 -> 67 | E7: ='LOAD-K and 1 by Elm '!D15 -> 62 | F7: ='LOAD-K and 1 by Elm '!E15 -> 83 | G7: ='LOAD-K and 1 by Elm '!F15 -> 70 | H7: ='LOAD-K and 1 by Elm '!G15 -> 62 | I7: ='LOAD-K and 1 by Elm '!H15 -> 78 | J7: ='LOAD-K and 1 by Elm '!I15 -> 60 | ... R7: ='LOAD-K and 1 by Elm '!Q15 -> 51
B8: K (enrolled) | C8: ='LOAD-K and 1 by Elm '!B90 -> 0 | D8: ='LOAD-K and 1 by Elm '!C90 -> 0 | E8: ='LOAD-K and 1 by Elm '!D90 -> 0 | F8: ='LOAD-K and 1 by Elm '!E90 -> 0 | G8: ='LOAD-K and 1 by Elm '!F90 -> 0 | H8: ='LOAD-K and 1 by Elm '!G90 -> 0 | I8: ='LOAD-K and 1 by Elm '!H90 -> 66 | J8: ='LOAD-K and 1 by Elm '!I90 -> 45 | ... R8: ='LOAD-K and 1 by Elm '!Q90 -> 41
B9: 1st (resident) | C9: ='LOAD-K and 1 by Elm '!B53 -> 82 | D9: ='LOAD-K and 1 by Elm '!C53 -> 101 | E9: ='LOAD-K and 1 by Elm '!D53 -> 74 | F9: ='LOAD-K and 1 by Elm '!E53 -> 67 | G9: ='LOAD-K and 1 by Elm '!F53 -> 88 | H9: ='LOAD-K and 1 by Elm '!G53 -> 78 | I9: ='LOAD-K and 1 by Elm '!H53 -> 82 | J9: ='LOAD-K and 1 by Elm '!I53 -> 82 | ... R9: ='LOAD-K and 1 by Elm '!Q53 -> 50
B10: K Change | D10: =D7-C7 -> -26 | E10: =E7-D7 -> -5 | F10: =F7-E7 -> 21 | G10: =G7-F7 -> -13 | H10: =H7-G7 -> -8 | I10: =I7-H7 -> 16 | J10: =J7-I7 -> -18 | K10: =K7-J7 -> 9 | ... R10: =R7-Q7 -> 0
B11: % K change | D11: =D10/C7 -> -0.27956989 | E11: =E10/D7 -> -0.074626866 | F11: =F10/E7 -> 0.33870968 | G11: =G10/F7 -> -0.15662651 | H11: =H10/G7 -> -0.11428571 | I11: =I10/H7 -> 0.25806452 | J11: =J10/I7 -> -0.23076923 | K11: =K10/J7 -> 0.15 | ... R11: =R10/Q7 -> 0
B13: INPUT 2: BIRTH COHORT FOR EACH KINDERGAREN CLASS (born 5 and 6 prior - (entry formula from "Births by Elem. (Load)" tab)
B14: Births 5 Years Prior
B15: Birth Year | C15: ='LOAD-Births by Elem'!C4 -> 2005 | D15: ='LOAD-Births by Elem'!D4 -> 2006 | E15: ='LOAD-Births by Elem'!E4 -> 2007 | F15: ='LOAD-Births by Elem'!F4 -> 2008 | G15: ='LOAD-Births by Elem'!G4 -> 2009 | H15: ='LOAD-Births by Elem'!H4 -> 2010 | I15: ='LOAD-Births by Elem'!I4 -> 2011 | J15: ='LOAD-Births by Elem'!J4 -> 2012 | ... V15: ='LOAD-Births by Elem'!V4 -> 2024
B16: No. of Births | C16: ='LOAD-Births by Elem'!C15 -> 84 | D16: ='LOAD-Births by Elem'!D15 -> 81 | E16: ='LOAD-Births by Elem'!E15 -> 100 | F16: ='LOAD-Births by Elem'!F15 -> 82 | G16: ='LOAD-Births by Elem'!G15 -> 75 | H16: ='LOAD-Births by Elem'!H15 -> 76 | I16: ='LOAD-Births by Elem'!I15 -> 91 | J16: ='LOAD-Births by Elem'!J15 -> 83 | ... V16: ='LOAD-Births by Elem'!V15 -> 61
B17: Births to K % | C17: =C7/C16 -> 1.1071429 | D17: =D7/D16 -> 0.82716049 | E17: =E7/E16 -> 0.62 | F17: =F7/F16 -> 1.0121951 | G17: =G7/G16 -> 0.93333333 | H17: =H7/H16 -> 0.81578947 | I17: =I7/I16 -> 0.85714286 | J17: =J7/J16 -> 0.72289157 | ... R17: =R7/R16 -> 0.94444444
B18: Births 6 Years Prior
B19: Birth Year | C19: ='LOAD-Births by Elem'!B4 -> 2004 | D19: ='LOAD-Births by Elem'!C4 -> 2005 | E19: ='LOAD-Births by Elem'!D4 -> 2006 | F19: ='LOAD-Births by Elem'!E4 -> 2007 | G19: ='LOAD-Births by Elem'!F4 -> 2008 | H19: ='LOAD-Births by Elem'!G4 -> 2009 | I19: ='LOAD-Births by Elem'!H4 -> 2010 | J19: ='LOAD-Births by Elem'!I4 -> 2011 | ... V19: ='LOAD-Births by Elem'!U4 -> 2023
B20: No. of Births | C20: ='LOAD-Births by Elem'!B15 -> 74 | D20: ='LOAD-Births by Elem'!C15 -> 84 | E20: ='LOAD-Births by Elem'!D15 -> 81 | F20: ='LOAD-Births by Elem'!E15 -> 100 | G20: ='LOAD-Births by Elem'!F15 -> 82 | H20: ='LOAD-Births by Elem'!G15 -> 75 | I20: ='LOAD-Births by Elem'!H15 -> 76 | J20: ='LOAD-Births by Elem'!I15 -> 91 | ... V20: ='LOAD-Births by Elem'!U15 -> 61
B21: Births to K % | C21: =C20/C7 -> 0.79569892 | D21: =D20/D7 -> 1.2537313 | E21: =E20/E7 -> 1.3064516 | F21: =F20/F7 -> 1.2048193 | G21: =G20/G7 -> 1.1714286 | H21: =H20/H7 -> 1.2096774 | I21: =I20/I7 -> 0.97435897 | J21: =J20/J7 -> 1.5166667 | ... R21: =R20/R7 -> 1.0196078
B23: INPUT 3: PROPORTION OF KINDERGARTENERS BORN 5 and 6 YEARS PRIOR (based on D.O.B. in student file)
B24: DOB 5-Yr Prior | C24: District-wide Proportion Used
B25: % of Res. K | C25: ='BVSD Birth to K'!C26 -> 0.6996904 | D25: ='BVSD Birth to K'!D26 -> 0.69250126 | E25: ='BVSD Birth to K'!E26 -> 0.6874675 | F25: ='BVSD Birth to K'!F26 -> 0.67785939 | G25: ='BVSD Birth to K'!G26 -> 0.72430407 | H25: ='BVSD Birth to K'!H26 -> 0.6724231 | I25: ='BVSD Birth to K'!I26 -> 0.68446602 | J25: ='BVSD Birth to K'!J26 -> 0.68331504 | ... R25: ='BVSD Birth to K'!R26 -> 0.67255448 | S25: =AVERAGE(N25:R25) -> 0.67654051 | T25: =S25 -> 0.67654051 | U25: =T25 -> 0.67654051 | V25: =U25 -> 0.67654051
B26: DOB 6-Yr Prior | C26: District-wide Proportion Used
B27: % of Res. K | C27: ='BVSD Birth to K'!C28 -> 0.3245614 | D27: ='BVSD Birth to K'!D28 -> 0.31102164 | E27: ='BVSD Birth to K'!E28 -> 0.31409256 | F27: ='BVSD Birth to K'!F28 -> 0.31741868 | G27: ='BVSD Birth to K'!G28 -> 0.27623126 | H27: ='BVSD Birth to K'!H28 -> 0.3275769 | I27: ='BVSD Birth to K'!I28 -> 0.31445523 | J27: ='BVSD Birth to K'!J28 -> 0.31723381 | ... R27: ='BVSD Birth to K'!R28 -> 0.32473536 | S27: =AVERAGE(N27:R27) -> 0.32366033 | T27: =S27 -> 0.32366033 | U27: =T27 -> 0.32366033 | V27: =U27 -> 0.32366033
B29: CALCULATION: ADJUSTED BIRTH CLASS (based on proportion of birth 5 & 6 years prior to K class)
B30: Birth Year Range: | C30: =C19&" "&"to"&" "&C15 -> 2004 to 2005 | D30: =D19&" "&"to"&" "&D15 -> 2005 to 2006 | E30: =E19&" "&"to"&" "&E15 -> 2006 to 2007 | F30: =F19&" "&"to"&" "&F15 -> 2007 to 2008 | G30: =G19&" "&"to"&" "&G15 -> 2008 to 2009 | H30: =H19&" "&"to"&" "&H15 -> 2009 to 2010 | I30: =I19&" "&"to"&" "&I15 -> 2010 to 2011 | J30: =J19&" "&"to"&" "&J15 -> 2011 to 2012 | ... V30: =V19&" "&"to"&" "&V15 -> 2023 to 2024
B31: Adjusted Births | C31: =(C25*C16)+(C27*C20) -> 82.791538 | D31: =(D25*D16)+(D27*D20) -> 82.21842 | E31: =(E25*E16)+(E27*E20) -> 94.188248 | F31: =(F25*F16)+(F27*F20) -> 87.326338 | G31: =(G25*G16)+(G27*G20) -> 76.973769 | H31: =(H25*H16)+(H27*H20) -> 75.672423 | I31: =(I25*I16)+(I27*I20) -> 86.185005 | J31: =(J25*J16)+(J27*J20) -> 85.583425 | ... V31: =(V25*V16)+(V27*V20) -> 61.012252
B32: Change | D32: =D31-C31 -> -0.57311794 | E32: =E31-D31 -> 11.969828 | F32: =F31-E31 -> -6.8619096 | G32: =G31-F31 -> -10.352569 | H32: =H31-G31 -> -1.3013456 | I32: =I31-H31 -> 10.512582 | J32: =J31-I31 -> -0.60158059 | K32: =K31-J31 -> -1.9596343 | ... V32: =V31-U31 -> 2.2656223
B33: % Change | D33: =D32/C31 -> -0.0069224217 | E33: =E32/D31 -> 0.14558572 | F33: =F32/E31 -> -0.072853141 | G33: =G32/F31 -> -0.11855036 | H33: =H32/G31 -> -0.016906352 | I33: =I32/H31 -> 0.13892224 | J33: =J32/I31 -> -0.0069801073 | K33: =K32/J31 -> -0.022897357 | ... U33: =U32/T31 -> -0.01287855 | V33: =AVERAGE(Q33:U33) -> 0.0061885373
B34: Births to K% | D34: =D7/D31 -> 0.81490255 | E34: =E7/E31 -> 0.65825622 | F34: =F7/F31 -> 0.95045781 | G34: =G7/G31 -> 0.90940071 | H34: =H7/H31 -> 0.81932093 | I34: =I7/I31 -> 0.90502982 | J34: =J7/J31 -> 0.70107033 | K34: =K7/K31 -> 0.82512404 | ... R34: =R7/R31 -> 0.95857129
B35: Births to K | C35: =C7-C31 -> 10.208462 | D35: =D7-D31 -> -15.21842 | E35: =E7-E31 -> -32.188248 | F35: =F7-F31 -> -4.3263379 | G35: =G7-G31 -> -6.9737687 | H35: =H7-H31 -> -13.672423 | I35: =I7-I31 -> -8.1850054 | J35: =J7-J31 -> -25.583425 | ... R35: =R7-R31 -> -2.2041806
O37: PROJECTED KINDERGARTENER CALCULATOR
R39: =R6 -> 2025/26 | S39: =S6 -> 2026/27 | T39: =T6 -> 2027/28 | U39: =U6 -> 2028/29 | V39: =V6 -> 2029/30
O40: A, B, C, Basis Calculations
P41: Annual % Birth change | R41: =R33 -> 0.0013282994 | S41: =S33 -> 0.23133246 | T41: =T33 -> -0.091570397 | U41: =U33 -> -0.01287855 | V41: =V33 -> 0.0061885373
P42: Ave B to K % | R42: =AVERAGE(O34:R34,N34) -> 0.89855992 | S42: =R42 -> 0.89855992 | T42: =S42 -> 0.89855992 | U42: =T42 -> 0.89855992 | V42: =U42 -> 0.89855992
P43: Ave B % Change | R43: =AVERAGE(S33:V33) -> 0.033268011 | S43: =R43 -> 0.033268011 | T43: =S43 -> 0.033268011 | U43: =T43 -> 0.033268011 | V43: =U43 -> 0.033268011
O44: Estimated Kindergarten Students
P45: Basis-A (% change) | R45: =R7 -> 51 | S45: =R45+(R45*S41) -> 62.797955 | T45: =S45+(S45*T41) -> 57.047522 | U45: =T45+(T45*U41) -> 56.312832 | V45: =U45+(U45*V41) -> 56.661326
P46: Basis-B (av. B to K%) | R46: =R45 -> 51 | S46: =S42*S31 -> 58.866489 | T46: =T42*T31 -> 53.476061 | U46: =U42*U31 -> 52.787367 | V46: =V42*V31 -> 54.823164
P47: Basis-C (av. % change) | R47: =R46 -> 51 | S47: =R47*(1+S43) -> 52.696669 | T47: =S47*(1+T43) -> 54.449782 | U47: =T47*(1+U43) -> 56.261218 | V47: =U47*(1+V43) -> 58.132917
O49: PROJECTED ENROLLED KINDERGARTENER CALCULATOR
O51: Ave. Diff. between Resident and Enrolled K: | S51: =AVERAGE(M3:R3) -> -0.23537056 | T51: =S51 -> -0.23537056 | U51: =T51 -> -0.23537056 | V51: =U51 -> -0.23537056
R52: =R39 -> 2025/26 | S52: =S39 -> 2026/27 | T52: =T39 -> 2027/28 | U52: =U39 -> 2028/29 | V52: =V39 -> 2029/30
O53: A, B, C, Basis Calculations
P54: Annual % Birth change | R54: =R41 -> 0.0013282994 | S54: =S41 -> 0.23133246 | T54: =T41 -> -0.091570397 | U54: =U41 -> -0.01287855 | V54: =V41 -> 0.0061885373
P55: Ave B to K % | R55: =R42 -> 0.89855992 | S55: =S42 -> 0.89855992 | T55: =T42 -> 0.89855992 | U55: =U42 -> 0.89855992 | V55: =V42 -> 0.89855992
P56: Ave B % Change | R56: =R43 -> 0.033268011 | S56: =S43 -> 0.033268011 | T56: =T43 -> 0.033268011 | U56: =U43 -> 0.033268011 | V56: =V43 -> 0.033268011
O57: Estimated Kindergarten Students
P58: Basis-A (% change) | R58: =R8 -> 41 | S58: =(S45*S51)+S45 -> 48.017165 | T58: =(T45*T51)+T45 -> 43.620214 | U58: =(U45*U51)+U45 -> 43.058449 | V58: =(V45*V51)+V45 -> 43.324918
P59: Basis-B (av. B to K%) | R59: =R58 -> 41 | S59: =(S46*S51)+S46 -> 45.01105 | T59: =(T46*T51)+T46 -> 40.88937 | U59: =(U46*U51)+U46 -> 40.362775 | V59: =(V46*V51)+V46 -> 41.919405
P60: Basis-C (av. % change) | R60: =R59 -> 41 | S60: =(S47*S51)+S47 -> 40.293424 | T60: =(T47*T51)+T47 -> 41.633906 | U60: =(U47*U51)+U47 -> 43.018983 | V60: =(V47*V51)+V47 -> 44.450139

Sheet Eldorado
B1: Eldorado K-5 Birth/Kindergarten Population Correlation Worksheet
B2: ='BVSD Birth to K'!B2 -> updated 11/21/2025
I4: =I8-I7 -> -1 | J4: =J8-J7 -> 2 | K4: =K8-K7 -> -8 | L4: =L8-L7 -> 11 | M4: =M8-M7 -> 5 | N4: =N8-N7 -> -1 | O4: =O8-O7 -> -6 | P4: =P8-P7 -> -2 | ... R4: =R8-R7 -> 5
B5: INPUT 1: KINDERGARTEN RESIDENT STUDENTS (entry formula from "Res K-1 Load Sheet" tab) | R5: Current Year
B6: Grade | C6: ='LOAD-K and 1 by Elm '!B4 -> 2010/11 | D6: ='LOAD-K and 1 by Elm '!C4 -> 2011/12 | E6: ='LOAD-K and 1 by Elm '!D4 -> 2012/13 | F6: ='LOAD-K and 1 by Elm '!E4 -> 2013/14 | G6: ='LOAD-K and 1 by Elm '!F4 -> 2014/15 | H6: ='LOAD-K and 1 by Elm '!G4 -> 2015/16 | I6: ='LOAD-K and 1 by Elm '!H4 -> 2016/17 | J6: ='LOAD-K and 1 by Elm '!I4 -> 2017/18 | ... V6: ='LOAD-K and 1 by Elm '!U4 -> 2029/30
B7: K (resident) | C7: ='LOAD-K and 1 by Elm '!B16 -> 98 | D7: ='LOAD-K and 1 by Elm '!C16 -> 89 | E7: ='LOAD-K and 1 by Elm '!D16 -> 84 | F7: ='LOAD-K and 1 by Elm '!E16 -> 79 | G7: ='LOAD-K and 1 by Elm '!F16 -> 59 | H7: ='LOAD-K and 1 by Elm '!G16 -> 56 | I7: ='LOAD-K and 1 by Elm '!H16 -> 44 | J7: ='LOAD-K and 1 by Elm '!I16 -> 44 | ... R7: ='LOAD-K and 1 by Elm '!Q16 -> 34
B8: K (enrolled) | C8: ='LOAD-K and 1 by Elm '!B91 -> 0 | D8: ='LOAD-K and 1 by Elm '!C91 -> 0 | E8: ='LOAD-K and 1 by Elm '!D91 -> 0 | F8: ='LOAD-K and 1 by Elm '!E91 -> 0 | G8: ='LOAD-K and 1 by Elm '!F91 -> 0 | H8: ='LOAD-K and 1 by Elm '!G91 -> 0 | I8: ='LOAD-K and 1 by Elm '!H91 -> 43 | J8: ='LOAD-K and 1 by Elm '!I91 -> 46 | ... R8: ='LOAD-K and 1 by Elm '!Q91 -> 39
B9: 1st (resident) | C9: ='LOAD-K and 1 by Elm '!B54 -> 98 | D9: ='LOAD-K and 1 by Elm '!C54 -> 89 | E9: ='LOAD-K and 1 by Elm '!D54 -> 84 | F9: ='LOAD-K and 1 by Elm '!E54 -> 79 | G9: ='LOAD-K and 1 by Elm '!F54 -> 86 | H9: ='LOAD-K and 1 by Elm '!G54 -> 67 | I9: ='LOAD-K and 1 by Elm '!H54 -> 67 | J9: ='LOAD-K and 1 by Elm '!I54 -> 53 | ... R9: ='LOAD-K and 1 by Elm '!Q54 -> 38
B10: K Change | D10: =D7-C7 -> -9 | E10: =E7-D7 -> -5 | F10: =F7-E7 -> -5 | G10: =G7-F7 -> -20 | H10: =H7-G7 -> -3 | I10: =I7-H7 -> -12 | J10: =J7-I7 -> 0 | K10: =K7-J7 -> 2 | ... R10: =R7-Q7 -> 3
B11: % K change | D11: =D10/C7 -> -0.091836735 | E11: =E10/D7 -> -0.056179775 | F11: =F10/E7 -> -0.05952381 | G11: =G10/F7 -> -0.25316456 | H11: =H10/G7 -> -0.050847458 | I11: =I10/H7 -> -0.21428571 | J11: =J10/I7 -> 0 | K11: =K10/J7 -> 0.045454545 | ... R11: =R10/Q7 -> 0.096774194
B13: INPUT 2: BIRTH COHORT FOR EACH KINDERGAREN CLASS (born 5 and 6 prior - (entry formula from "Births by Elem. (Load)" tab)
B14: Births 5 Years Prior
B15: Birth Year | C15: ='LOAD-Births by Elem'!C4 -> 2005 | D15: ='LOAD-Births by Elem'!D4 -> 2006 | E15: ='LOAD-Births by Elem'!E4 -> 2007 | F15: ='LOAD-Births by Elem'!F4 -> 2008 | G15: ='LOAD-Births by Elem'!G4 -> 2009 | H15: ='LOAD-Births by Elem'!H4 -> 2010 | I15: ='LOAD-Births by Elem'!I4 -> 2011 | J15: ='LOAD-Births by Elem'!J4 -> 2012 | ... V15: ='LOAD-Births by Elem'!V4 -> 2024
B16: No. of Births | C16: ='LOAD-Births by Elem'!C16 -> 76 | D16: ='LOAD-Births by Elem'!D16 -> 78 | E16: ='LOAD-Births by Elem'!E16 -> 65 | F16: ='LOAD-Births by Elem'!F16 -> 61 | G16: ='LOAD-Births by Elem'!G16 -> 58 | H16: ='LOAD-Births by Elem'!H16 -> 46 | I16: ='LOAD-Births by Elem'!I16 -> 40 | J16: ='LOAD-Births by Elem'!J16 -> 41 | ... V16: ='LOAD-Births by Elem'!V16 -> 34
B17: Births to K % | C17: =C7/C16 -> 1.2894737 | D17: =D7/D16 -> 1.1410256 | E17: =E7/E16 -> 1.2923077 | F17: =F7/F16 -> 1.295082 | G17: =G7/G16 -> 1.0172414 | H17: =H7/H16 -> 1.2173913 | I17: =I7/I16 -> 1.1 | J17: =J7/J16 -> 1.0731707 | ... R17: =R7/R16 -> 1.2142857
B18: Births 6 Years Prior
B19: Birth Year | C19: ='LOAD-Births by Elem'!B4 -> 2004 | D19: ='LOAD-Births by Elem'!C4 -> 2005 | E19: ='LOAD-Births by Elem'!D4 -> 2006 | F19: ='LOAD-Births by Elem'!E4 -> 2007 | G19: ='LOAD-Births by Elem'!F4 -> 2008 | H19: ='LOAD-Births by Elem'!G4 -> 2009 | I19: ='LOAD-Births by Elem'!H4 -> 2010 | J19: ='LOAD-Births by Elem'!I4 -> 2011 | ... V19: ='LOAD-Births by Elem'!U4 -> 2023
B20: No. of Births | C20: ='LOAD-Births by Elem'!B16 -> 79 | D20: ='LOAD-Births by Elem'!C16 -> 76 | E20: ='LOAD-Births by Elem'!D16 -> 78 | F20: ='LOAD-Births by Elem'!E16 -> 65 | G20: ='LOAD-Births by Elem'!F16 -> 61 | H20: ='LOAD-Births by Elem'!G16 -> 58 | I20: ='LOAD-Births by Elem'!H16 -> 46 | J20: ='LOAD-Births by Elem'!I16 -> 40 | ... V20: ='LOAD-Births by Elem'!U16 -> 27
B21: Births to K % | C21: =C20/C7 -> 0.80612245 | D21: =D20/D7 -> 0.85393258 | E21: =E20/E7 -> 0.92857143 | F21: =F20/F7 -> 0.82278481 | G21: =G20/G7 -> 1.0338983 | H21: =H20/H7 -> 1.0357143 | I21: =I20/I7 -> 1.0454545 | J21: =J20/J7 -> 0.90909091 | ... R21: =R20/R7 -> 1.0882353
B23: INPUT 3: PROPORTION OF KINDERGARTENERS BORN 5 and 6 YEARS PRIOR (based on D.O.B. in student file)
B24: DOB 5-Yr Prior | C24: District-wide Proportion Used
B25: % of Res. K | C25: ='BVSD Birth to K'!C26 -> 0.6996904 | D25: ='BVSD Birth to K'!D26 -> 0.69250126 | E25: ='BVSD Birth to K'!E26 -> 0.6874675 | F25: ='BVSD Birth to K'!F26 -> 0.67785939 | G25: ='BVSD Birth to K'!G26 -> 0.72430407 | H25: ='BVSD Birth to K'!H26 -> 0.6724231 | I25: ='BVSD Birth to K'!I26 -> 0.68446602 | J25: ='BVSD Birth to K'!J26 -> 0.68331504 | ... R25: ='BVSD Birth to K'!R26 -> 0.67255448 | S25: =AVERAGE(N25:R25) -> 0.67654051 | T25: =S25 -> 0.67654051 | U25: =T25 -> 0.67654051 | V25: =U25 -> 0.67654051
B26: DOB 6-Yr Prior | C26: District-wide Proportion Used
B27: % of Res. K | C27: ='BVSD Birth to K'!C28 -> 0.3245614 | D27: ='BVSD Birth to K'!D28 -> 0.31102164 | E27: ='BVSD Birth to K'!E28 -> 0.31409256 | F27: ='BVSD Birth to K'!F28 -> 0.31741868 | G27: ='BVSD Birth to K'!G28 -> 0.27623126 | H27: ='BVSD Birth to K'!H28 -> 0.3275769 | I27: ='BVSD Birth to K'!I28 -> 0.31445523 | J27: ='BVSD Birth to K'!J28 -> 0.31723381 | ... R27: ='BVSD Birth to K'!R28 -> 0.32473536 | S27: =AVERAGE(N27:R27) -> 0.32366033 | T27: =S27 -> 0.32366033 | U27: =T27 -> 0.32366033 | V27: =U27 -> 0.32366033
B29: CALCULATION: ADJUSTED BIRTH CLASS (based on proportion of birth 5 & 6 years prior to K class)
B30: Birth Year Range: | C30: =C19&" "&"to"&" "&C15 -> 2004 to 2005 | D30: =D19&" "&"to"&" "&D15 -> 2005 to 2006 | E30: =E19&" "&"to"&" "&E15 -> 2006 to 2007 | F30: =F19&" "&"to"&" "&F15 -> 2007 to 2008 | G30: =G19&" "&"to"&" "&G15 -> 2008 to 2009 | H30: =H19&" "&"to"&" "&H15 -> 2009 to 2010 | I30: =I19&" "&"to"&" "&I15 -> 2010 to 2011 | J30: =J19&" "&"to"&" "&J15 -> 2011 to 2012 | ... V30: =V19&" "&"to"&" "&V15 -> 2023 to 2024
B31: Adjusted Births | C31: =(C25*C16)+(C27*C20) -> 78.816821 | D31: =(D25*D16)+(D27*D20) -> 77.652743 | E31: =(E25*E16)+(E27*E20) -> 69.184607 | F31: =(F25*F16)+(F27*F20) -> 61.981637 | G31: =(G25*G16)+(G27*G20) -> 58.859743 | H31: =(H25*H16)+(H27*H20) -> 49.930923 | I31: =(I25*I16)+(I27*I20) -> 41.843581 | J31: =(J25*J16)+(J27*J20) -> 40.705269 | ... V31: =(V25*V16)+(V27*V20) -> 31.741206
B32: Change | D32: =D31-C31 -> -1.1640786 | E32: =E31-D31 -> -8.4681354 | F32: =F31-E31 -> -7.2029704 | G32: =G31-F31 -> -3.1218939 | H32: =H31-G31 -> -8.9288202 | I32: =I31-H31 -> -8.0873414 | J32: =J31-I31 -> -1.1383125 | K32: =K31-J31 -> 3.6265467 | ... V32: =V31-U31 -> 3.1174819
B33: % Change | D33: =D32/C31 -> -0.014769419 | E33: =E32/D31 -> -0.10905134 | F33: =F32/E31 -> -0.10411233 | G33: =G32/F31 -> -0.050368045 | H33: =H32/G31 -> -0.15169655 | I33: =I32/H31 -> -0.1619706 | J33: =J32/I31 -> -0.027203993 | K33: =K32/J31 -> 0.089092807 | ... U33: =U32/T31 -> -0.23687676 | V33: =AVERAGE(Q33:U33) -> 0.052968771
B34: Births to K% | D34: =D7/D31 -> 1.1461282 | E34: =E7/E31 -> 1.2141429 | F34: =F7/F31 -> 1.274571 | G34: =G7/G31 -> 1.0023829 | H34: =H7/H31 -> 1.1215495 | I34: =I7/I31 -> 1.0515352 | J34: =J7/J31 -> 1.0809411 | K34: =K7/K31 -> 1.0376295 | ... R34: =R7/R31 -> 1.1022237
B35: Births to K | C35: =C7-C31 -> 19.183179 | D35: =D7-D31 -> 11.347257 | E35: =E7-E31 -> 14.815393 | F35: =F7-F31 -> 17.018363 | G35: =G7-G31 -> 0.14025696 | H35: =H7-H31 -> 6.0690772 | I35: =I7-I31 -> 2.1564186 | J35: =J7-J31 -> 3.2947311 | ... R35: =R7-R31 -> 3.1532663
O37: PROJECTED KINDERGARTENER CALCULATOR
R39: 2022/23 | S39: 2023/24 | T39: 2024/25 | U39: 2025/26 | V39: 2026/27
O40: A, B, C, Basis Calculations
P41: Annual % Birth change | R41: =R33 -> -0.053463789 | S41: =S33 -> 0.36847469 | T41: =T33 -> -0.11144255 | U41: =U33 -> -0.23687676 | V41: =V33 -> 0.052968771
P42: Ave B to K % | R42: =AVERAGE(P34:R34) -> 1.0429934 | S42: =R42 -> 1.0429934 | T42: =S42 -> 1.0429934 | U42: =T42 -> 1.0429934 | V42: =U42 -> 1.0429934
P43: Ave B % Change | R43: =AVERAGE(S33:V33) -> 0.018281036 | S43: =R43 -> 0.018281036 | T43: =S43 -> 0.018281036 | U43: =T43 -> 0.018281036 | V43: =U43 -> 0.018281036
O44: Estimated Kindergarten Students
P45: Basis-A (% change) | R45: =R7 -> 34 | S45: =R45+(R45*S41) -> 46.528139 | T45: =S45+(S45*T41) -> 41.342925 | U45: =T45+(T45*U41) -> 31.549747 | V45: =U45+(U45*V41) -> 33.220898
P46: Basis-B (av. B to K%) | R46: =R45 -> 34 | S46: =S42*S31 -> 44.027855 | T46: =T42*T31 -> 39.121278 | U46: =U42*U31 -> 29.854357 | V46: =V42*V31 -> 33.10587
P47: Basis-C (av. % change) | R47: =R46 -> 34 | S47: =R47*(1+S43) -> 34.621555 | T47: =S47*(1+T43) -> 35.254473 | U47: =T47*(1+U43) -> 35.898961 | V47: =U47*(1+V43) -> 36.555232
O49: PROJECTED ENROLLED KINDERGARTENER CALCULATOR
O51: Ave. Diff. between Resident and Enrolled K: | S51: =AVERAGE(L4:R4) -> 1.7142857 | T51: =S51 -> 1.7142857 | U51: =T51 -> 1.7142857 | V51: =U51 -> 1.7142857
R52: 2022/23 | S52: 2023/24 | T52: 2024/25 | U52: 2025/26 | V52: 2026/27
O53: A, B, C, Basis Calculations
P54: Annual % Birth change | R54: =R41 -> -0.053463789 | S54: =S41 -> 0.36847469 | T54: =T41 -> -0.11144255 | U54: =U41 -> -0.23687676 | V54: =V41 -> 0.052968771
P55: Ave B to K % | R55: =R42 -> 1.0429934 | S55: =S42 -> 1.0429934 | T55: =T42 -> 1.0429934 | U55: =U42 -> 1.0429934 | V55: =V42 -> 1.0429934
P56: Ave B % Change | R56: =R43 -> 0.018281036 | S56: =S43 -> 0.018281036 | T56: =T43 -> 0.018281036 | U56: =U43 -> 0.018281036 | V56: =V43 -> 0.018281036
O57: Estimated Kindergarten Students
P58: Basis-A (% change) | R58: =R8 -> 39 | S58: =S45+S51 -> 48.242425 | T58: =T45+T51 -> 43.05721 | U58: =U45+U51 -> 33.264032 | V58: =V45+V51 -> 34.935184
P59: Basis-B (av. B to K%) | R59: =R58 -> 39 | S59: =S46+S51 -> 45.742141 | T59: =T46+T51 -> 40.835564 | U59: =U46+U51 -> 31.568642 | V59: =V46+V51 -> 34.820156
P60: Basis-C (av. % change) | R60: =R59 -> 39 | S60: =S47+S51 -> 36.335841 | T60: =T47+T51 -> 36.968759 | U60: =U47+U51 -> 37.613247 | V60: =V47+V51 -> 38.269517

Sheet Emerald
B1: Emerald El. Birth/Kindergarten Population Correlation Worksheet
B2: ='BVSD Birth to K'!B2 -> updated 11/21/2025
I4: =I8-I7 -> -5 | J4: =J8-J7 -> 1 | K4: =K8-K7 -> 0 | L4: =L8-L7 -> 2 | M4: =M8-M7 -> 2 | N4: =N8-N7 -> 8 | O4: =O8-O7 -> 2 | P4: =P8-P7 -> 2 | ... R4: =R8-R7 -> 13
B5: INPUT 1: KINDERGARTEN RESIDENT STUDENTS (entry formula from "Res K-1 Load Sheet" tab) | R5: Current Year
B6: Grade | C6: ='LOAD-K and 1 by Elm '!B4 -> 2010/11 | D6: ='LOAD-K and 1 by Elm '!C4 -> 2011/12 | E6: ='LOAD-K and 1 by Elm '!D4 -> 2012/13 | F6: ='LOAD-K and 1 by Elm '!E4 -> 2013/14 | G6: ='LOAD-K and 1 by Elm '!F4 -> 2014/15 | H6: ='LOAD-K and 1 by Elm '!G4 -> 2015/16 | I6: ='LOAD-K and 1 by Elm '!H4 -> 2016/17 | J6: ='LOAD-K and 1 by Elm '!I4 -> 2017/18 | ... V6: ='LOAD-K and 1 by Elm '!U4 -> 2029/30
B7: K (resident) | C7: ='LOAD-K and 1 by Elm '!B17 -> 56 | D7: ='LOAD-K and 1 by Elm '!C17 -> 67 | E7: ='LOAD-K and 1 by Elm '!D17 -> 44 | F7: ='LOAD-K and 1 by Elm '!E17 -> 66 | G7: ='LOAD-K and 1 by Elm '!F17 -> 75 | H7: ='LOAD-K and 1 by Elm '!G17 -> 62 | I7: ='LOAD-K and 1 by Elm '!H17 -> 64 | J7: ='LOAD-K and 1 by Elm '!I17 -> 64 | ... R7: ='LOAD-K and 1 by Elm '!Q17 -> 56
B8: K (enrolled) | C8: ='LOAD-K and 1 by Elm '!B92 -> 0 | D8: ='LOAD-K and 1 by Elm '!C92 -> 0 | E8: ='LOAD-K and 1 by Elm '!D92 -> 0 | F8: ='LOAD-K and 1 by Elm '!E92 -> 0 | G8: ='LOAD-K and 1 by Elm '!F92 -> 0 | H8: ='LOAD-K and 1 by Elm '!G92 -> 0 | I8: ='LOAD-K and 1 by Elm '!H92 -> 59 | J8: ='LOAD-K and 1 by Elm '!I92 -> 65 | ... R8: ='LOAD-K and 1 by Elm '!Q92 -> 69
B9: 1st (resident) | C9: ='LOAD-K and 1 by Elm '!B55 -> 56 | D9: ='LOAD-K and 1 by Elm '!C55 -> 68 | E9: ='LOAD-K and 1 by Elm '!D55 -> 44 | F9: ='LOAD-K and 1 by Elm '!E55 -> 66 | G9: ='LOAD-K and 1 by Elm '!F55 -> 77 | H9: ='LOAD-K and 1 by Elm '!G55 -> 70 | I9: ='LOAD-K and 1 by Elm '!H55 -> 65 | J9: ='LOAD-K and 1 by Elm '!I55 -> 58 | ... R9: ='LOAD-K and 1 by Elm '!Q55 -> 57
B10: K Change | D10: =D7-C7 -> 11 | E10: =E7-D7 -> -23 | F10: =F7-E7 -> 22 | G10: =G7-F7 -> 9 | H10: =H7-G7 -> -13 | I10: =I7-H7 -> 2 | J10: =J7-I7 -> 0 | K10: =K7-J7 -> 5 | ... R10: =R7-Q7 -> -8
B11: % K change | D11: =D10/C7 -> 0.19642857 | E11: =E10/D7 -> -0.34328358 | F11: =F10/E7 -> 0.5 | G11: =G10/F7 -> 0.13636364 | H11: =H10/G7 -> -0.17333333 | I11: =I10/H7 -> 0.032258065 | J11: =J10/I7 -> 0 | K11: =K10/J7 -> 0.078125 | ... R11: =R10/Q7 -> -0.125
B13: INPUT 2: BIRTH COHORT FOR EACH KINDERGAREN CLASS (born 5 and 6 prior - (entry formula from "Births by Elem. (Load)" tab)
B14: Births 5 Years Prior
B15: Birth Year | C15: ='LOAD-Births by Elem'!C4 -> 2005 | D15: ='LOAD-Births by Elem'!D4 -> 2006 | E15: ='LOAD-Births by Elem'!E4 -> 2007 | F15: ='LOAD-Births by Elem'!F4 -> 2008 | G15: ='LOAD-Births by Elem'!G4 -> 2009 | H15: ='LOAD-Births by Elem'!H4 -> 2010 | I15: ='LOAD-Births by Elem'!I4 -> 2011 | J15: ='LOAD-Births by Elem'!J4 -> 2012 | ... V15: ='LOAD-Births by Elem'!V4 -> 2024
B16: No. of Births | C16: ='LOAD-Births by Elem'!C17 -> 77 | D16: ='LOAD-Births by Elem'!D17 -> 96 | E16: ='LOAD-Births by Elem'!E17 -> 89 | F16: ='LOAD-Births by Elem'!F17 -> 95 | G16: ='LOAD-Births by Elem'!G17 -> 77 | H16: ='LOAD-Births by Elem'!H17 -> 79 | I16: ='LOAD-Births by Elem'!I17 -> 73 | J16: ='LOAD-Births by Elem'!J17 -> 90 | ... V16: ='LOAD-Births by Elem'!V17 -> 79
B17: Births to K % | C17: =C7/C16 -> 0.72727273 | D17: =D7/D16 -> 0.69791667 | E17: =E7/E16 -> 0.49438202 | F17: =F7/F16 -> 0.69473684 | G17: =G7/G16 -> 0.97402597 | H17: =H7/H16 -> 0.78481013 | I17: =I7/I16 -> 0.87671233 | J17: =J7/J16 -> 0.71111111 | ... R17: =R7/R16 -> 0.65882353
B18: Births 6 Years Prior
B19: Birth Year | C19: ='LOAD-Births by Elem'!B4 -> 2004 | D19: ='LOAD-Births by Elem'!C4 -> 2005 | E19: ='LOAD-Births by Elem'!D4 -> 2006 | F19: ='LOAD-Births by Elem'!E4 -> 2007 | G19: ='LOAD-Births by Elem'!F4 -> 2008 | H19: ='LOAD-Births by Elem'!G4 -> 2009 | I19: ='LOAD-Births by Elem'!H4 -> 2010 | J19: ='LOAD-Births by Elem'!I4 -> 2011 | ... V19: ='LOAD-Births by Elem'!U4 -> 2023
B20: No. of Births | C20: ='LOAD-Births by Elem'!B17 -> 78 | D20: ='LOAD-Births by Elem'!C17 -> 77 | E20: ='LOAD-Births by Elem'!D17 -> 96 | F20: ='LOAD-Births by Elem'!E17 -> 89 | G20: ='LOAD-Births by Elem'!F17 -> 95 | H20: ='LOAD-Births by Elem'!G17 -> 77 | I20: ='LOAD-Births by Elem'!H17 -> 79 | J20: ='LOAD-Births by Elem'!I17 -> 73 | ... V20: ='LOAD-Births by Elem'!U17 -> 88
B21: Births to K % | C21: =C20/C7 -> 1.3928571 | D21: =D20/D7 -> 1.1492537 | E21: =E20/E7 -> 2.1818182 | F21: =F20/F7 -> 1.3484848 | G21: =G20/G7 -> 1.2666667 | H21: =H20/H7 -> 1.2419355 | I21: =I20/I7 -> 1.234375 | J21: =J20/J7 -> 1.140625 | ... R21: =R20/R7 -> 1.6964286
B23: INPUT 3: PROPORTION OF KINDERGARTENERS BORN 5 and 6 YEARS PRIOR (based on D.O.B. in student file)
B24: DOB 5-Yr Prior | C24: District-wide Proportion Used
B25: % of Res. K | C25: ='BVSD Birth to K'!C26 -> 0.6996904 | D25: ='BVSD Birth to K'!D26 -> 0.69250126 | E25: ='BVSD Birth to K'!E26 -> 0.6874675 | F25: ='BVSD Birth to K'!F26 -> 0.67785939 | G25: ='BVSD Birth to K'!G26 -> 0.72430407 | H25: ='BVSD Birth to K'!H26 -> 0.6724231 | I25: ='BVSD Birth to K'!I26 -> 0.68446602 | J25: ='BVSD Birth to K'!J26 -> 0.68331504 | ... R25: ='BVSD Birth to K'!R26 -> 0.67255448 | S25: =AVERAGE(N25:R25) -> 0.67654051 | T25: =S25 -> 0.67654051 | U25: =T25 -> 0.67654051 | V25: =U25 -> 0.67654051
B26: DOB 6-Yr Prior | C26: District-wide Proportion Used
B27: % of Res. K | C27: ='BVSD Birth to K'!C28 -> 0.3245614 | D27: ='BVSD Birth to K'!D28 -> 0.31102164 | E27: ='BVSD Birth to K'!E28 -> 0.31409256 | F27: ='BVSD Birth to K'!F28 -> 0.31741868 | G27: ='BVSD Birth to K'!G28 -> 0.27623126 | H27: ='BVSD Birth to K'!H28 -> 0.3275769 | I27: ='BVSD Birth to K'!I28 -> 0.31445523 | J27: ='BVSD Birth to K'!J28 -> 0.31723381 | ... R27: ='BVSD Birth to K'!R28 -> 0.32473536 | S27: =AVERAGE(N27:R27) -> 0.32366033 | T27: =S27 -> 0.32366033 | U27: =T27 -> 0.32366033 | V27: =U27 -> 0.32366033
B29: CALCULATION: ADJUSTED BIRTH CLASS (based on proportion of birth 5 & 6 years prior to K class)
B30: Birth Year Range: | C30: =C19&" "&"to"&" "&C15 -> 2004 to 2005 | D30: =D19&" "&"to"&" "&D15 -> 2005 to 2006 | E30: =E19&" "&"to"&" "&E15 -> 2006 to 2007 | F30: =F19&" "&"to"&" "&F15 -> 2007 to 2008 | G30: =G19&" "&"to"&" "&G15 -> 2008 to 2009 | H30: =H19&" "&"to"&" "&H15 -> 2009 to 2010 | I30: =I19&" "&"to"&" "&I15 -> 2010 to 2011 | J30: =J19&" "&"to"&" "&J15 -> 2011 to 2012 | ... V30: =V19&" "&"to"&" "&V15 -> 2023 to 2024
B31: Adjusted Births | C31: =(C25*C16)+(C27*C20) -> 79.19195 | D31: =(D25*D16)+(D27*D20) -> 90.428787 | E31: =(E25*E16)+(E27*E20) -> 91.337493 | F31: =(F25*F16)+(F27*F20) -> 92.646905 | G31: =(G25*G16)+(G27*G20) -> 82.013383 | H31: =(H25*H16)+(H27*H20) -> 78.344846 | I31: =(I25*I16)+(I27*I20) -> 74.807983 | J31: =(J25*J16)+(J27*J20) -> 84.656422 | ... V31: =(V25*V16)+(V27*V20) -> 81.92881
B32: Change | D32: =D31-C31 -> 11.236837 | E32: =E31-D31 -> 0.90870638 | F32: =F31-E31 -> 1.309411 | G32: =G31-F31 -> -10.633521 | H32: =H31-G31 -> -3.6685371 | I32: =I31-H31 -> -3.5368635 | J32: =J31-I31 -> 9.8484388 | K32: =K31-J31 -> -0.74691668 | ... V32: =V31-U31 -> -9.6491283
B33: % Change | D33: =D32/C31 -> 0.14189367 | E33: =E32/D31 -> 0.010048862 | F33: =F32/E31 -> 0.014335964 | G33: =G32/F31 -> -0.11477471 | H33: =H32/G31 -> -0.044730957 | I33: =I32/H31 -> -0.045144813 | J33: =J32/I31 -> 0.13164957 | K33: =K32/J31 -> -0.0088229181 | ... V33: =V32/U31 -> -0.10536521
B34: Births to K% | D34: =D7/D31 -> 0.7409145 | E34: =E7/E31 -> 0.48172988 | F34: =F7/F31 -> 0.71238214 | G34: =G7/G31 -> 0.91448489 | H34: =H7/H31 -> 0.79137305 | I34: =I7/I31 -> 0.85552367 | J34: =J7/J31 -> 0.75599699 | K34: =K7/K31 -> 0.82231447 | ... R34: =R7/R31 -> 0.6362408
B35: Births to K | C35: =C7-C31 -> -23.19195 | D35: =D7-D31 -> -23.428787 | E35: =E7-E31 -> -47.337493 | F35: =F7-F31 -> -26.646905 | G35: =G7-G31 -> -7.0133833 | H35: =H7-H31 -> -16.344846 | I35: =I7-I31 -> -10.807983 | J35: =J7-J31 -> -20.656422 | ... R35: =R7-R31 -> -32.01699
O37: PROJECTED KINDERGARTENER CALCULATOR
R39: 2022/23 | S39: 2023/24 | T39: 2024/25 | U39: 2025/26 | V39: 2026/27
O40: A, B, C, Basis Calculations
P41: Annual % Birth change | R41: =R33 -> -0.074648995 | S41: =S33 -> -0.064829303 | T41: =T33 -> 0.13221926 | U41: =U33 -> -0.017340812 | V41: =V33 -> -0.10536521
P42: Ave B to K % | R42: =AVERAGE(O34:R34) -> 0.59078741 | S42: =R42 -> 0.59078741 | T42: =S42 -> 0.59078741 | U42: =T42 -> 0.59078741 | V42: =U42 -> 0.59078741
P43: Ave B % Change | R43: =AVERAGE(R33:V33) -> -0.025993011 | S43: =R43 -> -0.025993011 | T43: =S43 -> -0.025993011 | U43: =T43 -> -0.025993011 | V43: =U43 -> -0.025993011
O44: Estimated Kindergarten Students
P45: Basis-A (% change) | R45: =R7 -> 56 | S45: =R45+(R45*S41) -> 52.369559 | T45: =S45+(S45*T41) -> 59.293824 | U45: =T45+(T45*U41) -> 58.26562 | V45: =U45+(U45*V41) -> 52.126451
P46: Basis-B (av. B to K%) | R46: =R45 -> 56 | S46: =S42*S31 -> 48.628249 | T46: =T42*T31 -> 55.05784 | U46: =U42*U31 -> 54.103093 | V46: =V42*V31 -> 48.402509
P47: Basis-C (av. % change) | R47: =R46 -> 56 | S47: =R47*(1+S43) -> 54.544391 | T47: =S47*(1+T43) -> 53.126618 | U47: =T47*(1+U43) -> 51.745698 | V47: =U47*(1+V43) -> 50.400671
O49: PROJECTED ENROLLED KINDERGARTENER CALCULATOR
O51: Ave. Diff. between Resident and Enrolled K: | S51: =AVERAGE(K4:R4) -> 4.625 | T51: =S51 -> 4.625 | U51: =T51 -> 4.625 | V51: =U51 -> 4.625
R52: 2022/23 | S52: 2023/24 | T52: 2024/25 | U52: 2025/26 | V52: 2026/27
O53: A, B, C, Basis Calculations
P54: Annual % Birth change | R54: =R41 -> -0.074648995 | S54: =S41 -> -0.064829303 | T54: =T41 -> 0.13221926 | U54: =U41 -> -0.017340812 | V54: =V41 -> -0.10536521
P55: Ave B to K % | R55: =R42 -> 0.59078741 | S55: =S42 -> 0.59078741 | T55: =T42 -> 0.59078741 | U55: =U42 -> 0.59078741 | V55: =V42 -> 0.59078741
P56: Ave B % Change | R56: =R43 -> -0.025993011 | S56: =S43 -> -0.025993011 | T56: =T43 -> -0.025993011 | U56: =U43 -> -0.025993011 | V56: =V43 -> -0.025993011
O57: Estimated Kindergarten Students
P58: Basis-A (% change) | R58: =R8 -> 69 | S58: =S45+S51 -> 56.994559 | T58: =T45+T51 -> 63.918824 | U58: =U45+U51 -> 62.89062 | V58: =V45+V51 -> 56.751451
P59: Basis-B (av. B to K%) | R59: =R58 -> 69 | S59: =S46+S51 -> 53.253249 | T59: =T46+T51 -> 59.68284 | U59: =U46+U51 -> 58.728093 | V59: =V46+V51 -> 53.027509
P60: Basis-C (av. % change) | R60: =R59 -> 69 | S60: =S47+S51 -> 59.169391 | T60: =T47+T51 -> 57.751618 | U60: =U47+U51 -> 56.370698 | V60: =V47+V51 -> 55.025671

Sheet Fireside
B1: Fireside El. Birth/Kindergarten Population Correlation Worksheet
B2: ='BVSD Birth to K'!B2 -> updated 11/21/2025
I4: =I8-I7 -> 3 | J4: =J8-J7 -> 9 | K4: =K8-K7 -> 7 | L4: =L8-L7 -> 4 | M4: =M8-M7 -> 9 | N4: =N8-N7 -> 15 | O4: =O8-O7 -> 8 | P4: =P8-P7 -> 17 | ... R4: =R8-R7 -> 27
B5: INPUT 1: KINDERGARTEN RESIDENT STUDENTS (entry formula from "Res K-1 Load Sheet" tab) | R5: Current Year
B6: Grade | C6: ='LOAD-K and 1 by Elm '!B4 -> 2010/11 | D6: ='LOAD-K and 1 by Elm '!C4 -> 2011/12 | E6: ='LOAD-K and 1 by Elm '!D4 -> 2012/13 | F6: ='LOAD-K and 1 by Elm '!E4 -> 2013/14 | G6: ='LOAD-K and 1 by Elm '!F4 -> 2014/15 | H6: ='LOAD-K and 1 by Elm '!G4 -> 2015/16 | I6: ='LOAD-K and 1 by Elm '!H4 -> 2016/17 | J6: ='LOAD-K and 1 by Elm '!I4 -> 2017/18 | ... V6: ='LOAD-K and 1 by Elm '!U4 -> 2029/30
B7: K (resident) | C7: ='LOAD-K and 1 by Elm '!B18 -> 52 | D7: ='LOAD-K and 1 by Elm '!C18 -> 68 | E7: ='LOAD-K and 1 by Elm '!D18 -> 49 | F7: ='LOAD-K and 1 by Elm '!E18 -> 59 | G7: ='LOAD-K and 1 by Elm '!F18 -> 52 | H7: ='LOAD-K and 1 by Elm '!G18 -> 59 | I7: ='LOAD-K and 1 by Elm '!H18 -> 74 | J7: ='LOAD-K and 1 by Elm '!I18 -> 57 | ... R7: ='LOAD-K and 1 by Elm '!Q18 -> 47
B8: K (enrolled) | C8: ='LOAD-K and 1 by Elm '!B93 -> 0 | D8: ='LOAD-K and 1 by Elm '!C93 -> 0 | E8: ='LOAD-K and 1 by Elm '!D93 -> 0 | F8: ='LOAD-K and 1 by Elm '!E93 -> 0 | G8: ='LOAD-K and 1 by Elm '!F93 -> 0 | H8: ='LOAD-K and 1 by Elm '!G93 -> 0 | I8: ='LOAD-K and 1 by Elm '!H93 -> 77 | J8: ='LOAD-K and 1 by Elm '!I93 -> 66 | ... R8: ='LOAD-K and 1 by Elm '!Q93 -> 74
B9: 1st (resident) | C9: ='LOAD-K and 1 by Elm '!B56 -> 52 | D9: ='LOAD-K and 1 by Elm '!C56 -> 69 | E9: ='LOAD-K and 1 by Elm '!D56 -> 49 | F9: ='LOAD-K and 1 by Elm '!E56 -> 59 | G9: ='LOAD-K and 1 by Elm '!F56 -> 64 | H9: ='LOAD-K and 1 by Elm '!G56 -> 68 | I9: ='LOAD-K and 1 by Elm '!H56 -> 60 | J9: ='LOAD-K and 1 by Elm '!I56 -> 76 | ... R9: ='LOAD-K and 1 by Elm '!Q56 -> 42
B10: K Change | D10: =D7-C7 -> 16 | E10: =E7-D7 -> -19 | F10: =F7-E7 -> 10 | G10: =G7-F7 -> -7 | H10: =H7-G7 -> 7 | I10: =I7-H7 -> 15 | J10: =J7-I7 -> -17 | K10: =K7-J7 -> -3 | ... R10: =R7-Q7 -> 4
B11: % K change | D11: =D10/C7 -> 0.30769231 | E11: =E10/D7 -> -0.27941176 | F11: =F10/E7 -> 0.20408163 | G11: =G10/F7 -> -0.11864407 | H11: =H10/G7 -> 0.13461538 | I11: =I10/H7 -> 0.25423729 | J11: =J10/I7 -> -0.22972973 | K11: =K10/J7 -> -0.052631579 | ... R11: =R10/Q7 -> 0.093023256
B13: INPUT 2: BIRTH COHORT FOR EACH KINDERGAREN CLASS (born 5 and 6 prior - (entry formula from "Births by Elem. (Load)" tab)
B14: Births 5 Years Prior
B15: Birth Year | C15: ='LOAD-Births by Elem'!C4 -> 2005 | D15: ='LOAD-Births by Elem'!D4 -> 2006 | E15: ='LOAD-Births by Elem'!E4 -> 2007 | F15: ='LOAD-Births by Elem'!F4 -> 2008 | G15: ='LOAD-Births by Elem'!G4 -> 2009 | H15: ='LOAD-Births by Elem'!H4 -> 2010 | I15: ='LOAD-Births by Elem'!I4 -> 2011 | J15: ='LOAD-Births by Elem'!J4 -> 2012 | ... V15: ='LOAD-Births by Elem'!V4 -> 2024
B16: No. of Births | C16: ='LOAD-Births by Elem'!C18 -> 66 | D16: ='LOAD-Births by Elem'!D18 -> 57 | E16: ='LOAD-Births by Elem'!E18 -> 47 | F16: ='LOAD-Births by Elem'!F18 -> 53 | G16: ='LOAD-Births by Elem'!G18 -> 39 | H16: ='LOAD-Births by Elem'!H18 -> 48 | I16: ='LOAD-Births by Elem'!I18 -> 57 | J16: ='LOAD-Births by Elem'!J18 -> 45 | ... V16: ='LOAD-Births by Elem'!V18 -> 26
B17: Births to K % | C17: =C7/C16 -> 0.78787879 | D17: =D7/D16 -> 1.1929825 | E17: =E7/E16 -> 1.0425532 | F17: =F7/F16 -> 1.1132075 | G17: =G7/G16 -> 1.3333333 | H17: =H7/H16 -> 1.2291667 | I17: =I7/I16 -> 1.2982456 | J17: =J7/J16 -> 1.2666667 | ... R17: =R7/R16 -> 1.2368421
B18: Births 6 Years Prior
B19: Birth Year | C19: ='LOAD-Births by Elem'!B4 -> 2004 | D19: ='LOAD-Births by Elem'!C4 -> 2005 | E19: ='LOAD-Births by Elem'!D4 -> 2006 | F19: ='LOAD-Births by Elem'!E4 -> 2007 | G19: ='LOAD-Births by Elem'!F4 -> 2008 | H19: ='LOAD-Births by Elem'!G4 -> 2009 | I19: ='LOAD-Births by Elem'!H4 -> 2010 | J19: ='LOAD-Births by Elem'!I4 -> 2011 | ... V19: ='LOAD-Births by Elem'!U4 -> 2023
B20: No. of Births | C20: ='LOAD-Births by Elem'!B18 -> 63 | D20: ='LOAD-Births by Elem'!C18 -> 66 | E20: ='LOAD-Births by Elem'!D18 -> 57 | F20: ='LOAD-Births by Elem'!E18 -> 47 | G20: ='LOAD-Births by Elem'!F18 -> 53 | H20: ='LOAD-Births by Elem'!G18 -> 39 | I20: ='LOAD-Births by Elem'!H18 -> 48 | J20: ='LOAD-Births by Elem'!I18 -> 57 | ... V20: ='LOAD-Births by Elem'!U18 -> 32
B21: Births to K % | C21: =C20/C7 -> 1.2115385 | D21: =D20/D7 -> 0.97058824 | E21: =E20/E7 -> 1.1632653 | F21: =F20/F7 -> 0.79661017 | G21: =G20/G7 -> 1.0192308 | H21: =H20/H7 -> 0.66101695 | I21: =I20/I7 -> 0.64864865 | J21: =J20/J7 -> 1 | ... R21: =R20/R7 -> 0.72340426
B23: INPUT 3: PROPORTION OF KINDERGARTENERS BORN 5 and 6 YEARS PRIOR (based on D.O.B. in student file)
B24: DOB 5-Yr Prior | C24: District-wide Proportion Used
B25: % of Res. K | C25: ='BVSD Birth to K'!C26 -> 0.6996904 | D25: ='BVSD Birth to K'!D26 -> 0.69250126 | E25: ='BVSD Birth to K'!E26 -> 0.6874675 | F25: ='BVSD Birth to K'!F26 -> 0.67785939 | G25: ='BVSD Birth to K'!G26 -> 0.72430407 | H25: ='BVSD Birth to K'!H26 -> 0.6724231 | I25: ='BVSD Birth to K'!I26 -> 0.68446602 | J25: ='BVSD Birth to K'!J26 -> 0.68331504 | ... R25: ='BVSD Birth to K'!R26 -> 0.67255448 | S25: =AVERAGE(N25:R25) -> 0.67654051 | T25: =S25 -> 0.67654051 | U25: =T25 -> 0.67654051 | V25: =U25 -> 0.67654051
B26: DOB 6-Yr Prior | C26: District-wide Proportion Used
B27: % of Res. K | C27: ='BVSD Birth to K'!C28 -> 0.3245614 | D27: ='BVSD Birth to K'!D28 -> 0.31102164 | E27: ='BVSD Birth to K'!E28 -> 0.31409256 | F27: ='BVSD Birth to K'!F28 -> 0.31741868 | G27: ='BVSD Birth to K'!G28 -> 0.27623126 | H27: ='BVSD Birth to K'!H28 -> 0.3275769 | I27: ='BVSD Birth to K'!I28 -> 0.31445523 | J27: ='BVSD Birth to K'!J28 -> 0.31723381 | ... R27: ='BVSD Birth to K'!R28 -> 0.32473536 | S27: =AVERAGE(N27:R27) -> 0.32366033 | T27: =S27 -> 0.32366033 | U27: =T27 -> 0.32366033 | V27: =U27 -> 0.32366033
B29: CALCULATION: ADJUSTED BIRTH CLASS (based on proportion of birth 5 & 6 years prior to K class)
B30: Birth Year Range: | C30: =C19&" "&"to"&" "&C15 -> 2004 to 2005 | D30: =D19&" "&"to"&" "&D15 -> 2005 to 2006 | E30: =E19&" "&"to"&" "&E15 -> 2006 to 2007 | F30: =F19&" "&"to"&" "&F15 -> 2007 to 2008 | G30: =G19&" "&"to"&" "&G15 -> 2008 to 2009 | H30: =H19&" "&"to"&" "&H15 -> 2009 to 2010 | I30: =I19&" "&"to"&" "&I15 -> 2010 to 2011 | J30: =J19&" "&"to"&" "&J15 -> 2011 to 2012 | ... V30: =V19&" "&"to"&" "&V15 -> 2023 to 2024
B31: Adjusted Births | C31: =(C25*C16)+(C27*C20) -> 66.626935 | D31: =(D25*D16)+(D27*D20) -> 60 | E31: =(E25*E16)+(E27*E20) -> 50.214249 | F31: =(F25*F16)+(F27*F20) -> 50.845226 | G31: =(G25*G16)+(G27*G20) -> 42.888116 | H31: =(H25*H16)+(H27*H20) -> 45.051808 | I31: =(I25*I16)+(I27*I20) -> 54.108414 | J31: =(J25*J16)+(J27*J20) -> 48.831504 | ... V31: =(V25*V16)+(V27*V20) -> 27.947184
B32: Change | D32: =D31-C31 -> -6.626935 | E32: =E31-D31 -> -9.7857514 | F32: =F31-E31 -> 0.63097703 | G32: =G31-F31 -> -7.95711 | H32: =H31-G31 -> 2.1636922 | I32: =I31-H31 -> 9.0566064 | J32: =J31-I31 -> -5.2769104 | K32: =K31-J31 -> 5.5373066 | ... V32: =V31-U31 -> -0.17531906
B33: % Change | D33: =D32/C31 -> -0.099463302 | E33: =E32/D31 -> -0.16309586 | F33: =F32/E31 -> 0.012565697 | G33: =G32/F31 -> -0.1564967 | H33: =H32/G31 -> 0.050449693 | I33: =I32/H31 -> 0.20102648 | J33: =J32/I31 -> -0.097524765 | K33: =K32/J31 -> 0.11339619 | ... U33: =U32/T31 -> 0.16153008 | V33: =AVERAGE(Q33:U33) -> 0.025908647
B34: Births to K% | D34: =D7/D31 -> 1.1333333 | E34: =E7/E31 -> 0.97581865 | F34: =F7/F31 -> 1.1603843 | G34: =G7/G31 -> 1.2124571 | H34: =H7/H31 -> 1.3096034 | I34: =I7/I31 -> 1.3676246 | J34: =J7/J31 -> 1.1672792 | K34: =K7/K31 -> 0.99321651 | ... R34: =R7/R31 -> 1.2842206
B35: Births to K | C35: =C7-C31 -> -14.626935 | D35: =D7-D31 -> 8 | E35: =E7-E31 -> -1.2142486 | F35: =F7-F31 -> 8.1547744 | G35: =G7-G31 -> 9.1118844 | H35: =H7-H31 -> 13.948192 | I35: =I7-I31 -> 19.891586 | J35: =J7-J31 -> 8.1684962 | ... R35: =R7-R31 -> 10.401928
O37: PROJECTED KINDERGARTENER CALCULATOR
R39: =R6 -> 2025/26 | S39: =S6 -> 2026/27 | T39: =T6 -> 2027/28 | U39: =U6 -> 2028/29 | V39: =V6 -> 2029/30
O40: A, B, C, Basis Calculations
P41: Annual % Birth change | R41: =R33 -> 0.21127213 | S41: =S33 -> -0.053913847 | T41: =T33 -> -0.30074656 | U41: =U33 -> 0.16153008 | V41: =V33 -> 0.025908647
P42: Ave B to K % | R42: =AVERAGE(N34:R34) -> 1.363449 | S42: =R42 -> 1.363449 | T42: =S42 -> 1.363449 | U42: =T42 -> 1.363449 | V42: =U42 -> 1.363449
P43: Ave B % Change | R43: =AVERAGE(S33:V33) -> -0.04180542 | S43: =R43 -> -0.04180542 | T43: =S43 -> -0.04180542 | U43: =T43 -> -0.04180542 | V43: =U43 -> -0.04180542
O44: Estimated Kindergarten Students
P45: Basis-A (% change) | R45: =R7 -> 47 | S45: =R45+(R45*S41) -> 44.466049 | T45: =S45+(S45*T41) -> 31.093038 | U45: =T45+(T45*U41) -> 36.115499 | V45: =U45+(U45*V41) -> 37.051203
P46: Basis-B (av. B to K%) | R46: =R45 -> 47 | S46: =S42*S31 -> 47.209325 | T46: =T42*T31 -> 33.011283 | U46: =U42*U31 -> 38.343599 | V46: =V42*V31 -> 38.10456
P47: Basis-C (av. % change) | R47: =R46 -> 47 | S47: =R47*(1+S43) -> 45.035145 | T47: =S47*(1+T43) -> 43.152432 | U47: =T47*(1+U43) -> 41.348427 | V47: =U47*(1+V43) -> 39.619838
O49: PROJECTED ENROLLED KINDERGARTENER CALCULATOR
O51: Ave. Diff. between Resident and Enrolled K: | S51: =AVERAGE(K4:R4) -> 12.25 | T51: =S51 -> 12.25 | U51: =T51 -> 12.25 | V51: =U51 -> 12.25
R52: =R39 -> 2025/26 | S52: =S39 -> 2026/27 | T52: =T39 -> 2027/28 | U52: =U39 -> 2028/29 | V52: =V39 -> 2029/30
O53: A, B, C, Basis Calculations
P54: Annual % Birth change | R54: =R41 -> 0.21127213 | S54: =S41 -> -0.053913847 | T54: =T41 -> -0.30074656 | U54: =U41 -> 0.16153008 | V54: =V41 -> 0.025908647
P55: Ave B to K % | R55: =R42 -> 1.363449 | S55: =S42 -> 1.363449 | T55: =T42 -> 1.363449 | U55: =U42 -> 1.363449 | V55: =V42 -> 1.363449
P56: Ave B % Change | R56: =R43 -> -0.04180542 | S56: =S43 -> -0.04180542 | T56: =T43 -> -0.04180542 | U56: =U43 -> -0.04180542 | V56: =V43 -> -0.04180542
O57: Estimated Kindergarten Students
P58: Basis-A (% change) | R58: =R8 -> 74 | S58: =S45+S51 -> 56.716049 | T58: =T45+T51 -> 43.343038 | U58: =U45+U51 -> 48.365499 | V58: =V45+V51 -> 49.301203
P59: Basis-B (av. B to K%) | R59: =R58 -> 74 | S59: =S46+S51 -> 59.459325 | T59: =T46+T51 -> 45.261283 | U59: =U46+U51 -> 50.593599 | V59: =V46+V51 -> 50.35456
P60: Basis-C (av. % change) | R60: =R59 -> 74 | S60: =S47+S51 -> 57.285145 | T60: =T47+T51 -> 55.402432 | U60: =U47+U51 -> 53.598427 | V60: =V47+V51 -> 51.869838

Sheet Flatirons
B1: Flatirons El. Birth/Kindergarten Population Correlation Worksheet
B2: ='BVSD Birth to K'!B2 -> updated 11/21/2025
K3: =(K4/K7) -> -0.16129032 | L3: =(L4/L7) -> -0.081081081 | M3: =(M4/M7) -> -0.08 | N3: =(N4/N7) -> -0.1 | O3: =(O4/O7) -> -0.21621622 | P3: =(P4/P7) -> -0.1875 | Q3: =(Q4/Q7) -> -0.10344828 | R3: =(R4/R7) -> -0.10344828
I4: =I8-I7 -> -10 | J4: =J8-J7 -> -9 | K4: =K8-K7 -> -5 | L4: =L8-L7 -> -3 | M4: =M8-M7 -> -2 | N4: =N8-N7 -> -3 | O4: =O8-O7 -> -8 | P4: =P8-P7 -> -6 | ... R4: =R8-R7 -> -3
B5: INPUT 1: KINDERGARTEN RESIDENT STUDENTS (entry formula from "Res K-1 Load Sheet" tab) | R5: Current Year
